BEGIN:VCALENDAR
VERSION:2.0
PRODID:-//Haraldslund - ECPv6.15.16.1//NONSGML v1.0//EN
CALSCALE:GREGORIAN
METHOD:PUBLISH
X-WR-CALNAME:Haraldslund
X-ORIGINAL-URL:https://haraldslund.com
X-WR-CALDESC:Begivenheder for Haraldslund
REFRESH-INTERVAL;VALUE=DURATION:PT1H
X-Robots-Tag:noindex
X-PUBLISHED-TTL:PT1H
BEGIN:VTIMEZONE
TZID:Europe/Copenhagen
BEGIN:DAYLIGHT
TZOFFSETFROM:+0100
TZOFFSETTO:+0200
TZNAME:CEST
DTSTART:20250330T010000
END:DAYLIGHT
BEGIN:STANDARD
TZOFFSETFROM:+0200
TZOFFSETTO:+0100
TZNAME:CET
DTSTART:20251026T010000
END:STANDARD
BEGIN:DAYLIGHT
TZOFFSETFROM:+0100
TZOFFSETTO:+0200
TZNAME:CEST
DTSTART:20260329T010000
END:DAYLIGHT
BEGIN:STANDARD
TZOFFSETFROM:+0200
TZOFFSETTO:+0100
TZNAME:CET
DTSTART:20261025T010000
END:STANDARD
BEGIN:DAYLIGHT
TZOFFSETFROM:+0100
TZOFFSETTO:+0200
TZNAME:CEST
DTSTART:20270328T010000
END:DAYLIGHT
BEGIN:STANDARD
TZOFFSETFROM:+0200
TZOFFSETTO:+0100
TZNAME:CET
DTSTART:20271031T010000
END:STANDARD
END:VTIMEZONE
BEGIN:VEVENT
DTSTART;TZID=Europe/Copenhagen:20260801T140000
DTEND;TZID=Europe/Copenhagen:20260801T141500
DTSTAMP:20260422T084417
CREATED:20250929T084523Z
LAST-MODIFIED:20260330T105546Z
UID:10048333-1785592800-1785593700@haraldslund.com
SUMMARY:Saunagus
DESCRIPTION:
URL:https://haraldslund.com/event/saunagus-kl-14-00/2026-08-01/
LOCATION:Haraldslund Vand- og kulturhus\, Kastetvej 83\, Aalborg\, 9000\, Denmark
CATEGORIES:Wellness
ORGANIZER;CN="Haraldslund":MAILTO:haraldslund@aalborg.dk
END:VEVENT
BEGIN:VEVENT
DTSTART;TZID=Europe/Copenhagen:20260802T140000
DTEND;TZID=Europe/Copenhagen:20260802T141500
DTSTAMP:20260422T084417
CREATED:20250929T084523Z
LAST-MODIFIED:20260330T105546Z
UID:10007175-1785679200-1785680100@haraldslund.com
SUMMARY:Saunagus
DESCRIPTION:
URL:https://haraldslund.com/event/saunagus-kl-14-00/2026-08-02/
LOCATION:Haraldslund Vand- og kulturhus\, Kastetvej 83\, Aalborg\, 9000\, Denmark
CATEGORIES:Wellness
ORGANIZER;CN="Haraldslund":MAILTO:haraldslund@aalborg.dk
END:VEVENT
BEGIN:VEVENT
DTSTART;TZID=Europe/Copenhagen:20260803T140000
DTEND;TZID=Europe/Copenhagen:20260803T141500
DTSTAMP:20260422T084417
CREATED:20250929T084523Z
LAST-MODIFIED:20260330T105546Z
UID:10007176-1785765600-1785766500@haraldslund.com
SUMMARY:Saunagus
DESCRIPTION:
URL:https://haraldslund.com/event/saunagus-kl-14-00/2026-08-03/
LOCATION:Haraldslund Vand- og kulturhus\, Kastetvej 83\, Aalborg\, 9000\, Denmark
CATEGORIES:Wellness
ORGANIZER;CN="Haraldslund":MAILTO:haraldslund@aalborg.dk
END:VEVENT
BEGIN:VEVENT
DTSTART;TZID=Europe/Copenhagen:20260804T140000
DTEND;TZID=Europe/Copenhagen:20260804T141500
DTSTAMP:20260422T084417
CREATED:20250929T084523Z
LAST-MODIFIED:20260330T105546Z
UID:10007177-1785852000-1785852900@haraldslund.com
SUMMARY:Saunagus
DESCRIPTION:
URL:https://haraldslund.com/event/saunagus-kl-14-00/2026-08-04/
LOCATION:Haraldslund Vand- og kulturhus\, Kastetvej 83\, Aalborg\, 9000\, Denmark
CATEGORIES:Wellness
ORGANIZER;CN="Haraldslund":MAILTO:haraldslund@aalborg.dk
END:VEVENT
BEGIN:VEVENT
DTSTART;TZID=Europe/Copenhagen:20260805T140000
DTEND;TZID=Europe/Copenhagen:20260805T141500
DTSTAMP:20260422T084417
CREATED:20250929T084523Z
LAST-MODIFIED:20260330T105546Z
UID:10007178-1785938400-1785939300@haraldslund.com
SUMMARY:Saunagus
DESCRIPTION:
URL:https://haraldslund.com/event/saunagus-kl-14-00/2026-08-05/
LOCATION:Haraldslund Vand- og kulturhus\, Kastetvej 83\, Aalborg\, 9000\, Denmark
CATEGORIES:Wellness
ORGANIZER;CN="Haraldslund":MAILTO:haraldslund@aalborg.dk
END:VEVENT
BEGIN:VEVENT
DTSTART;TZID=Europe/Copenhagen:20260806T140000
DTEND;TZID=Europe/Copenhagen:20260806T141500
DTSTAMP:20260422T084417
CREATED:20250929T084523Z
LAST-MODIFIED:20260330T105546Z
UID:10007179-1786024800-1786025700@haraldslund.com
SUMMARY:Saunagus
DESCRIPTION:
URL:https://haraldslund.com/event/saunagus-kl-14-00/2026-08-06/
LOCATION:Haraldslund Vand- og kulturhus\, Kastetvej 83\, Aalborg\, 9000\, Denmark
CATEGORIES:Wellness
ORGANIZER;CN="Haraldslund":MAILTO:haraldslund@aalborg.dk
END:VEVENT
BEGIN:VEVENT
DTSTART;TZID=Europe/Copenhagen:20260808T140000
DTEND;TZID=Europe/Copenhagen:20260808T141500
DTSTAMP:20260422T084417
CREATED:20250929T084523Z
LAST-MODIFIED:20260330T105546Z
UID:10048334-1786197600-1786198500@haraldslund.com
SUMMARY:Saunagus
DESCRIPTION:
URL:https://haraldslund.com/event/saunagus-kl-14-00/2026-08-08/
LOCATION:Haraldslund Vand- og kulturhus\, Kastetvej 83\, Aalborg\, 9000\, Denmark
CATEGORIES:Wellness
ORGANIZER;CN="Haraldslund":MAILTO:haraldslund@aalborg.dk
END:VEVENT
BEGIN:VEVENT
DTSTART;TZID=Europe/Copenhagen:20260809T140000
DTEND;TZID=Europe/Copenhagen:20260809T141500
DTSTAMP:20260422T084417
CREATED:20250929T084523Z
LAST-MODIFIED:20260330T105546Z
UID:10007180-1786284000-1786284900@haraldslund.com
SUMMARY:Saunagus
DESCRIPTION:
URL:https://haraldslund.com/event/saunagus-kl-14-00/2026-08-09/
LOCATION:Haraldslund Vand- og kulturhus\, Kastetvej 83\, Aalborg\, 9000\, Denmark
CATEGORIES:Wellness
ORGANIZER;CN="Haraldslund":MAILTO:haraldslund@aalborg.dk
END:VEVENT
BEGIN:VEVENT
DTSTART;TZID=Europe/Copenhagen:20260810T140000
DTEND;TZID=Europe/Copenhagen:20260810T141500
DTSTAMP:20260422T084417
CREATED:20250929T084523Z
LAST-MODIFIED:20260330T105546Z
UID:10007181-1786370400-1786371300@haraldslund.com
SUMMARY:Saunagus
DESCRIPTION:
URL:https://haraldslund.com/event/saunagus-kl-14-00/2026-08-10/
LOCATION:Haraldslund Vand- og kulturhus\, Kastetvej 83\, Aalborg\, 9000\, Denmark
CATEGORIES:Wellness
ORGANIZER;CN="Haraldslund":MAILTO:haraldslund@aalborg.dk
END:VEVENT
BEGIN:VEVENT
DTSTART;TZID=Europe/Copenhagen:20260811T140000
DTEND;TZID=Europe/Copenhagen:20260811T141500
DTSTAMP:20260422T084417
CREATED:20250929T084523Z
LAST-MODIFIED:20260330T105546Z
UID:10007182-1786456800-1786457700@haraldslund.com
SUMMARY:Saunagus
DESCRIPTION:
URL:https://haraldslund.com/event/saunagus-kl-14-00/2026-08-11/
LOCATION:Haraldslund Vand- og kulturhus\, Kastetvej 83\, Aalborg\, 9000\, Denmark
CATEGORIES:Wellness
ORGANIZER;CN="Haraldslund":MAILTO:haraldslund@aalborg.dk
END:VEVENT
BEGIN:VEVENT
DTSTART;TZID=Europe/Copenhagen:20260812T140000
DTEND;TZID=Europe/Copenhagen:20260812T141500
DTSTAMP:20260422T084417
CREATED:20250929T084523Z
LAST-MODIFIED:20260330T105546Z
UID:10007183-1786543200-1786544100@haraldslund.com
SUMMARY:Saunagus
DESCRIPTION:
URL:https://haraldslund.com/event/saunagus-kl-14-00/2026-08-12/
LOCATION:Haraldslund Vand- og kulturhus\, Kastetvej 83\, Aalborg\, 9000\, Denmark
CATEGORIES:Wellness
ORGANIZER;CN="Haraldslund":MAILTO:haraldslund@aalborg.dk
END:VEVENT
BEGIN:VEVENT
DTSTART;TZID=Europe/Copenhagen:20260813T140000
DTEND;TZID=Europe/Copenhagen:20260813T141500
DTSTAMP:20260422T084417
CREATED:20250929T084523Z
LAST-MODIFIED:20260330T105546Z
UID:10007184-1786629600-1786630500@haraldslund.com
SUMMARY:Saunagus
DESCRIPTION:
URL:https://haraldslund.com/event/saunagus-kl-14-00/2026-08-13/
LOCATION:Haraldslund Vand- og kulturhus\, Kastetvej 83\, Aalborg\, 9000\, Denmark
CATEGORIES:Wellness
ORGANIZER;CN="Haraldslund":MAILTO:haraldslund@aalborg.dk
END:VEVENT
BEGIN:VEVENT
DTSTART;TZID=Europe/Copenhagen:20260815T140000
DTEND;TZID=Europe/Copenhagen:20260815T141500
DTSTAMP:20260422T084417
CREATED:20250929T084523Z
LAST-MODIFIED:20260330T105546Z
UID:10048335-1786802400-1786803300@haraldslund.com
SUMMARY:Saunagus
DESCRIPTION:
URL:https://haraldslund.com/event/saunagus-kl-14-00/2026-08-15/
LOCATION:Haraldslund Vand- og kulturhus\, Kastetvej 83\, Aalborg\, 9000\, Denmark
CATEGORIES:Wellness
ORGANIZER;CN="Haraldslund":MAILTO:haraldslund@aalborg.dk
END:VEVENT
BEGIN:VEVENT
DTSTART;TZID=Europe/Copenhagen:20260816T140000
DTEND;TZID=Europe/Copenhagen:20260816T141500
DTSTAMP:20260422T084417
CREATED:20250929T084523Z
LAST-MODIFIED:20260330T105546Z
UID:10007185-1786888800-1786889700@haraldslund.com
SUMMARY:Saunagus
DESCRIPTION:
URL:https://haraldslund.com/event/saunagus-kl-14-00/2026-08-16/
LOCATION:Haraldslund Vand- og kulturhus\, Kastetvej 83\, Aalborg\, 9000\, Denmark
CATEGORIES:Wellness
ORGANIZER;CN="Haraldslund":MAILTO:haraldslund@aalborg.dk
END:VEVENT
BEGIN:VEVENT
DTSTART;TZID=Europe/Copenhagen:20260817T140000
DTEND;TZID=Europe/Copenhagen:20260817T141500
DTSTAMP:20260422T084417
CREATED:20250929T084523Z
LAST-MODIFIED:20260330T105546Z
UID:10007186-1786975200-1786976100@haraldslund.com
SUMMARY:Saunagus
DESCRIPTION:
URL:https://haraldslund.com/event/saunagus-kl-14-00/2026-08-17/
LOCATION:Haraldslund Vand- og kulturhus\, Kastetvej 83\, Aalborg\, 9000\, Denmark
CATEGORIES:Wellness
ORGANIZER;CN="Haraldslund":MAILTO:haraldslund@aalborg.dk
END:VEVENT
BEGIN:VEVENT
DTSTART;TZID=Europe/Copenhagen:20260818T140000
DTEND;TZID=Europe/Copenhagen:20260818T141500
DTSTAMP:20260422T084417
CREATED:20250929T084523Z
LAST-MODIFIED:20260330T105546Z
UID:10007187-1787061600-1787062500@haraldslund.com
SUMMARY:Saunagus
DESCRIPTION:
URL:https://haraldslund.com/event/saunagus-kl-14-00/2026-08-18/
LOCATION:Haraldslund Vand- og kulturhus\, Kastetvej 83\, Aalborg\, 9000\, Denmark
CATEGORIES:Wellness
ORGANIZER;CN="Haraldslund":MAILTO:haraldslund@aalborg.dk
END:VEVENT
BEGIN:VEVENT
DTSTART;TZID=Europe/Copenhagen:20260819T140000
DTEND;TZID=Europe/Copenhagen:20260819T141500
DTSTAMP:20260422T084417
CREATED:20250929T084523Z
LAST-MODIFIED:20260330T105546Z
UID:10007188-1787148000-1787148900@haraldslund.com
SUMMARY:Saunagus
DESCRIPTION:
URL:https://haraldslund.com/event/saunagus-kl-14-00/2026-08-19/
LOCATION:Haraldslund Vand- og kulturhus\, Kastetvej 83\, Aalborg\, 9000\, Denmark
CATEGORIES:Wellness
ORGANIZER;CN="Haraldslund":MAILTO:haraldslund@aalborg.dk
END:VEVENT
BEGIN:VEVENT
DTSTART;TZID=Europe/Copenhagen:20260820T140000
DTEND;TZID=Europe/Copenhagen:20260820T141500
DTSTAMP:20260422T084417
CREATED:20250929T084523Z
LAST-MODIFIED:20260330T105546Z
UID:10007189-1787234400-1787235300@haraldslund.com
SUMMARY:Saunagus
DESCRIPTION:
URL:https://haraldslund.com/event/saunagus-kl-14-00/2026-08-20/
LOCATION:Haraldslund Vand- og kulturhus\, Kastetvej 83\, Aalborg\, 9000\, Denmark
CATEGORIES:Wellness
ORGANIZER;CN="Haraldslund":MAILTO:haraldslund@aalborg.dk
END:VEVENT
BEGIN:VEVENT
DTSTART;TZID=Europe/Copenhagen:20260822T140000
DTEND;TZID=Europe/Copenhagen:20260822T141500
DTSTAMP:20260422T084417
CREATED:20250929T084523Z
LAST-MODIFIED:20260330T105546Z
UID:10048336-1787407200-1787408100@haraldslund.com
SUMMARY:Saunagus
DESCRIPTION:
URL:https://haraldslund.com/event/saunagus-kl-14-00/2026-08-22/
LOCATION:Haraldslund Vand- og kulturhus\, Kastetvej 83\, Aalborg\, 9000\, Denmark
CATEGORIES:Wellness
ORGANIZER;CN="Haraldslund":MAILTO:haraldslund@aalborg.dk
END:VEVENT
BEGIN:VEVENT
DTSTART;TZID=Europe/Copenhagen:20260823T140000
DTEND;TZID=Europe/Copenhagen:20260823T141500
DTSTAMP:20260422T084417
CREATED:20250929T084523Z
LAST-MODIFIED:20260330T105546Z
UID:10007190-1787493600-1787494500@haraldslund.com
SUMMARY:Saunagus
DESCRIPTION:
URL:https://haraldslund.com/event/saunagus-kl-14-00/2026-08-23/
LOCATION:Haraldslund Vand- og kulturhus\, Kastetvej 83\, Aalborg\, 9000\, Denmark
CATEGORIES:Wellness
ORGANIZER;CN="Haraldslund":MAILTO:haraldslund@aalborg.dk
END:VEVENT
BEGIN:VEVENT
DTSTART;TZID=Europe/Copenhagen:20260824T140000
DTEND;TZID=Europe/Copenhagen:20260824T141500
DTSTAMP:20260422T084417
CREATED:20250929T084523Z
LAST-MODIFIED:20260330T105546Z
UID:10007191-1787580000-1787580900@haraldslund.com
SUMMARY:Saunagus
DESCRIPTION:
URL:https://haraldslund.com/event/saunagus-kl-14-00/2026-08-24/
LOCATION:Haraldslund Vand- og kulturhus\, Kastetvej 83\, Aalborg\, 9000\, Denmark
CATEGORIES:Wellness
ORGANIZER;CN="Haraldslund":MAILTO:haraldslund@aalborg.dk
END:VEVENT
BEGIN:VEVENT
DTSTART;TZID=Europe/Copenhagen:20260825T140000
DTEND;TZID=Europe/Copenhagen:20260825T141500
DTSTAMP:20260422T084417
CREATED:20250929T084523Z
LAST-MODIFIED:20260330T105546Z
UID:10007192-1787666400-1787667300@haraldslund.com
SUMMARY:Saunagus
DESCRIPTION:
URL:https://haraldslund.com/event/saunagus-kl-14-00/2026-08-25/
LOCATION:Haraldslund Vand- og kulturhus\, Kastetvej 83\, Aalborg\, 9000\, Denmark
CATEGORIES:Wellness
ORGANIZER;CN="Haraldslund":MAILTO:haraldslund@aalborg.dk
END:VEVENT
BEGIN:VEVENT
DTSTART;TZID=Europe/Copenhagen:20260826T140000
DTEND;TZID=Europe/Copenhagen:20260826T141500
DTSTAMP:20260422T084417
CREATED:20250929T084523Z
LAST-MODIFIED:20260330T105546Z
UID:10007193-1787752800-1787753700@haraldslund.com
SUMMARY:Saunagus
DESCRIPTION:
URL:https://haraldslund.com/event/saunagus-kl-14-00/2026-08-26/
LOCATION:Haraldslund Vand- og kulturhus\, Kastetvej 83\, Aalborg\, 9000\, Denmark
CATEGORIES:Wellness
ORGANIZER;CN="Haraldslund":MAILTO:haraldslund@aalborg.dk
END:VEVENT
BEGIN:VEVENT
DTSTART;TZID=Europe/Copenhagen:20260827T140000
DTEND;TZID=Europe/Copenhagen:20260827T141500
DTSTAMP:20260422T084417
CREATED:20250929T084523Z
LAST-MODIFIED:20260330T105546Z
UID:10007194-1787839200-1787840100@haraldslund.com
SUMMARY:Saunagus
DESCRIPTION:
URL:https://haraldslund.com/event/saunagus-kl-14-00/2026-08-27/
LOCATION:Haraldslund Vand- og kulturhus\, Kastetvej 83\, Aalborg\, 9000\, Denmark
CATEGORIES:Wellness
ORGANIZER;CN="Haraldslund":MAILTO:haraldslund@aalborg.dk
END:VEVENT
BEGIN:VEVENT
DTSTART;TZID=Europe/Copenhagen:20260829T140000
DTEND;TZID=Europe/Copenhagen:20260829T141500
DTSTAMP:20260422T084417
CREATED:20250929T084523Z
LAST-MODIFIED:20260330T105546Z
UID:10048337-1788012000-1788012900@haraldslund.com
SUMMARY:Saunagus
DESCRIPTION:
URL:https://haraldslund.com/event/saunagus-kl-14-00/2026-08-29/
LOCATION:Haraldslund Vand- og kulturhus\, Kastetvej 83\, Aalborg\, 9000\, Denmark
CATEGORIES:Wellness
ORGANIZER;CN="Haraldslund":MAILTO:haraldslund@aalborg.dk
END:VEVENT
BEGIN:VEVENT
DTSTART;TZID=Europe/Copenhagen:20260830T140000
DTEND;TZID=Europe/Copenhagen:20260830T141500
DTSTAMP:20260422T084417
CREATED:20250929T084523Z
LAST-MODIFIED:20260330T105546Z
UID:10007195-1788098400-1788099300@haraldslund.com
SUMMARY:Saunagus
DESCRIPTION:
URL:https://haraldslund.com/event/saunagus-kl-14-00/2026-08-30/
LOCATION:Haraldslund Vand- og kulturhus\, Kastetvej 83\, Aalborg\, 9000\, Denmark
CATEGORIES:Wellness
ORGANIZER;CN="Haraldslund":MAILTO:haraldslund@aalborg.dk
END:VEVENT
BEGIN:VEVENT
DTSTART;TZID=Europe/Copenhagen:20260831T140000
DTEND;TZID=Europe/Copenhagen:20260831T141500
DTSTAMP:20260422T084417
CREATED:20250929T084523Z
LAST-MODIFIED:20260330T105546Z
UID:10007196-1788184800-1788185700@haraldslund.com
SUMMARY:Saunagus
DESCRIPTION:
URL:https://haraldslund.com/event/saunagus-kl-14-00/2026-08-31/
LOCATION:Haraldslund Vand- og kulturhus\, Kastetvej 83\, Aalborg\, 9000\, Denmark
CATEGORIES:Wellness
ORGANIZER;CN="Haraldslund":MAILTO:haraldslund@aalborg.dk
END:VEVENT
END:VCALENDAR