BEGIN:VCALENDAR
VERSION:2.0
PRODID:-//Haraldslund - ECPv6.15.16.1//NONSGML v1.0//EN
CALSCALE:GREGORIAN
METHOD:PUBLISH
X-WR-CALNAME:Haraldslund
X-ORIGINAL-URL:https://haraldslund.com
X-WR-CALDESC:Begivenheder for Haraldslund
REFRESH-INTERVAL;VALUE=DURATION:PT1H
X-Robots-Tag:noindex
X-PUBLISHED-TTL:PT1H
BEGIN:VTIMEZONE
TZID:Europe/Copenhagen
BEGIN:DAYLIGHT
TZOFFSETFROM:+0100
TZOFFSETTO:+0200
TZNAME:CEST
DTSTART:20260329T010000
END:DAYLIGHT
BEGIN:STANDARD
TZOFFSETFROM:+0200
TZOFFSETTO:+0100
TZNAME:CET
DTSTART:20261025T010000
END:STANDARD
BEGIN:DAYLIGHT
TZOFFSETFROM:+0100
TZOFFSETTO:+0200
TZNAME:CEST
DTSTART:20270328T010000
END:DAYLIGHT
BEGIN:STANDARD
TZOFFSETFROM:+0200
TZOFFSETTO:+0100
TZNAME:CET
DTSTART:20271031T010000
END:STANDARD
BEGIN:DAYLIGHT
TZOFFSETFROM:+0100
TZOFFSETTO:+0200
TZNAME:CEST
DTSTART:20280326T010000
END:DAYLIGHT
BEGIN:STANDARD
TZOFFSETFROM:+0200
TZOFFSETTO:+0100
TZNAME:CET
DTSTART:20281029T010000
END:STANDARD
END:VTIMEZONE
BEGIN:VEVENT
DTSTART;TZID=Europe/Copenhagen:20270615T190000
DTEND;TZID=Europe/Copenhagen:20270615T191500
DTSTAMP:20260426T001012
CREATED:20250929T090017Z
LAST-MODIFIED:20260330T110649Z
UID:10011147-1813086000-1813086900@haraldslund.com
SUMMARY:Saunagus
DESCRIPTION:
URL:https://haraldslund.com/event/saunagus-kl-19-00/2027-06-15/
LOCATION:Haraldslund Vand- og kulturhus\, Kastetvej 83\, Aalborg\, 9000\, Denmark
CATEGORIES:Wellness
ORGANIZER;CN="Haraldslund":MAILTO:haraldslund@aalborg.dk
END:VEVENT
BEGIN:VEVENT
DTSTART;TZID=Europe/Copenhagen:20270615T184500
DTEND;TZID=Europe/Copenhagen:20270615T193000
DTSTAMP:20260426T001012
CREATED:20250929T114607Z
LAST-MODIFIED:20250929T114607Z
UID:10022605-1813085100-1813087800@haraldslund.com
SUMMARY:Aqua Yoga
DESCRIPTION:
URL:https://haraldslund.com/event/aqua-yoga/2027-06-15/
LOCATION:Haraldslund Vand- og kulturhus\, Kastetvej 83\, Aalborg\, 9000\, Denmark
CATEGORIES:Svømmehal
ORGANIZER;CN="Haraldslund":MAILTO:haraldslund@aalborg.dk
END:VEVENT
BEGIN:VEVENT
DTSTART;TZID=Europe/Copenhagen:20270615T181000
DTEND;TZID=Europe/Copenhagen:20270615T190000
DTSTAMP:20260426T001012
CREATED:20250929T110435Z
LAST-MODIFIED:20260323T063531Z
UID:10017890-1813083000-1813086000@haraldslund.com
SUMMARY:Jumping Fitness
DESCRIPTION:
URL:https://haraldslund.com/event/jumping-fitness-kl-17-00/2027-06-15/
LOCATION:Haraldslund Vand- og kulturhus\, Kastetvej 83\, Aalborg\, 9000\, Denmark
CATEGORIES:Motionscenter
ORGANIZER;CN="Haraldslund":MAILTO:haraldslund@aalborg.dk
END:VEVENT
BEGIN:VEVENT
DTSTART;TZID=Europe/Copenhagen:20270615T180000
DTEND;TZID=Europe/Copenhagen:20270615T191000
DTSTAMP:20260426T001012
CREATED:20250929T112046Z
LAST-MODIFIED:20260331T064621Z
UID:10019315-1813082400-1813086600@haraldslund.com
SUMMARY:Bodybike 2
DESCRIPTION:
URL:https://haraldslund.com/event/bodybike-2/2027-06-15/
LOCATION:Haraldslund Vand- og kulturhus\, Kastetvej 83\, Aalborg\, 9000\, Denmark
CATEGORIES:Motionscenter
ORGANIZER;CN="Haraldslund":MAILTO:haraldslund@aalborg.dk
END:VEVENT
BEGIN:VEVENT
DTSTART;TZID=Europe/Copenhagen:20270615T174500
DTEND;TZID=Europe/Copenhagen:20270615T183000
DTSTAMP:20260426T001012
CREATED:20250929T114343Z
LAST-MODIFIED:20251001T083929Z
UID:10022239-1813081500-1813084200@haraldslund.com
SUMMARY:Aqua puls og power
DESCRIPTION:
URL:https://haraldslund.com/event/aqua-puls-og-power/2027-06-15/
LOCATION:Haraldslund Vand- og kulturhus\, Kastetvej 83\, Aalborg\, 9000\, Denmark
CATEGORIES:Svømmehal
ORGANIZER;CN="Haraldslund":MAILTO:haraldslund@aalborg.dk
END:VEVENT
BEGIN:VEVENT
DTSTART;TZID=Europe/Copenhagen:20270615T164500
DTEND;TZID=Europe/Copenhagen:20270615T180000
DTSTAMP:20260426T001012
CREATED:20250929T114139Z
LAST-MODIFIED:20251208T064032Z
UID:10021873-1813077900-1813082400@haraldslund.com
SUMMARY:Yoga
DESCRIPTION:
URL:https://haraldslund.com/event/yoga-2/2027-06-15/
LOCATION:Haraldslund Vand- og kulturhus\, Kastetvej 83\, Aalborg\, 9000\, Denmark
CATEGORIES:Motionscenter
ORGANIZER;CN="Haraldslund":MAILTO:haraldslund@aalborg.dk
END:VEVENT
BEGIN:VEVENT
DTSTART;TZID=Europe/Copenhagen:20270615T163000
DTEND;TZID=Europe/Copenhagen:20270615T172000
DTSTAMP:20260426T001012
CREATED:20250929T113803Z
LAST-MODIFIED:20251001T084057Z
UID:10021507-1813077000-1813080000@haraldslund.com
SUMMARY:Switching
DESCRIPTION:
URL:https://haraldslund.com/event/switching/2027-06-15/
LOCATION:Haraldslund Vand- og kulturhus\, Kastetvej 83\, Aalborg\, 9000\, Denmark
CATEGORIES:Motionscenter
ORGANIZER;CN="Haraldslund":MAILTO:haraldslund@aalborg.dk
END:VEVENT
BEGIN:VEVENT
DTSTART;TZID=Europe/Copenhagen:20270615T163000
DTEND;TZID=Europe/Copenhagen:20270615T164500
DTSTAMP:20260426T001012
CREATED:20250929T084722Z
LAST-MODIFIED:20260330T110511Z
UID:10009136-1813077000-1813077900@haraldslund.com
SUMMARY:Saunagus
DESCRIPTION:
URL:https://haraldslund.com/event/saunagus-kl-16-30/2027-06-15/
LOCATION:Haraldslund Vand- og kulturhus\, Kastetvej 83\, Aalborg\, 9000\, Denmark
CATEGORIES:Wellness
ORGANIZER;CN="Haraldslund":MAILTO:haraldslund@aalborg.dk
END:VEVENT
BEGIN:VEVENT
DTSTART;TZID=Europe/Copenhagen:20270615T160000
DTEND;TZID=Europe/Copenhagen:20270615T164500
DTSTAMP:20260426T001012
CREATED:20260211T091301Z
LAST-MODIFIED:20260211T091442Z
UID:10048090-1813075200-1813077900@haraldslund.com
SUMMARY:Vandgymnastik specialhold
DESCRIPTION:
URL:https://haraldslund.com/event/vandgymnastik-specialhold-2/2027-06-15/
LOCATION:Haraldslund Vand- og kulturhus\, Kastetvej 83\, Aalborg\, 9000\, Denmark
CATEGORIES:Svømmehal
ORGANIZER;CN="Haraldslund":MAILTO:haraldslund@aalborg.dk
END:VEVENT
BEGIN:VEVENT
DTSTART;TZID=Europe/Copenhagen:20270615T140000
DTEND;TZID=Europe/Copenhagen:20270615T141500
DTSTAMP:20260426T001012
CREATED:20250929T084523Z
LAST-MODIFIED:20260330T105546Z
UID:10007402-1813068000-1813068900@haraldslund.com
SUMMARY:Saunagus
DESCRIPTION:
URL:https://haraldslund.com/event/saunagus-kl-14-00/2027-06-15/
LOCATION:Haraldslund Vand- og kulturhus\, Kastetvej 83\, Aalborg\, 9000\, Denmark
CATEGORIES:Wellness
ORGANIZER;CN="Haraldslund":MAILTO:haraldslund@aalborg.dk
END:VEVENT
BEGIN:VEVENT
DTSTART;TZID=Europe/Copenhagen:20270615T123000
DTEND;TZID=Europe/Copenhagen:20270615T131500
DTSTAMP:20260426T001012
CREATED:20250930T104806Z
LAST-MODIFIED:20251208T063003Z
UID:10034095-1813062600-1813065300@haraldslund.com
SUMMARY:Vandgymnastik specialhold (SIB)
DESCRIPTION:
URL:https://haraldslund.com/event/vandgymnastik-specialhold-sib/2027-06-15/
LOCATION:Haraldslund Vand- og kulturhus\, Kastetvej 83\, Aalborg\, 9000\, Denmark
CATEGORIES:Svømmehal
ORGANIZER;CN="Haraldslund":MAILTO:haraldslund@aalborg.dk
END:VEVENT
BEGIN:VEVENT
DTSTART;TZID=Europe/Copenhagen:20270615T120000
DTEND;TZID=Europe/Copenhagen:20270615T133000
DTSTAMP:20260426T001012
CREATED:20251104T112822Z
LAST-MODIFIED:20260330T104143Z
UID:10044717-1813060800-1813066200@haraldslund.com
SUMMARY:Skolesvømning
DESCRIPTION:
URL:https://haraldslund.com/event/skolesvoemning-3/2027-06-15/
LOCATION:Haraldslund Vand- og kulturhus\, Kastetvej 83\, Aalborg\, 9000\, Denmark
CATEGORIES:Svømmehal
ORGANIZER;CN="Haraldslund":MAILTO:haraldslund@aalborg.dk
END:VEVENT
BEGIN:VEVENT
DTSTART;TZID=Europe/Copenhagen:20270615T101500
DTEND;TZID=Europe/Copenhagen:20270615T110000
DTSTAMP:20260426T001012
CREATED:20251104T112402Z
LAST-MODIFIED:20260330T113932Z
UID:10042730-1813054500-1813057200@haraldslund.com
SUMMARY:Skolesvømning
DESCRIPTION:
URL:https://haraldslund.com/event/skolesvoemning/2027-06-15/
LOCATION:Haraldslund Vand- og kulturhus\, Kastetvej 83\, Aalborg\, 9000\, Denmark
CATEGORIES:Svømmehal
ORGANIZER;CN="Haraldslund":MAILTO:haraldslund@aalborg.dk
END:VEVENT
BEGIN:VEVENT
DTSTART;TZID=Europe/Copenhagen:20270615T101500
DTEND;TZID=Europe/Copenhagen:20270615T103000
DTSTAMP:20260426T001012
CREATED:20251003T081347Z
LAST-MODIFIED:20260330T110253Z
UID:10040575-1813054500-1813055400@haraldslund.com
SUMMARY:Saunagus
DESCRIPTION:
URL:https://haraldslund.com/event/4198/2027-06-15/
LOCATION:Haraldslund Vand- og kulturhus\, Kastetvej 83\, Aalborg\, 9000\, Denmark
CATEGORIES:Wellness
ORGANIZER;CN="Haraldslund":MAILTO:haraldslund@aalborg.dk
END:VEVENT
BEGIN:VEVENT
DTSTART;TZID=Europe/Copenhagen:20270615T091500
DTEND;TZID=Europe/Copenhagen:20270615T100000
DTSTAMP:20260426T001012
CREATED:20250929T094650Z
LAST-MODIFIED:20260330T111051Z
UID:10014162-1813050900-1813053600@haraldslund.com
SUMMARY:Vandgymnastik
DESCRIPTION:
URL:https://haraldslund.com/event/vandgymnastik-kl-9-15/2027-06-15/
LOCATION:Haraldslund Vand- og kulturhus\, Kastetvej 83\, Aalborg\, 9000\, Denmark
CATEGORIES:Svømmehal
ORGANIZER;CN="Haraldslund":MAILTO:haraldslund@aalborg.dk
END:VEVENT
BEGIN:VEVENT
DTSTART;TZID=Europe/Copenhagen:20270615T090000
DTEND;TZID=Europe/Copenhagen:20270615T110000
DTSTAMP:20260426T001012
CREATED:20250930T113821Z
LAST-MODIFIED:20260330T111407Z
UID:10035548-1813050000-1813057200@haraldslund.com
SUMMARY:Sundhed i bevægelse
DESCRIPTION:
URL:https://haraldslund.com/event/sib-traening/2027-06-15/
LOCATION:Haraldslund Vand- og kulturhus\, Kastetvej 83\, Aalborg\, 9000\, Denmark
CATEGORIES:Sundhed i Bevægelse
ORGANIZER;CN="Haraldslund":MAILTO:haraldslund@aalborg.dk
END:VEVENT
BEGIN:VEVENT
DTSTART;TZID=Europe/Copenhagen:20270615T073000
DTEND;TZID=Europe/Copenhagen:20270615T081500
DTSTAMP:20260426T001012
CREATED:20250930T085050Z
LAST-MODIFIED:20260323T064719Z
UID:10023492-1813044600-1813047300@haraldslund.com
SUMMARY:Mave\, balle\, lår
DESCRIPTION:
URL:https://haraldslund.com/event/mave-balle-laar/2027-06-15/
LOCATION:Haraldslund Vand- og kulturhus\, Kastetvej 83\, Aalborg\, 9000\, Denmark
CATEGORIES:Motionscenter
ORGANIZER;CN="Haraldslund":MAILTO:haraldslund@aalborg.dk
END:VEVENT
BEGIN:VEVENT
DTSTART;TZID=Europe/Copenhagen:20270614T191000
DTEND;TZID=Europe/Copenhagen:20270614T201000
DTSTAMP:20260426T001012
CREATED:20250929T113437Z
LAST-MODIFIED:20260330T114555Z
UID:10021141-1813000200-1813003800@haraldslund.com
SUMMARY:Yoga
DESCRIPTION:
URL:https://haraldslund.com/event/yoga/2027-06-14/
LOCATION:Haraldslund Vand- og kulturhus\, Kastetvej 83\, Aalborg\, 9000\, Denmark
CATEGORIES:Motionscenter
ORGANIZER;CN="Haraldslund":MAILTO:haraldslund@aalborg.dk
END:VEVENT
BEGIN:VEVENT
DTSTART;TZID=Europe/Copenhagen:20270614T184500
DTEND;TZID=Europe/Copenhagen:20270614T193000
DTSTAMP:20260426T001012
CREATED:20250929T113227Z
LAST-MODIFIED:20260330T103944Z
UID:10020775-1812998700-1813001400@haraldslund.com
SUMMARY:Vandgymnastik
DESCRIPTION:
URL:https://haraldslund.com/event/vandgymnastik/2027-06-14/
LOCATION:Haraldslund Vand- og kulturhus\, Kastetvej 83\, Aalborg\, 9000\, Denmark
CATEGORIES:Svømmehal
ORGANIZER;CN="Haraldslund":MAILTO:haraldslund@aalborg.dk
END:VEVENT
BEGIN:VEVENT
DTSTART;TZID=Europe/Copenhagen:20270614T181500
DTEND;TZID=Europe/Copenhagen:20270614T193000
DTSTAMP:20260426T001012
CREATED:20250929T085743Z
LAST-MODIFIED:20260330T114921Z
UID:10010417-1812996900-1813001400@haraldslund.com
SUMMARY:Temagus
DESCRIPTION:
URL:https://haraldslund.com/event/temagus-kl-18-15/2027-06-14/
LOCATION:Haraldslund Vand- og kulturhus\, Kastetvej 83\, Aalborg\, 9000\, Denmark
CATEGORIES:Wellness
ORGANIZER;CN="Haraldslund":MAILTO:haraldslund@aalborg.dk
END:VEVENT
BEGIN:VEVENT
DTSTART;TZID=Europe/Copenhagen:20270614T181000
DTEND;TZID=Europe/Copenhagen:20270614T190000
DTSTAMP:20260426T001012
CREATED:20250929T113012Z
LAST-MODIFIED:20260330T101847Z
UID:10020409-1812996600-1812999600@haraldslund.com
SUMMARY:Stærk krop
DESCRIPTION:
URL:https://haraldslund.com/event/staerk-krop/2027-06-14/
LOCATION:Haraldslund Vand- og kulturhus\, Kastetvej 83\, Aalborg\, 9000\, Denmark
CATEGORIES:Motionscenter
ORGANIZER;CN="Haraldslund":MAILTO:haraldslund@aalborg.dk
END:VEVENT
BEGIN:VEVENT
DTSTART;TZID=Europe/Copenhagen:20270614T173000
DTEND;TZID=Europe/Copenhagen:20270614T183000
DTSTAMP:20260426T001012
CREATED:20250929T111823Z
LAST-MODIFIED:20260330T101820Z
UID:10018688-1812994200-1812997800@haraldslund.com
SUMMARY:Bodybike 1
DESCRIPTION:
URL:https://haraldslund.com/event/bodybike-1/2027-06-14/
LOCATION:Haraldslund Vand- og kulturhus\, Kastetvej 83\, Aalborg\, 9000\, Denmark
CATEGORIES:Motionscenter
ORGANIZER;CN="Haraldslund":MAILTO:haraldslund@aalborg.dk
END:VEVENT
BEGIN:VEVENT
DTSTART;TZID=Europe/Copenhagen:20270614T171000
DTEND;TZID=Europe/Copenhagen:20270614T180000
DTSTAMP:20260426T001012
CREATED:20250929T105054Z
LAST-MODIFIED:20260330T114844Z
UID:10016913-1812993000-1812996000@haraldslund.com
SUMMARY:Jumping Fitness
DESCRIPTION:
URL:https://haraldslund.com/event/jumping-fitness/2027-06-14/
LOCATION:Haraldslund Vand- og kulturhus\, Kastetvej 83\, Aalborg\, 9000\, Denmark
CATEGORIES:Motionscenter
ORGANIZER;CN="Haraldslund":MAILTO:haraldslund@aalborg.dk
END:VEVENT
BEGIN:VEVENT
DTSTART;TZID=Europe/Copenhagen:20270614T163000
DTEND;TZID=Europe/Copenhagen:20270614T164500
DTSTAMP:20260426T001012
CREATED:20250929T084722Z
LAST-MODIFIED:20260330T110511Z
UID:10009135-1812990600-1812991500@haraldslund.com
SUMMARY:Saunagus
DESCRIPTION:
URL:https://haraldslund.com/event/saunagus-kl-16-30/2027-06-14/
LOCATION:Haraldslund Vand- og kulturhus\, Kastetvej 83\, Aalborg\, 9000\, Denmark
CATEGORIES:Wellness
ORGANIZER;CN="Haraldslund":MAILTO:haraldslund@aalborg.dk
END:VEVENT
BEGIN:VEVENT
DTSTART;TZID=Europe/Copenhagen:20270614T162000
DTEND;TZID=Europe/Copenhagen:20270614T171000
DTSTAMP:20260426T001012
CREATED:20250929T102636Z
LAST-MODIFIED:20251001T083702Z
UID:10016542-1812990000-1812993000@haraldslund.com
SUMMARY:Switching
DESCRIPTION:
URL:https://haraldslund.com/event/switching-kl-16-20/2027-06-14/
LOCATION:Haraldslund Vand- og kulturhus\, Kastetvej 83\, Aalborg\, 9000\, Denmark
CATEGORIES:Motionscenter
ORGANIZER;CN="Haraldslund":MAILTO:haraldslund@aalborg.dk
END:VEVENT
BEGIN:VEVENT
DTSTART;TZID=Europe/Copenhagen:20270614T161500
DTEND;TZID=Europe/Copenhagen:20270614T171500
DTSTAMP:20260426T001012
CREATED:20251205T084610Z
LAST-MODIFIED:20260330T102114Z
UID:10047020-1812989700-1812993300@haraldslund.com
SUMMARY:Bodybike 1
DESCRIPTION:
URL:https://haraldslund.com/event/bodybike-1-4/2027-06-14/
LOCATION:Haraldslund Vand- og kulturhus\, Kastetvej 83\, Aalborg\, 9000\, Denmark
CATEGORIES:Motionscenter
ORGANIZER;CN="Haraldslund":MAILTO:haraldslund@aalborg.dk
END:VEVENT
BEGIN:VEVENT
DTSTART;TZID=Europe/Copenhagen:20270614T160000
DTEND;TZID=Europe/Copenhagen:20270614T170000
DTSTAMP:20260426T001012
CREATED:20250929T101957Z
LAST-MODIFIED:20260323T063250Z
UID:10016176-1812988800-1812992400@haraldslund.com
SUMMARY:Bodytoning
DESCRIPTION:
URL:https://haraldslund.com/event/bodytoning-kl-16-00/2027-06-14/
LOCATION:Haraldslund Vand- og kulturhus\, Kastetvej 83\, Aalborg\, 9000\, Denmark
CATEGORIES:Motionscenter
ORGANIZER;CN="Haraldslund":MAILTO:haraldslund@aalborg.dk
END:VEVENT
BEGIN:VEVENT
DTSTART;TZID=Europe/Copenhagen:20270614T140000
DTEND;TZID=Europe/Copenhagen:20270614T141500
DTSTAMP:20260426T001012
CREATED:20250929T084523Z
LAST-MODIFIED:20260330T105546Z
UID:10007401-1812981600-1812982500@haraldslund.com
SUMMARY:Saunagus
DESCRIPTION:
URL:https://haraldslund.com/event/saunagus-kl-14-00/2027-06-14/
LOCATION:Haraldslund Vand- og kulturhus\, Kastetvej 83\, Aalborg\, 9000\, Denmark
CATEGORIES:Wellness
ORGANIZER;CN="Haraldslund":MAILTO:haraldslund@aalborg.dk
END:VEVENT
BEGIN:VEVENT
DTSTART;TZID=Europe/Copenhagen:20270614T134500
DTEND;TZID=Europe/Copenhagen:20270614T153000
DTSTAMP:20260426T001012
CREATED:20260303T085715Z
LAST-MODIFIED:20260303T085912Z
UID:10051401-1812980700-1812987000@haraldslund.com
SUMMARY:Sandfiltre skylles - temperatur kan falde 1-2 grader
DESCRIPTION:
URL:https://haraldslund.com/event/sandfiltre-skylles-temperatur/2027-06-14/
LOCATION:Haraldslund Vand- og kulturhus\, Kastetvej 83\, Aalborg\, 9000\, Denmark
CATEGORIES:Svømmehal
ORGANIZER;CN="Haraldslund":MAILTO:haraldslund@aalborg.dk
END:VEVENT
BEGIN:VEVENT
DTSTART;TZID=Europe/Copenhagen:20270614T134500
DTEND;TZID=Europe/Copenhagen:20270614T144500
DTSTAMP:20260426T001012
CREATED:20251104T112551Z
LAST-MODIFIED:20260330T103804Z
UID:10046019-1812980700-1812984300@haraldslund.com
SUMMARY:Skolesvømning
DESCRIPTION:
URL:https://haraldslund.com/event/skolesvoemning-2/2027-06-14/
CATEGORIES:Svømmehal
END:VEVENT
END:VCALENDAR