BEGIN:VCALENDAR
VERSION:2.0
PRODID:-//Haraldslund - ECPv6.15.16.1//NONSGML v1.0//EN
CALSCALE:GREGORIAN
METHOD:PUBLISH
X-WR-CALNAME:Haraldslund
X-ORIGINAL-URL:https://haraldslund.com
X-WR-CALDESC:Begivenheder for Haraldslund
REFRESH-INTERVAL;VALUE=DURATION:PT1H
X-Robots-Tag:noindex
X-PUBLISHED-TTL:PT1H
BEGIN:VTIMEZONE
TZID:Europe/Copenhagen
BEGIN:DAYLIGHT
TZOFFSETFROM:+0100
TZOFFSETTO:+0200
TZNAME:CEST
DTSTART:20260329T010000
END:DAYLIGHT
BEGIN:STANDARD
TZOFFSETFROM:+0200
TZOFFSETTO:+0100
TZNAME:CET
DTSTART:20261025T010000
END:STANDARD
BEGIN:DAYLIGHT
TZOFFSETFROM:+0100
TZOFFSETTO:+0200
TZNAME:CEST
DTSTART:20270328T010000
END:DAYLIGHT
BEGIN:STANDARD
TZOFFSETFROM:+0200
TZOFFSETTO:+0100
TZNAME:CET
DTSTART:20271031T010000
END:STANDARD
BEGIN:DAYLIGHT
TZOFFSETFROM:+0100
TZOFFSETTO:+0200
TZNAME:CEST
DTSTART:20280326T010000
END:DAYLIGHT
BEGIN:STANDARD
TZOFFSETFROM:+0200
TZOFFSETTO:+0100
TZNAME:CET
DTSTART:20281029T010000
END:STANDARD
END:VTIMEZONE
BEGIN:VEVENT
DTSTART;TZID=Europe/Copenhagen:20270602T191000
DTEND;TZID=Europe/Copenhagen:20270602T201000
DTSTAMP:20260425T060919
CREATED:20250930T090845Z
LAST-MODIFIED:20260330T110922Z
UID:10024588-1811963400-1811967000@haraldslund.com
SUMMARY:Stram op
DESCRIPTION:
URL:https://haraldslund.com/event/stram-op/2027-06-02/
LOCATION:Haraldslund Vand- og kulturhus\, Kastetvej 83\, Aalborg\, 9000\, Denmark
CATEGORIES:Motionscenter
ORGANIZER;CN="Haraldslund":MAILTO:haraldslund@aalborg.dk
END:VEVENT
BEGIN:VEVENT
DTSTART;TZID=Europe/Copenhagen:20270602T181500
DTEND;TZID=Europe/Copenhagen:20270602T193000
DTSTAMP:20260425T060919
CREATED:20250929T085743Z
LAST-MODIFIED:20260330T114921Z
UID:10010414-1811960100-1811964600@haraldslund.com
SUMMARY:Temagus
DESCRIPTION:
URL:https://haraldslund.com/event/temagus-kl-18-15/2027-06-02/
LOCATION:Haraldslund Vand- og kulturhus\, Kastetvej 83\, Aalborg\, 9000\, Denmark
CATEGORIES:Wellness
ORGANIZER;CN="Haraldslund":MAILTO:haraldslund@aalborg.dk
END:VEVENT
BEGIN:VEVENT
DTSTART;TZID=Europe/Copenhagen:20270602T181000
DTEND;TZID=Europe/Copenhagen:20270602T190000
DTSTAMP:20260425T060919
CREATED:20250929T110435Z
LAST-MODIFIED:20260323T063531Z
UID:10017887-1811959800-1811962800@haraldslund.com
SUMMARY:Jumping Fitness
DESCRIPTION:
URL:https://haraldslund.com/event/jumping-fitness-kl-17-00/2027-06-02/
LOCATION:Haraldslund Vand- og kulturhus\, Kastetvej 83\, Aalborg\, 9000\, Denmark
CATEGORIES:Motionscenter
ORGANIZER;CN="Haraldslund":MAILTO:haraldslund@aalborg.dk
END:VEVENT
BEGIN:VEVENT
DTSTART;TZID=Europe/Copenhagen:20270602T170000
DTEND;TZID=Europe/Copenhagen:20270602T180000
DTSTAMP:20260425T060919
CREATED:20250930T090108Z
LAST-MODIFIED:20251023T110809Z
UID:10024222-1811955600-1811959200@haraldslund.com
SUMMARY:Crossdance
DESCRIPTION:
URL:https://haraldslund.com/event/crossdance/2027-06-02/
LOCATION:Haraldslund Vand- og kulturhus\, Kastetvej 83\, Aalborg\, 9000\, Denmark
CATEGORIES:Motionscenter
ORGANIZER;CN="Haraldslund":MAILTO:haraldslund@aalborg.dk
END:VEVENT
BEGIN:VEVENT
DTSTART;TZID=Europe/Copenhagen:20270602T170000
DTEND;TZID=Europe/Copenhagen:20270602T180000
DTSTAMP:20260425T060919
CREATED:20250929T112413Z
LAST-MODIFIED:20260331T064541Z
UID:10019677-1811955600-1811959200@haraldslund.com
SUMMARY:Bodybike 1
DESCRIPTION:
URL:https://haraldslund.com/event/bodybike-1-2/2027-06-02/
LOCATION:Haraldslund Vand- og kulturhus\, Kastetvej 83\, Aalborg\, 9000\, Denmark
CATEGORIES:Motionscenter
ORGANIZER;CN="Haraldslund":MAILTO:haraldslund@aalborg.dk
END:VEVENT
BEGIN:VEVENT
DTSTART;TZID=Europe/Copenhagen:20270602T163000
DTEND;TZID=Europe/Copenhagen:20270602T164500
DTSTAMP:20260425T060919
CREATED:20250929T084722Z
LAST-MODIFIED:20260330T110511Z
UID:10009129-1811953800-1811954700@haraldslund.com
SUMMARY:Saunagus
DESCRIPTION:
URL:https://haraldslund.com/event/saunagus-kl-16-30/2027-06-02/
LOCATION:Haraldslund Vand- og kulturhus\, Kastetvej 83\, Aalborg\, 9000\, Denmark
CATEGORIES:Wellness
ORGANIZER;CN="Haraldslund":MAILTO:haraldslund@aalborg.dk
END:VEVENT
BEGIN:VEVENT
DTSTART;TZID=Europe/Copenhagen:20270602T160000
DTEND;TZID=Europe/Copenhagen:20270602T165000
DTSTAMP:20260425T060919
CREATED:20250930T085445Z
LAST-MODIFIED:20251023T110654Z
UID:10023856-1811952000-1811955000@haraldslund.com
SUMMARY:Core og stabilitet
DESCRIPTION:
URL:https://haraldslund.com/event/core-og-stabilitet/2027-06-02/
LOCATION:Haraldslund Vand- og kulturhus\, Kastetvej 83\, Aalborg\, 9000\, Denmark
CATEGORIES:Motionscenter
ORGANIZER;CN="Haraldslund":MAILTO:haraldslund@aalborg.dk
END:VEVENT
BEGIN:VEVENT
DTSTART;TZID=Europe/Copenhagen:20270602T140000
DTEND;TZID=Europe/Copenhagen:20270602T141500
DTSTAMP:20260425T060919
CREATED:20250929T084523Z
LAST-MODIFIED:20260330T105546Z
UID:10007393-1811944800-1811945700@haraldslund.com
SUMMARY:Saunagus
DESCRIPTION:
URL:https://haraldslund.com/event/saunagus-kl-14-00/2027-06-02/
LOCATION:Haraldslund Vand- og kulturhus\, Kastetvej 83\, Aalborg\, 9000\, Denmark
CATEGORIES:Wellness
ORGANIZER;CN="Haraldslund":MAILTO:haraldslund@aalborg.dk
END:VEVENT
BEGIN:VEVENT
DTSTART;TZID=Europe/Copenhagen:20270602T134500
DTEND;TZID=Europe/Copenhagen:20270602T144500
DTSTAMP:20260425T060919
CREATED:20251105T100044Z
LAST-MODIFIED:20260330T111153Z
UID:10045754-1811943900-1811947500@haraldslund.com
SUMMARY:Skolesvømning
DESCRIPTION:
URL:https://haraldslund.com/event/skolesvoemning-2-2/2027-06-02/
CATEGORIES:Svømmehal
END:VEVENT
BEGIN:VEVENT
DTSTART;TZID=Europe/Copenhagen:20270602T130000
DTEND;TZID=Europe/Copenhagen:20270602T134500
DTSTAMP:20260425T060919
CREATED:20250930T104349Z
LAST-MODIFIED:20260330T112104Z
UID:10032805-1811941200-1811943900@haraldslund.com
SUMMARY:Vandgymnastik specialhold
DESCRIPTION:
URL:https://haraldslund.com/event/vandgymnastik-specialhold/2027-06-02/
LOCATION:Haraldslund Vand- og kulturhus\, Kastetvej 83\, Aalborg\, 9000\, Denmark
CATEGORIES:Svømmehal
ORGANIZER;CN="Haraldslund":MAILTO:haraldslund@aalborg.dk
END:VEVENT
BEGIN:VEVENT
DTSTART;TZID=Europe/Copenhagen:20270602T103000
DTEND;TZID=Europe/Copenhagen:20270602T111500
DTSTAMP:20260425T060919
CREATED:20250929T115150Z
LAST-MODIFIED:20251205T081919Z
UID:10023226-1811932200-1811934900@haraldslund.com
SUMMARY:Varmtvandstræning
DESCRIPTION:
URL:https://haraldslund.com/event/varmtvandstraening/2027-06-02/
LOCATION:Haraldslund Vand- og kulturhus\, Kastetvej 83\, Aalborg\, 9000\, Denmark
CATEGORIES:Svømmehal
ORGANIZER;CN="Haraldslund":MAILTO:haraldslund@aalborg.dk
END:VEVENT
BEGIN:VEVENT
DTSTART;TZID=Europe/Copenhagen:20270602T101500
DTEND;TZID=Europe/Copenhagen:20270602T103000
DTSTAMP:20260425T060919
CREATED:20251003T081347Z
LAST-MODIFIED:20260330T110253Z
UID:10040564-1811931300-1811932200@haraldslund.com
SUMMARY:Saunagus
DESCRIPTION:
URL:https://haraldslund.com/event/4198/2027-06-02/
LOCATION:Haraldslund Vand- og kulturhus\, Kastetvej 83\, Aalborg\, 9000\, Denmark
CATEGORIES:Wellness
ORGANIZER;CN="Haraldslund":MAILTO:haraldslund@aalborg.dk
END:VEVENT
BEGIN:VEVENT
DTSTART;TZID=Europe/Copenhagen:20270602T093000
DTEND;TZID=Europe/Copenhagen:20270602T103000
DTSTAMP:20260425T060919
CREATED:20250929T114741Z
LAST-MODIFIED:20251205T082421Z
UID:10022862-1811928600-1811932200@haraldslund.com
SUMMARY:Pilates
DESCRIPTION:
URL:https://haraldslund.com/event/pilates/2027-06-02/
LOCATION:Haraldslund Vand- og kulturhus\, Kastetvej 83\, Aalborg\, 9000\, Denmark
CATEGORIES:Motionscenter
ORGANIZER;CN="Haraldslund":MAILTO:haraldslund@aalborg.dk
END:VEVENT
BEGIN:VEVENT
DTSTART;TZID=Europe/Copenhagen:20270602T091500
DTEND;TZID=Europe/Copenhagen:20270602T100000
DTSTAMP:20260425T060919
CREATED:20250929T094650Z
LAST-MODIFIED:20260330T111051Z
UID:10014157-1811927700-1811930400@haraldslund.com
SUMMARY:Vandgymnastik
DESCRIPTION:
URL:https://haraldslund.com/event/vandgymnastik-kl-9-15/2027-06-02/
LOCATION:Haraldslund Vand- og kulturhus\, Kastetvej 83\, Aalborg\, 9000\, Denmark
CATEGORIES:Svømmehal
ORGANIZER;CN="Haraldslund":MAILTO:haraldslund@aalborg.dk
END:VEVENT
BEGIN:VEVENT
DTSTART;TZID=Europe/Copenhagen:20270602T090000
DTEND;TZID=Europe/Copenhagen:20270602T110000
DTSTAMP:20260425T060919
CREATED:20250930T113821Z
LAST-MODIFIED:20260330T111407Z
UID:10035539-1811926800-1811934000@haraldslund.com
SUMMARY:Sundhed i bevægelse
DESCRIPTION:
URL:https://haraldslund.com/event/sib-traening/2027-06-02/
LOCATION:Haraldslund Vand- og kulturhus\, Kastetvej 83\, Aalborg\, 9000\, Denmark
CATEGORIES:Sundhed i Bevægelse
ORGANIZER;CN="Haraldslund":MAILTO:haraldslund@aalborg.dk
END:VEVENT
BEGIN:VEVENT
DTSTART;TZID=Europe/Copenhagen:20270602T083000
DTEND;TZID=Europe/Copenhagen:20270602T091500
DTSTAMP:20260425T060919
CREATED:20251104T113006Z
LAST-MODIFIED:20260330T111310Z
UID:10043760-1811925000-1811927700@haraldslund.com
SUMMARY:Skolesvømning
DESCRIPTION:
URL:https://haraldslund.com/event/skolesvoemning-4/2027-06-02/
LOCATION:Haraldslund Vand- og kulturhus\, Kastetvej 83\, Aalborg\, 9000\, Denmark
CATEGORIES:Svømmehal
ORGANIZER;CN="Haraldslund":MAILTO:haraldslund@aalborg.dk
END:VEVENT
BEGIN:VEVENT
DTSTART;TZID=Europe/Copenhagen:20270602T073000
DTEND;TZID=Europe/Copenhagen:20270602T074500
DTSTAMP:20260425T060919
CREATED:20250929T080715Z
LAST-MODIFIED:20260330T110205Z
UID:10039694-1811921400-1811922300@haraldslund.com
SUMMARY:Saunagus
DESCRIPTION:
URL:https://haraldslund.com/event/saunagus-7-30-2/2027-06-02/
CATEGORIES:Svømmehal
END:VEVENT
BEGIN:VEVENT
DTSTART;TZID=Europe/Copenhagen:20270601T190000
DTEND;TZID=Europe/Copenhagen:20270601T191500
DTSTAMP:20260425T060919
CREATED:20250929T090017Z
LAST-MODIFIED:20260330T110649Z
UID:10011143-1811876400-1811877300@haraldslund.com
SUMMARY:Saunagus
DESCRIPTION:
URL:https://haraldslund.com/event/saunagus-kl-19-00/2027-06-01/
LOCATION:Haraldslund Vand- og kulturhus\, Kastetvej 83\, Aalborg\, 9000\, Denmark
CATEGORIES:Wellness
ORGANIZER;CN="Haraldslund":MAILTO:haraldslund@aalborg.dk
END:VEVENT
BEGIN:VEVENT
DTSTART;TZID=Europe/Copenhagen:20270601T184500
DTEND;TZID=Europe/Copenhagen:20270601T193000
DTSTAMP:20260425T060919
CREATED:20250929T114607Z
LAST-MODIFIED:20250929T114607Z
UID:10022603-1811875500-1811878200@haraldslund.com
SUMMARY:Aqua Yoga
DESCRIPTION:
URL:https://haraldslund.com/event/aqua-yoga/2027-06-01/
LOCATION:Haraldslund Vand- og kulturhus\, Kastetvej 83\, Aalborg\, 9000\, Denmark
CATEGORIES:Svømmehal
ORGANIZER;CN="Haraldslund":MAILTO:haraldslund@aalborg.dk
END:VEVENT
BEGIN:VEVENT
DTSTART;TZID=Europe/Copenhagen:20270601T181000
DTEND;TZID=Europe/Copenhagen:20270601T190000
DTSTAMP:20260425T060919
CREATED:20250929T110435Z
LAST-MODIFIED:20260323T063531Z
UID:10017886-1811873400-1811876400@haraldslund.com
SUMMARY:Jumping Fitness
DESCRIPTION:
URL:https://haraldslund.com/event/jumping-fitness-kl-17-00/2027-06-01/
LOCATION:Haraldslund Vand- og kulturhus\, Kastetvej 83\, Aalborg\, 9000\, Denmark
CATEGORIES:Motionscenter
ORGANIZER;CN="Haraldslund":MAILTO:haraldslund@aalborg.dk
END:VEVENT
BEGIN:VEVENT
DTSTART;TZID=Europe/Copenhagen:20270601T180000
DTEND;TZID=Europe/Copenhagen:20270601T191000
DTSTAMP:20260425T060919
CREATED:20250929T112046Z
LAST-MODIFIED:20260331T064621Z
UID:10019313-1811872800-1811877000@haraldslund.com
SUMMARY:Bodybike 2
DESCRIPTION:
URL:https://haraldslund.com/event/bodybike-2/2027-06-01/
LOCATION:Haraldslund Vand- og kulturhus\, Kastetvej 83\, Aalborg\, 9000\, Denmark
CATEGORIES:Motionscenter
ORGANIZER;CN="Haraldslund":MAILTO:haraldslund@aalborg.dk
END:VEVENT
BEGIN:VEVENT
DTSTART;TZID=Europe/Copenhagen:20270601T174500
DTEND;TZID=Europe/Copenhagen:20270601T183000
DTSTAMP:20260425T060919
CREATED:20250929T114343Z
LAST-MODIFIED:20251001T083929Z
UID:10022237-1811871900-1811874600@haraldslund.com
SUMMARY:Aqua puls og power
DESCRIPTION:
URL:https://haraldslund.com/event/aqua-puls-og-power/2027-06-01/
LOCATION:Haraldslund Vand- og kulturhus\, Kastetvej 83\, Aalborg\, 9000\, Denmark
CATEGORIES:Svømmehal
ORGANIZER;CN="Haraldslund":MAILTO:haraldslund@aalborg.dk
END:VEVENT
BEGIN:VEVENT
DTSTART;TZID=Europe/Copenhagen:20270601T164500
DTEND;TZID=Europe/Copenhagen:20270601T180000
DTSTAMP:20260425T060919
CREATED:20250929T114139Z
LAST-MODIFIED:20251208T064032Z
UID:10021871-1811868300-1811872800@haraldslund.com
SUMMARY:Yoga
DESCRIPTION:
URL:https://haraldslund.com/event/yoga-2/2027-06-01/
LOCATION:Haraldslund Vand- og kulturhus\, Kastetvej 83\, Aalborg\, 9000\, Denmark
CATEGORIES:Motionscenter
ORGANIZER;CN="Haraldslund":MAILTO:haraldslund@aalborg.dk
END:VEVENT
BEGIN:VEVENT
DTSTART;TZID=Europe/Copenhagen:20270601T163000
DTEND;TZID=Europe/Copenhagen:20270601T172000
DTSTAMP:20260425T060919
CREATED:20250929T113803Z
LAST-MODIFIED:20251001T084057Z
UID:10021505-1811867400-1811870400@haraldslund.com
SUMMARY:Switching
DESCRIPTION:
URL:https://haraldslund.com/event/switching/2027-06-01/
LOCATION:Haraldslund Vand- og kulturhus\, Kastetvej 83\, Aalborg\, 9000\, Denmark
CATEGORIES:Motionscenter
ORGANIZER;CN="Haraldslund":MAILTO:haraldslund@aalborg.dk
END:VEVENT
BEGIN:VEVENT
DTSTART;TZID=Europe/Copenhagen:20270601T163000
DTEND;TZID=Europe/Copenhagen:20270601T164500
DTSTAMP:20260425T060919
CREATED:20250929T084722Z
LAST-MODIFIED:20260330T110511Z
UID:10009128-1811867400-1811868300@haraldslund.com
SUMMARY:Saunagus
DESCRIPTION:
URL:https://haraldslund.com/event/saunagus-kl-16-30/2027-06-01/
LOCATION:Haraldslund Vand- og kulturhus\, Kastetvej 83\, Aalborg\, 9000\, Denmark
CATEGORIES:Wellness
ORGANIZER;CN="Haraldslund":MAILTO:haraldslund@aalborg.dk
END:VEVENT
BEGIN:VEVENT
DTSTART;TZID=Europe/Copenhagen:20270601T160000
DTEND;TZID=Europe/Copenhagen:20270601T164500
DTSTAMP:20260425T060919
CREATED:20260211T091301Z
LAST-MODIFIED:20260211T091442Z
UID:10048088-1811865600-1811868300@haraldslund.com
SUMMARY:Vandgymnastik specialhold
DESCRIPTION:
URL:https://haraldslund.com/event/vandgymnastik-specialhold-2/2027-06-01/
LOCATION:Haraldslund Vand- og kulturhus\, Kastetvej 83\, Aalborg\, 9000\, Denmark
CATEGORIES:Svømmehal
ORGANIZER;CN="Haraldslund":MAILTO:haraldslund@aalborg.dk
END:VEVENT
BEGIN:VEVENT
DTSTART;TZID=Europe/Copenhagen:20270601T140000
DTEND;TZID=Europe/Copenhagen:20270601T141500
DTSTAMP:20260425T060919
CREATED:20250929T084523Z
LAST-MODIFIED:20260330T105546Z
UID:10007392-1811858400-1811859300@haraldslund.com
SUMMARY:Saunagus
DESCRIPTION:
URL:https://haraldslund.com/event/saunagus-kl-14-00/2027-06-01/
LOCATION:Haraldslund Vand- og kulturhus\, Kastetvej 83\, Aalborg\, 9000\, Denmark
CATEGORIES:Wellness
ORGANIZER;CN="Haraldslund":MAILTO:haraldslund@aalborg.dk
END:VEVENT
BEGIN:VEVENT
DTSTART;TZID=Europe/Copenhagen:20270601T123000
DTEND;TZID=Europe/Copenhagen:20270601T131500
DTSTAMP:20260425T060919
CREATED:20250930T104806Z
LAST-MODIFIED:20251208T063003Z
UID:10034093-1811853000-1811855700@haraldslund.com
SUMMARY:Vandgymnastik specialhold (SIB)
DESCRIPTION:
URL:https://haraldslund.com/event/vandgymnastik-specialhold-sib/2027-06-01/
LOCATION:Haraldslund Vand- og kulturhus\, Kastetvej 83\, Aalborg\, 9000\, Denmark
CATEGORIES:Svømmehal
ORGANIZER;CN="Haraldslund":MAILTO:haraldslund@aalborg.dk
END:VEVENT
BEGIN:VEVENT
DTSTART;TZID=Europe/Copenhagen:20270601T120000
DTEND;TZID=Europe/Copenhagen:20270601T133000
DTSTAMP:20260425T060919
CREATED:20251104T112822Z
LAST-MODIFIED:20260330T104143Z
UID:10044715-1811851200-1811856600@haraldslund.com
SUMMARY:Skolesvømning
DESCRIPTION:
URL:https://haraldslund.com/event/skolesvoemning-3/2027-06-01/
LOCATION:Haraldslund Vand- og kulturhus\, Kastetvej 83\, Aalborg\, 9000\, Denmark
CATEGORIES:Svømmehal
ORGANIZER;CN="Haraldslund":MAILTO:haraldslund@aalborg.dk
END:VEVENT
BEGIN:VEVENT
DTSTART;TZID=Europe/Copenhagen:20270601T101500
DTEND;TZID=Europe/Copenhagen:20270601T110000
DTSTAMP:20260425T060919
CREATED:20251104T112402Z
LAST-MODIFIED:20260330T113932Z
UID:10042726-1811844900-1811847600@haraldslund.com
SUMMARY:Skolesvømning
DESCRIPTION:
URL:https://haraldslund.com/event/skolesvoemning/2027-06-01/
LOCATION:Haraldslund Vand- og kulturhus\, Kastetvej 83\, Aalborg\, 9000\, Denmark
CATEGORIES:Svømmehal
ORGANIZER;CN="Haraldslund":MAILTO:haraldslund@aalborg.dk
END:VEVENT
END:VCALENDAR