BEGIN:VCALENDAR
VERSION:2.0
PRODID:-//Haraldslund - ECPv6.15.16.1//NONSGML v1.0//EN
CALSCALE:GREGORIAN
METHOD:PUBLISH
X-WR-CALNAME:Haraldslund
X-ORIGINAL-URL:https://haraldslund.com
X-WR-CALDESC:Begivenheder for Haraldslund
REFRESH-INTERVAL;VALUE=DURATION:PT1H
X-Robots-Tag:noindex
X-PUBLISHED-TTL:PT1H
BEGIN:VTIMEZONE
TZID:Europe/Copenhagen
BEGIN:DAYLIGHT
TZOFFSETFROM:+0100
TZOFFSETTO:+0200
TZNAME:CEST
DTSTART:20260329T010000
END:DAYLIGHT
BEGIN:STANDARD
TZOFFSETFROM:+0200
TZOFFSETTO:+0100
TZNAME:CET
DTSTART:20261025T010000
END:STANDARD
BEGIN:DAYLIGHT
TZOFFSETFROM:+0100
TZOFFSETTO:+0200
TZNAME:CEST
DTSTART:20270328T010000
END:DAYLIGHT
BEGIN:STANDARD
TZOFFSETFROM:+0200
TZOFFSETTO:+0100
TZNAME:CET
DTSTART:20271031T010000
END:STANDARD
BEGIN:DAYLIGHT
TZOFFSETFROM:+0100
TZOFFSETTO:+0200
TZNAME:CEST
DTSTART:20280326T010000
END:DAYLIGHT
BEGIN:STANDARD
TZOFFSETFROM:+0200
TZOFFSETTO:+0100
TZNAME:CET
DTSTART:20281029T010000
END:STANDARD
END:VTIMEZONE
BEGIN:VEVENT
DTSTART;TZID=Europe/Copenhagen:20270525T190000
DTEND;TZID=Europe/Copenhagen:20270525T191500
DTSTAMP:20260424T190642
CREATED:20250929T090017Z
LAST-MODIFIED:20260330T110649Z
UID:10011141-1811271600-1811272500@haraldslund.com
SUMMARY:Saunagus
DESCRIPTION:
URL:https://haraldslund.com/event/saunagus-kl-19-00/2027-05-25/
LOCATION:Haraldslund Vand- og kulturhus\, Kastetvej 83\, Aalborg\, 9000\, Denmark
CATEGORIES:Wellness
ORGANIZER;CN="Haraldslund":MAILTO:haraldslund@aalborg.dk
END:VEVENT
BEGIN:VEVENT
DTSTART;TZID=Europe/Copenhagen:20270525T184500
DTEND;TZID=Europe/Copenhagen:20270525T193000
DTSTAMP:20260424T190642
CREATED:20250929T114607Z
LAST-MODIFIED:20250929T114607Z
UID:10022602-1811270700-1811273400@haraldslund.com
SUMMARY:Aqua Yoga
DESCRIPTION:
URL:https://haraldslund.com/event/aqua-yoga/2027-05-25/
LOCATION:Haraldslund Vand- og kulturhus\, Kastetvej 83\, Aalborg\, 9000\, Denmark
CATEGORIES:Svømmehal
ORGANIZER;CN="Haraldslund":MAILTO:haraldslund@aalborg.dk
END:VEVENT
BEGIN:VEVENT
DTSTART;TZID=Europe/Copenhagen:20270525T181000
DTEND;TZID=Europe/Copenhagen:20270525T190000
DTSTAMP:20260424T190642
CREATED:20250929T110435Z
LAST-MODIFIED:20260323T063531Z
UID:10017884-1811268600-1811271600@haraldslund.com
SUMMARY:Jumping Fitness
DESCRIPTION:
URL:https://haraldslund.com/event/jumping-fitness-kl-17-00/2027-05-25/
LOCATION:Haraldslund Vand- og kulturhus\, Kastetvej 83\, Aalborg\, 9000\, Denmark
CATEGORIES:Motionscenter
ORGANIZER;CN="Haraldslund":MAILTO:haraldslund@aalborg.dk
END:VEVENT
BEGIN:VEVENT
DTSTART;TZID=Europe/Copenhagen:20270525T180000
DTEND;TZID=Europe/Copenhagen:20270525T191000
DTSTAMP:20260424T190642
CREATED:20250929T112046Z
LAST-MODIFIED:20260331T064621Z
UID:10019312-1811268000-1811272200@haraldslund.com
SUMMARY:Bodybike 2
DESCRIPTION:
URL:https://haraldslund.com/event/bodybike-2/2027-05-25/
LOCATION:Haraldslund Vand- og kulturhus\, Kastetvej 83\, Aalborg\, 9000\, Denmark
CATEGORIES:Motionscenter
ORGANIZER;CN="Haraldslund":MAILTO:haraldslund@aalborg.dk
END:VEVENT
BEGIN:VEVENT
DTSTART;TZID=Europe/Copenhagen:20270525T174500
DTEND;TZID=Europe/Copenhagen:20270525T183000
DTSTAMP:20260424T190642
CREATED:20250929T114343Z
LAST-MODIFIED:20251001T083929Z
UID:10022236-1811267100-1811269800@haraldslund.com
SUMMARY:Aqua puls og power
DESCRIPTION:
URL:https://haraldslund.com/event/aqua-puls-og-power/2027-05-25/
LOCATION:Haraldslund Vand- og kulturhus\, Kastetvej 83\, Aalborg\, 9000\, Denmark
CATEGORIES:Svømmehal
ORGANIZER;CN="Haraldslund":MAILTO:haraldslund@aalborg.dk
END:VEVENT
BEGIN:VEVENT
DTSTART;TZID=Europe/Copenhagen:20270525T164500
DTEND;TZID=Europe/Copenhagen:20270525T180000
DTSTAMP:20260424T190642
CREATED:20250929T114139Z
LAST-MODIFIED:20251208T064032Z
UID:10021870-1811263500-1811268000@haraldslund.com
SUMMARY:Yoga
DESCRIPTION:
URL:https://haraldslund.com/event/yoga-2/2027-05-25/
LOCATION:Haraldslund Vand- og kulturhus\, Kastetvej 83\, Aalborg\, 9000\, Denmark
CATEGORIES:Motionscenter
ORGANIZER;CN="Haraldslund":MAILTO:haraldslund@aalborg.dk
END:VEVENT
BEGIN:VEVENT
DTSTART;TZID=Europe/Copenhagen:20270525T163000
DTEND;TZID=Europe/Copenhagen:20270525T172000
DTSTAMP:20260424T190642
CREATED:20250929T113803Z
LAST-MODIFIED:20251001T084057Z
UID:10021504-1811262600-1811265600@haraldslund.com
SUMMARY:Switching
DESCRIPTION:
URL:https://haraldslund.com/event/switching/2027-05-25/
LOCATION:Haraldslund Vand- og kulturhus\, Kastetvej 83\, Aalborg\, 9000\, Denmark
CATEGORIES:Motionscenter
ORGANIZER;CN="Haraldslund":MAILTO:haraldslund@aalborg.dk
END:VEVENT
BEGIN:VEVENT
DTSTART;TZID=Europe/Copenhagen:20270525T163000
DTEND;TZID=Europe/Copenhagen:20270525T164500
DTSTAMP:20260424T190642
CREATED:20250929T084722Z
LAST-MODIFIED:20260330T110511Z
UID:10009124-1811262600-1811263500@haraldslund.com
SUMMARY:Saunagus
DESCRIPTION:
URL:https://haraldslund.com/event/saunagus-kl-16-30/2027-05-25/
LOCATION:Haraldslund Vand- og kulturhus\, Kastetvej 83\, Aalborg\, 9000\, Denmark
CATEGORIES:Wellness
ORGANIZER;CN="Haraldslund":MAILTO:haraldslund@aalborg.dk
END:VEVENT
BEGIN:VEVENT
DTSTART;TZID=Europe/Copenhagen:20270525T160000
DTEND;TZID=Europe/Copenhagen:20270525T164500
DTSTAMP:20260424T190642
CREATED:20260211T091301Z
LAST-MODIFIED:20260211T091442Z
UID:10048087-1811260800-1811263500@haraldslund.com
SUMMARY:Vandgymnastik specialhold
DESCRIPTION:
URL:https://haraldslund.com/event/vandgymnastik-specialhold-2/2027-05-25/
LOCATION:Haraldslund Vand- og kulturhus\, Kastetvej 83\, Aalborg\, 9000\, Denmark
CATEGORIES:Svømmehal
ORGANIZER;CN="Haraldslund":MAILTO:haraldslund@aalborg.dk
END:VEVENT
BEGIN:VEVENT
DTSTART;TZID=Europe/Copenhagen:20270525T140000
DTEND;TZID=Europe/Copenhagen:20270525T141500
DTSTAMP:20260424T190642
CREATED:20250929T084523Z
LAST-MODIFIED:20260330T105546Z
UID:10007387-1811253600-1811254500@haraldslund.com
SUMMARY:Saunagus
DESCRIPTION:
URL:https://haraldslund.com/event/saunagus-kl-14-00/2027-05-25/
LOCATION:Haraldslund Vand- og kulturhus\, Kastetvej 83\, Aalborg\, 9000\, Denmark
CATEGORIES:Wellness
ORGANIZER;CN="Haraldslund":MAILTO:haraldslund@aalborg.dk
END:VEVENT
BEGIN:VEVENT
DTSTART;TZID=Europe/Copenhagen:20270525T123000
DTEND;TZID=Europe/Copenhagen:20270525T131500
DTSTAMP:20260424T190642
CREATED:20250930T104806Z
LAST-MODIFIED:20251208T063003Z
UID:10034092-1811248200-1811250900@haraldslund.com
SUMMARY:Vandgymnastik specialhold (SIB)
DESCRIPTION:
URL:https://haraldslund.com/event/vandgymnastik-specialhold-sib/2027-05-25/
LOCATION:Haraldslund Vand- og kulturhus\, Kastetvej 83\, Aalborg\, 9000\, Denmark
CATEGORIES:Svømmehal
ORGANIZER;CN="Haraldslund":MAILTO:haraldslund@aalborg.dk
END:VEVENT
BEGIN:VEVENT
DTSTART;TZID=Europe/Copenhagen:20270525T120000
DTEND;TZID=Europe/Copenhagen:20270525T133000
DTSTAMP:20260424T190642
CREATED:20251104T112822Z
LAST-MODIFIED:20260330T104143Z
UID:10044714-1811246400-1811251800@haraldslund.com
SUMMARY:Skolesvømning
DESCRIPTION:
URL:https://haraldslund.com/event/skolesvoemning-3/2027-05-25/
LOCATION:Haraldslund Vand- og kulturhus\, Kastetvej 83\, Aalborg\, 9000\, Denmark
CATEGORIES:Svømmehal
ORGANIZER;CN="Haraldslund":MAILTO:haraldslund@aalborg.dk
END:VEVENT
BEGIN:VEVENT
DTSTART;TZID=Europe/Copenhagen:20270525T101500
DTEND;TZID=Europe/Copenhagen:20270525T110000
DTSTAMP:20260424T190642
CREATED:20251104T112402Z
LAST-MODIFIED:20260330T113932Z
UID:10042724-1811240100-1811242800@haraldslund.com
SUMMARY:Skolesvømning
DESCRIPTION:
URL:https://haraldslund.com/event/skolesvoemning/2027-05-25/
LOCATION:Haraldslund Vand- og kulturhus\, Kastetvej 83\, Aalborg\, 9000\, Denmark
CATEGORIES:Svømmehal
ORGANIZER;CN="Haraldslund":MAILTO:haraldslund@aalborg.dk
END:VEVENT
BEGIN:VEVENT
DTSTART;TZID=Europe/Copenhagen:20270525T101500
DTEND;TZID=Europe/Copenhagen:20270525T103000
DTSTAMP:20260424T190642
CREATED:20251003T081347Z
LAST-MODIFIED:20260330T110253Z
UID:10040557-1811240100-1811241000@haraldslund.com
SUMMARY:Saunagus
DESCRIPTION:
URL:https://haraldslund.com/event/4198/2027-05-25/
LOCATION:Haraldslund Vand- og kulturhus\, Kastetvej 83\, Aalborg\, 9000\, Denmark
CATEGORIES:Wellness
ORGANIZER;CN="Haraldslund":MAILTO:haraldslund@aalborg.dk
END:VEVENT
BEGIN:VEVENT
DTSTART;TZID=Europe/Copenhagen:20270525T091500
DTEND;TZID=Europe/Copenhagen:20270525T100000
DTSTAMP:20260424T190642
CREATED:20250929T094650Z
LAST-MODIFIED:20260330T111051Z
UID:10014153-1811236500-1811239200@haraldslund.com
SUMMARY:Vandgymnastik
DESCRIPTION:
URL:https://haraldslund.com/event/vandgymnastik-kl-9-15/2027-05-25/
LOCATION:Haraldslund Vand- og kulturhus\, Kastetvej 83\, Aalborg\, 9000\, Denmark
CATEGORIES:Svømmehal
ORGANIZER;CN="Haraldslund":MAILTO:haraldslund@aalborg.dk
END:VEVENT
BEGIN:VEVENT
DTSTART;TZID=Europe/Copenhagen:20270525T090000
DTEND;TZID=Europe/Copenhagen:20270525T110000
DTSTAMP:20260424T190642
CREATED:20250930T113821Z
LAST-MODIFIED:20260330T111407Z
UID:10035533-1811235600-1811242800@haraldslund.com
SUMMARY:Sundhed i bevægelse
DESCRIPTION:
URL:https://haraldslund.com/event/sib-traening/2027-05-25/
LOCATION:Haraldslund Vand- og kulturhus\, Kastetvej 83\, Aalborg\, 9000\, Denmark
CATEGORIES:Sundhed i Bevægelse
ORGANIZER;CN="Haraldslund":MAILTO:haraldslund@aalborg.dk
END:VEVENT
BEGIN:VEVENT
DTSTART;TZID=Europe/Copenhagen:20270525T073000
DTEND;TZID=Europe/Copenhagen:20270525T081500
DTSTAMP:20260424T190642
CREATED:20250930T085050Z
LAST-MODIFIED:20260323T064719Z
UID:10023489-1811230200-1811232900@haraldslund.com
SUMMARY:Mave\, balle\, lår
DESCRIPTION:
URL:https://haraldslund.com/event/mave-balle-laar/2027-05-25/
LOCATION:Haraldslund Vand- og kulturhus\, Kastetvej 83\, Aalborg\, 9000\, Denmark
CATEGORIES:Motionscenter
ORGANIZER;CN="Haraldslund":MAILTO:haraldslund@aalborg.dk
END:VEVENT
BEGIN:VEVENT
DTSTART;TZID=Europe/Copenhagen:20270524T191000
DTEND;TZID=Europe/Copenhagen:20270524T201000
DTSTAMP:20260424T190642
CREATED:20250929T113437Z
LAST-MODIFIED:20260330T114555Z
UID:10021138-1811185800-1811189400@haraldslund.com
SUMMARY:Yoga
DESCRIPTION:
URL:https://haraldslund.com/event/yoga/2027-05-24/
LOCATION:Haraldslund Vand- og kulturhus\, Kastetvej 83\, Aalborg\, 9000\, Denmark
CATEGORIES:Motionscenter
ORGANIZER;CN="Haraldslund":MAILTO:haraldslund@aalborg.dk
END:VEVENT
BEGIN:VEVENT
DTSTART;TZID=Europe/Copenhagen:20270524T184500
DTEND;TZID=Europe/Copenhagen:20270524T193000
DTSTAMP:20260424T190642
CREATED:20250929T113227Z
LAST-MODIFIED:20260330T103944Z
UID:10020772-1811184300-1811187000@haraldslund.com
SUMMARY:Vandgymnastik
DESCRIPTION:
URL:https://haraldslund.com/event/vandgymnastik/2027-05-24/
LOCATION:Haraldslund Vand- og kulturhus\, Kastetvej 83\, Aalborg\, 9000\, Denmark
CATEGORIES:Svømmehal
ORGANIZER;CN="Haraldslund":MAILTO:haraldslund@aalborg.dk
END:VEVENT
BEGIN:VEVENT
DTSTART;TZID=Europe/Copenhagen:20270524T181500
DTEND;TZID=Europe/Copenhagen:20270524T193000
DTSTAMP:20260424T190642
CREATED:20250929T085743Z
LAST-MODIFIED:20260330T114921Z
UID:10010411-1811182500-1811187000@haraldslund.com
SUMMARY:Temagus
DESCRIPTION:
URL:https://haraldslund.com/event/temagus-kl-18-15/2027-05-24/
LOCATION:Haraldslund Vand- og kulturhus\, Kastetvej 83\, Aalborg\, 9000\, Denmark
CATEGORIES:Wellness
ORGANIZER;CN="Haraldslund":MAILTO:haraldslund@aalborg.dk
END:VEVENT
BEGIN:VEVENT
DTSTART;TZID=Europe/Copenhagen:20270524T181000
DTEND;TZID=Europe/Copenhagen:20270524T190000
DTSTAMP:20260424T190642
CREATED:20250929T113012Z
LAST-MODIFIED:20260330T101847Z
UID:10020406-1811182200-1811185200@haraldslund.com
SUMMARY:Stærk krop
DESCRIPTION:
URL:https://haraldslund.com/event/staerk-krop/2027-05-24/
LOCATION:Haraldslund Vand- og kulturhus\, Kastetvej 83\, Aalborg\, 9000\, Denmark
CATEGORIES:Motionscenter
ORGANIZER;CN="Haraldslund":MAILTO:haraldslund@aalborg.dk
END:VEVENT
BEGIN:VEVENT
DTSTART;TZID=Europe/Copenhagen:20270524T173000
DTEND;TZID=Europe/Copenhagen:20270524T183000
DTSTAMP:20260424T190642
CREATED:20250929T111823Z
LAST-MODIFIED:20260330T101820Z
UID:10018685-1811179800-1811183400@haraldslund.com
SUMMARY:Bodybike 1
DESCRIPTION:
URL:https://haraldslund.com/event/bodybike-1/2027-05-24/
LOCATION:Haraldslund Vand- og kulturhus\, Kastetvej 83\, Aalborg\, 9000\, Denmark
CATEGORIES:Motionscenter
ORGANIZER;CN="Haraldslund":MAILTO:haraldslund@aalborg.dk
END:VEVENT
BEGIN:VEVENT
DTSTART;TZID=Europe/Copenhagen:20270524T171000
DTEND;TZID=Europe/Copenhagen:20270524T180000
DTSTAMP:20260424T190642
CREATED:20250929T105054Z
LAST-MODIFIED:20260330T114844Z
UID:10016910-1811178600-1811181600@haraldslund.com
SUMMARY:Jumping Fitness
DESCRIPTION:
URL:https://haraldslund.com/event/jumping-fitness/2027-05-24/
LOCATION:Haraldslund Vand- og kulturhus\, Kastetvej 83\, Aalborg\, 9000\, Denmark
CATEGORIES:Motionscenter
ORGANIZER;CN="Haraldslund":MAILTO:haraldslund@aalborg.dk
END:VEVENT
BEGIN:VEVENT
DTSTART;TZID=Europe/Copenhagen:20270524T163000
DTEND;TZID=Europe/Copenhagen:20270524T164500
DTSTAMP:20260424T190642
CREATED:20250929T084722Z
LAST-MODIFIED:20260330T110511Z
UID:10009123-1811176200-1811177100@haraldslund.com
SUMMARY:Saunagus
DESCRIPTION:
URL:https://haraldslund.com/event/saunagus-kl-16-30/2027-05-24/
LOCATION:Haraldslund Vand- og kulturhus\, Kastetvej 83\, Aalborg\, 9000\, Denmark
CATEGORIES:Wellness
ORGANIZER;CN="Haraldslund":MAILTO:haraldslund@aalborg.dk
END:VEVENT
BEGIN:VEVENT
DTSTART;TZID=Europe/Copenhagen:20270524T162000
DTEND;TZID=Europe/Copenhagen:20270524T171000
DTSTAMP:20260424T190642
CREATED:20250929T102636Z
LAST-MODIFIED:20251001T083702Z
UID:10016539-1811175600-1811178600@haraldslund.com
SUMMARY:Switching
DESCRIPTION:
URL:https://haraldslund.com/event/switching-kl-16-20/2027-05-24/
LOCATION:Haraldslund Vand- og kulturhus\, Kastetvej 83\, Aalborg\, 9000\, Denmark
CATEGORIES:Motionscenter
ORGANIZER;CN="Haraldslund":MAILTO:haraldslund@aalborg.dk
END:VEVENT
BEGIN:VEVENT
DTSTART;TZID=Europe/Copenhagen:20270524T161500
DTEND;TZID=Europe/Copenhagen:20270524T171500
DTSTAMP:20260424T190642
CREATED:20251205T084610Z
LAST-MODIFIED:20260330T102114Z
UID:10047017-1811175300-1811178900@haraldslund.com
SUMMARY:Bodybike 1
DESCRIPTION:
URL:https://haraldslund.com/event/bodybike-1-4/2027-05-24/
LOCATION:Haraldslund Vand- og kulturhus\, Kastetvej 83\, Aalborg\, 9000\, Denmark
CATEGORIES:Motionscenter
ORGANIZER;CN="Haraldslund":MAILTO:haraldslund@aalborg.dk
END:VEVENT
BEGIN:VEVENT
DTSTART;TZID=Europe/Copenhagen:20270524T160000
DTEND;TZID=Europe/Copenhagen:20270524T170000
DTSTAMP:20260424T190642
CREATED:20250929T101957Z
LAST-MODIFIED:20260323T063250Z
UID:10016173-1811174400-1811178000@haraldslund.com
SUMMARY:Bodytoning
DESCRIPTION:
URL:https://haraldslund.com/event/bodytoning-kl-16-00/2027-05-24/
LOCATION:Haraldslund Vand- og kulturhus\, Kastetvej 83\, Aalborg\, 9000\, Denmark
CATEGORIES:Motionscenter
ORGANIZER;CN="Haraldslund":MAILTO:haraldslund@aalborg.dk
END:VEVENT
BEGIN:VEVENT
DTSTART;TZID=Europe/Copenhagen:20270524T140000
DTEND;TZID=Europe/Copenhagen:20270524T141500
DTSTAMP:20260424T190642
CREATED:20250929T084523Z
LAST-MODIFIED:20260330T105546Z
UID:10007386-1811167200-1811168100@haraldslund.com
SUMMARY:Saunagus
DESCRIPTION:
URL:https://haraldslund.com/event/saunagus-kl-14-00/2027-05-24/
LOCATION:Haraldslund Vand- og kulturhus\, Kastetvej 83\, Aalborg\, 9000\, Denmark
CATEGORIES:Wellness
ORGANIZER;CN="Haraldslund":MAILTO:haraldslund@aalborg.dk
END:VEVENT
BEGIN:VEVENT
DTSTART;TZID=Europe/Copenhagen:20270524T134500
DTEND;TZID=Europe/Copenhagen:20270524T153000
DTSTAMP:20260424T190642
CREATED:20260303T085715Z
LAST-MODIFIED:20260303T085912Z
UID:10051398-1811166300-1811172600@haraldslund.com
SUMMARY:Sandfiltre skylles - temperatur kan falde 1-2 grader
DESCRIPTION:
URL:https://haraldslund.com/event/sandfiltre-skylles-temperatur/2027-05-24/
LOCATION:Haraldslund Vand- og kulturhus\, Kastetvej 83\, Aalborg\, 9000\, Denmark
CATEGORIES:Svømmehal
ORGANIZER;CN="Haraldslund":MAILTO:haraldslund@aalborg.dk
END:VEVENT
BEGIN:VEVENT
DTSTART;TZID=Europe/Copenhagen:20270524T134500
DTEND;TZID=Europe/Copenhagen:20270524T144500
DTSTAMP:20260424T190642
CREATED:20251104T112551Z
LAST-MODIFIED:20260330T103804Z
UID:10046016-1811166300-1811169900@haraldslund.com
SUMMARY:Skolesvømning
DESCRIPTION:
URL:https://haraldslund.com/event/skolesvoemning-2/2027-05-24/
CATEGORIES:Svømmehal
END:VEVENT
END:VCALENDAR