BEGIN:VCALENDAR
VERSION:2.0
PRODID:-//Haraldslund - ECPv6.15.16.1//NONSGML v1.0//EN
CALSCALE:GREGORIAN
METHOD:PUBLISH
X-WR-CALNAME:Haraldslund
X-ORIGINAL-URL:https://haraldslund.com
X-WR-CALDESC:Begivenheder for Haraldslund
REFRESH-INTERVAL;VALUE=DURATION:PT1H
X-Robots-Tag:noindex
X-PUBLISHED-TTL:PT1H
BEGIN:VTIMEZONE
TZID:Europe/Copenhagen
BEGIN:DAYLIGHT
TZOFFSETFROM:+0100
TZOFFSETTO:+0200
TZNAME:CEST
DTSTART:20260329T010000
END:DAYLIGHT
BEGIN:STANDARD
TZOFFSETFROM:+0200
TZOFFSETTO:+0100
TZNAME:CET
DTSTART:20261025T010000
END:STANDARD
BEGIN:DAYLIGHT
TZOFFSETFROM:+0100
TZOFFSETTO:+0200
TZNAME:CEST
DTSTART:20270328T010000
END:DAYLIGHT
BEGIN:STANDARD
TZOFFSETFROM:+0200
TZOFFSETTO:+0100
TZNAME:CET
DTSTART:20271031T010000
END:STANDARD
BEGIN:DAYLIGHT
TZOFFSETFROM:+0100
TZOFFSETTO:+0200
TZNAME:CEST
DTSTART:20280326T010000
END:DAYLIGHT
BEGIN:STANDARD
TZOFFSETFROM:+0200
TZOFFSETTO:+0100
TZNAME:CET
DTSTART:20281029T010000
END:STANDARD
END:VTIMEZONE
BEGIN:VEVENT
DTSTART;TZID=Europe/Copenhagen:20270524T191000
DTEND;TZID=Europe/Copenhagen:20270524T201000
DTSTAMP:20260424T174207
CREATED:20250929T113437Z
LAST-MODIFIED:20260330T114555Z
UID:10021138-1811185800-1811189400@haraldslund.com
SUMMARY:Yoga
DESCRIPTION:
URL:https://haraldslund.com/event/yoga/2027-05-24/
LOCATION:Haraldslund Vand- og kulturhus\, Kastetvej 83\, Aalborg\, 9000\, Denmark
CATEGORIES:Motionscenter
ORGANIZER;CN="Haraldslund":MAILTO:haraldslund@aalborg.dk
END:VEVENT
BEGIN:VEVENT
DTSTART;TZID=Europe/Copenhagen:20270524T184500
DTEND;TZID=Europe/Copenhagen:20270524T193000
DTSTAMP:20260424T174207
CREATED:20250929T113227Z
LAST-MODIFIED:20260330T103944Z
UID:10020772-1811184300-1811187000@haraldslund.com
SUMMARY:Vandgymnastik
DESCRIPTION:
URL:https://haraldslund.com/event/vandgymnastik/2027-05-24/
LOCATION:Haraldslund Vand- og kulturhus\, Kastetvej 83\, Aalborg\, 9000\, Denmark
CATEGORIES:Svømmehal
ORGANIZER;CN="Haraldslund":MAILTO:haraldslund@aalborg.dk
END:VEVENT
BEGIN:VEVENT
DTSTART;TZID=Europe/Copenhagen:20270524T181500
DTEND;TZID=Europe/Copenhagen:20270524T193000
DTSTAMP:20260424T174207
CREATED:20250929T085743Z
LAST-MODIFIED:20260330T114921Z
UID:10010411-1811182500-1811187000@haraldslund.com
SUMMARY:Temagus
DESCRIPTION:
URL:https://haraldslund.com/event/temagus-kl-18-15/2027-05-24/
LOCATION:Haraldslund Vand- og kulturhus\, Kastetvej 83\, Aalborg\, 9000\, Denmark
CATEGORIES:Wellness
ORGANIZER;CN="Haraldslund":MAILTO:haraldslund@aalborg.dk
END:VEVENT
BEGIN:VEVENT
DTSTART;TZID=Europe/Copenhagen:20270524T181000
DTEND;TZID=Europe/Copenhagen:20270524T190000
DTSTAMP:20260424T174207
CREATED:20250929T113012Z
LAST-MODIFIED:20260330T101847Z
UID:10020406-1811182200-1811185200@haraldslund.com
SUMMARY:Stærk krop
DESCRIPTION:
URL:https://haraldslund.com/event/staerk-krop/2027-05-24/
LOCATION:Haraldslund Vand- og kulturhus\, Kastetvej 83\, Aalborg\, 9000\, Denmark
CATEGORIES:Motionscenter
ORGANIZER;CN="Haraldslund":MAILTO:haraldslund@aalborg.dk
END:VEVENT
BEGIN:VEVENT
DTSTART;TZID=Europe/Copenhagen:20270524T173000
DTEND;TZID=Europe/Copenhagen:20270524T183000
DTSTAMP:20260424T174207
CREATED:20250929T111823Z
LAST-MODIFIED:20260330T101820Z
UID:10018685-1811179800-1811183400@haraldslund.com
SUMMARY:Bodybike 1
DESCRIPTION:
URL:https://haraldslund.com/event/bodybike-1/2027-05-24/
LOCATION:Haraldslund Vand- og kulturhus\, Kastetvej 83\, Aalborg\, 9000\, Denmark
CATEGORIES:Motionscenter
ORGANIZER;CN="Haraldslund":MAILTO:haraldslund@aalborg.dk
END:VEVENT
BEGIN:VEVENT
DTSTART;TZID=Europe/Copenhagen:20270524T171000
DTEND;TZID=Europe/Copenhagen:20270524T180000
DTSTAMP:20260424T174207
CREATED:20250929T105054Z
LAST-MODIFIED:20260330T114844Z
UID:10016910-1811178600-1811181600@haraldslund.com
SUMMARY:Jumping Fitness
DESCRIPTION:
URL:https://haraldslund.com/event/jumping-fitness/2027-05-24/
LOCATION:Haraldslund Vand- og kulturhus\, Kastetvej 83\, Aalborg\, 9000\, Denmark
CATEGORIES:Motionscenter
ORGANIZER;CN="Haraldslund":MAILTO:haraldslund@aalborg.dk
END:VEVENT
BEGIN:VEVENT
DTSTART;TZID=Europe/Copenhagen:20270524T163000
DTEND;TZID=Europe/Copenhagen:20270524T164500
DTSTAMP:20260424T174207
CREATED:20250929T084722Z
LAST-MODIFIED:20260330T110511Z
UID:10009123-1811176200-1811177100@haraldslund.com
SUMMARY:Saunagus
DESCRIPTION:
URL:https://haraldslund.com/event/saunagus-kl-16-30/2027-05-24/
LOCATION:Haraldslund Vand- og kulturhus\, Kastetvej 83\, Aalborg\, 9000\, Denmark
CATEGORIES:Wellness
ORGANIZER;CN="Haraldslund":MAILTO:haraldslund@aalborg.dk
END:VEVENT
BEGIN:VEVENT
DTSTART;TZID=Europe/Copenhagen:20270524T162000
DTEND;TZID=Europe/Copenhagen:20270524T171000
DTSTAMP:20260424T174207
CREATED:20250929T102636Z
LAST-MODIFIED:20251001T083702Z
UID:10016539-1811175600-1811178600@haraldslund.com
SUMMARY:Switching
DESCRIPTION:
URL:https://haraldslund.com/event/switching-kl-16-20/2027-05-24/
LOCATION:Haraldslund Vand- og kulturhus\, Kastetvej 83\, Aalborg\, 9000\, Denmark
CATEGORIES:Motionscenter
ORGANIZER;CN="Haraldslund":MAILTO:haraldslund@aalborg.dk
END:VEVENT
BEGIN:VEVENT
DTSTART;TZID=Europe/Copenhagen:20270524T161500
DTEND;TZID=Europe/Copenhagen:20270524T171500
DTSTAMP:20260424T174207
CREATED:20251205T084610Z
LAST-MODIFIED:20260330T102114Z
UID:10047017-1811175300-1811178900@haraldslund.com
SUMMARY:Bodybike 1
DESCRIPTION:
URL:https://haraldslund.com/event/bodybike-1-4/2027-05-24/
LOCATION:Haraldslund Vand- og kulturhus\, Kastetvej 83\, Aalborg\, 9000\, Denmark
CATEGORIES:Motionscenter
ORGANIZER;CN="Haraldslund":MAILTO:haraldslund@aalborg.dk
END:VEVENT
BEGIN:VEVENT
DTSTART;TZID=Europe/Copenhagen:20270524T160000
DTEND;TZID=Europe/Copenhagen:20270524T170000
DTSTAMP:20260424T174207
CREATED:20250929T101957Z
LAST-MODIFIED:20260323T063250Z
UID:10016173-1811174400-1811178000@haraldslund.com
SUMMARY:Bodytoning
DESCRIPTION:
URL:https://haraldslund.com/event/bodytoning-kl-16-00/2027-05-24/
LOCATION:Haraldslund Vand- og kulturhus\, Kastetvej 83\, Aalborg\, 9000\, Denmark
CATEGORIES:Motionscenter
ORGANIZER;CN="Haraldslund":MAILTO:haraldslund@aalborg.dk
END:VEVENT
BEGIN:VEVENT
DTSTART;TZID=Europe/Copenhagen:20270524T140000
DTEND;TZID=Europe/Copenhagen:20270524T141500
DTSTAMP:20260424T174207
CREATED:20250929T084523Z
LAST-MODIFIED:20260330T105546Z
UID:10007386-1811167200-1811168100@haraldslund.com
SUMMARY:Saunagus
DESCRIPTION:
URL:https://haraldslund.com/event/saunagus-kl-14-00/2027-05-24/
LOCATION:Haraldslund Vand- og kulturhus\, Kastetvej 83\, Aalborg\, 9000\, Denmark
CATEGORIES:Wellness
ORGANIZER;CN="Haraldslund":MAILTO:haraldslund@aalborg.dk
END:VEVENT
BEGIN:VEVENT
DTSTART;TZID=Europe/Copenhagen:20270524T134500
DTEND;TZID=Europe/Copenhagen:20270524T153000
DTSTAMP:20260424T174207
CREATED:20260303T085715Z
LAST-MODIFIED:20260303T085912Z
UID:10051398-1811166300-1811172600@haraldslund.com
SUMMARY:Sandfiltre skylles - temperatur kan falde 1-2 grader
DESCRIPTION:
URL:https://haraldslund.com/event/sandfiltre-skylles-temperatur/2027-05-24/
LOCATION:Haraldslund Vand- og kulturhus\, Kastetvej 83\, Aalborg\, 9000\, Denmark
CATEGORIES:Svømmehal
ORGANIZER;CN="Haraldslund":MAILTO:haraldslund@aalborg.dk
END:VEVENT
BEGIN:VEVENT
DTSTART;TZID=Europe/Copenhagen:20270524T134500
DTEND;TZID=Europe/Copenhagen:20270524T144500
DTSTAMP:20260424T174207
CREATED:20251104T112551Z
LAST-MODIFIED:20260330T103804Z
UID:10046016-1811166300-1811169900@haraldslund.com
SUMMARY:Skolesvømning
DESCRIPTION:
URL:https://haraldslund.com/event/skolesvoemning-2/2027-05-24/
CATEGORIES:Svømmehal
END:VEVENT
BEGIN:VEVENT
DTSTART;TZID=Europe/Copenhagen:20270524T130000
DTEND;TZID=Europe/Copenhagen:20270524T134500
DTSTAMP:20260424T174207
CREATED:20250930T104349Z
LAST-MODIFIED:20260330T112104Z
UID:10032801-1811163600-1811166300@haraldslund.com
SUMMARY:Vandgymnastik specialhold
DESCRIPTION:
URL:https://haraldslund.com/event/vandgymnastik-specialhold/2027-05-24/
LOCATION:Haraldslund Vand- og kulturhus\, Kastetvej 83\, Aalborg\, 9000\, Denmark
CATEGORIES:Svømmehal
ORGANIZER;CN="Haraldslund":MAILTO:haraldslund@aalborg.dk
END:VEVENT
BEGIN:VEVENT
DTSTART;TZID=Europe/Copenhagen:20270524T103000
DTEND;TZID=Europe/Copenhagen:20270524T111500
DTSTAMP:20260424T174207
CREATED:20250929T100820Z
LAST-MODIFIED:20260330T113832Z
UID:10015249-1811154600-1811157300@haraldslund.com
SUMMARY:Vandgymnastik
DESCRIPTION:
URL:https://haraldslund.com/event/vandgymnastik-kl-10-30/2027-05-24/
LOCATION:Haraldslund Vand- og kulturhus\, Kastetvej 83\, Aalborg\, 9000\, Denmark
CATEGORIES:Svømmehal
ORGANIZER;CN="Haraldslund":MAILTO:haraldslund@aalborg.dk
END:VEVENT
BEGIN:VEVENT
DTSTART;TZID=Europe/Copenhagen:20270524T101500
DTEND;TZID=Europe/Copenhagen:20270524T110000
DTSTAMP:20260424T174207
CREATED:20251104T112402Z
LAST-MODIFIED:20260330T113932Z
UID:10042723-1811153700-1811156400@haraldslund.com
SUMMARY:Skolesvømning
DESCRIPTION:
URL:https://haraldslund.com/event/skolesvoemning/2027-05-24/
LOCATION:Haraldslund Vand- og kulturhus\, Kastetvej 83\, Aalborg\, 9000\, Denmark
CATEGORIES:Svømmehal
ORGANIZER;CN="Haraldslund":MAILTO:haraldslund@aalborg.dk
END:VEVENT
BEGIN:VEVENT
DTSTART;TZID=Europe/Copenhagen:20270524T101500
DTEND;TZID=Europe/Copenhagen:20270524T103000
DTSTAMP:20260424T174207
CREATED:20251003T081347Z
LAST-MODIFIED:20260330T110253Z
UID:10040556-1811153700-1811154600@haraldslund.com
SUMMARY:Saunagus
DESCRIPTION:
URL:https://haraldslund.com/event/4198/2027-05-24/
LOCATION:Haraldslund Vand- og kulturhus\, Kastetvej 83\, Aalborg\, 9000\, Denmark
CATEGORIES:Wellness
ORGANIZER;CN="Haraldslund":MAILTO:haraldslund@aalborg.dk
END:VEVENT
BEGIN:VEVENT
DTSTART;TZID=Europe/Copenhagen:20270524T091500
DTEND;TZID=Europe/Copenhagen:20270524T100000
DTSTAMP:20260424T174207
CREATED:20250929T094650Z
LAST-MODIFIED:20260330T111051Z
UID:10014152-1811150100-1811152800@haraldslund.com
SUMMARY:Vandgymnastik
DESCRIPTION:
URL:https://haraldslund.com/event/vandgymnastik-kl-9-15/2027-05-24/
LOCATION:Haraldslund Vand- og kulturhus\, Kastetvej 83\, Aalborg\, 9000\, Denmark
CATEGORIES:Svømmehal
ORGANIZER;CN="Haraldslund":MAILTO:haraldslund@aalborg.dk
END:VEVENT
BEGIN:VEVENT
DTSTART;TZID=Europe/Copenhagen:20270524T090000
DTEND;TZID=Europe/Copenhagen:20270524T110000
DTSTAMP:20260424T174207
CREATED:20250930T113821Z
LAST-MODIFIED:20260330T111407Z
UID:10035532-1811149200-1811156400@haraldslund.com
SUMMARY:Sundhed i bevægelse
DESCRIPTION:
URL:https://haraldslund.com/event/sib-traening/2027-05-24/
LOCATION:Haraldslund Vand- og kulturhus\, Kastetvej 83\, Aalborg\, 9000\, Denmark
CATEGORIES:Sundhed i Bevægelse
ORGANIZER;CN="Haraldslund":MAILTO:haraldslund@aalborg.dk
END:VEVENT
BEGIN:VEVENT
DTSTART;TZID=Europe/Copenhagen:20270524T073000
DTEND;TZID=Europe/Copenhagen:20270524T074500
DTSTAMP:20260424T174207
CREATED:20250929T080715Z
LAST-MODIFIED:20260330T110205Z
UID:10039691-1811143800-1811144700@haraldslund.com
SUMMARY:Saunagus
DESCRIPTION:
URL:https://haraldslund.com/event/saunagus-7-30-2/2027-05-24/
CATEGORIES:Svømmehal
END:VEVENT
BEGIN:VEVENT
DTSTART;TZID=Europe/Copenhagen:20270523T140000
DTEND;TZID=Europe/Copenhagen:20270523T141500
DTSTAMP:20260424T174207
CREATED:20250929T084523Z
LAST-MODIFIED:20260330T105546Z
UID:10007385-1811080800-1811081700@haraldslund.com
SUMMARY:Saunagus
DESCRIPTION:
URL:https://haraldslund.com/event/saunagus-kl-14-00/2027-05-23/
LOCATION:Haraldslund Vand- og kulturhus\, Kastetvej 83\, Aalborg\, 9000\, Denmark
CATEGORIES:Wellness
ORGANIZER;CN="Haraldslund":MAILTO:haraldslund@aalborg.dk
END:VEVENT
BEGIN:VEVENT
DTSTART;TZID=Europe/Copenhagen:20270523T120000
DTEND;TZID=Europe/Copenhagen:20270523T121500
DTSTAMP:20260424T174207
CREATED:20260223T065538Z
LAST-MODIFIED:20260330T105402Z
UID:10050277-1811073600-1811074500@haraldslund.com
SUMMARY:Saunagus
DESCRIPTION:
URL:https://haraldslund.com/event/saunagus/2027-05-23/
LOCATION:Haraldslund Vand- og kulturhus\, Kastetvej 83\, Aalborg\, 9000\, Denmark
CATEGORIES:Svømmehal,Wellness
ORGANIZER;CN="Haraldslund":MAILTO:haraldslund@aalborg.dk
END:VEVENT
BEGIN:VEVENT
DTSTART;TZID=Europe/Copenhagen:20270523T113000
DTEND;TZID=Europe/Copenhagen:20270523T123000
DTSTAMP:20260424T174207
CREATED:20250930T100054Z
LAST-MODIFIED:20260330T112616Z
UID:10029350-1811071800-1811075400@haraldslund.com
SUMMARY:Fitness pump
DESCRIPTION:
URL:https://haraldslund.com/event/fitness-pump/2027-05-23/
LOCATION:Haraldslund Vand- og kulturhus\, Kastetvej 83\, Aalborg\, 9000\, Denmark
CATEGORIES:Motionscenter
ORGANIZER;CN="Haraldslund":MAILTO:haraldslund@aalborg.dk
END:VEVENT
BEGIN:VEVENT
DTSTART;TZID=Europe/Copenhagen:20270523T100000
DTEND;TZID=Europe/Copenhagen:20270523T111500
DTSTAMP:20260424T174207
CREATED:20250930T095930Z
LAST-MODIFIED:20251001T075144Z
UID:10037014-1811066400-1811070900@haraldslund.com
SUMMARY:Morgen yoga flow
DESCRIPTION:
URL:https://haraldslund.com/event/morgen-yoga-flow/2027-05-23/
LOCATION:Haraldslund Vand- og kulturhus\, Kastetvej 83\, Aalborg\, 9000\, Denmark
CATEGORIES:Motionscenter
ORGANIZER;CN="Haraldslund":MAILTO:haraldslund@aalborg.dk
END:VEVENT
BEGIN:VEVENT
DTSTART;TZID=Europe/Copenhagen:20270523T100000
DTEND;TZID=Europe/Copenhagen:20270523T101500
DTSTAMP:20260424T174207
CREATED:20260223T065913Z
LAST-MODIFIED:20260330T105201Z
UID:10050842-1811066400-1811067300@haraldslund.com
SUMMARY:Saunagus
DESCRIPTION:
URL:https://haraldslund.com/event/saunagus-2/2027-05-23/
LOCATION:Haraldslund Vand- og kulturhus\, Kastetvej 83\, Aalborg\, 9000\, Denmark
CATEGORIES:Svømmehal,Wellness
ORGANIZER;CN="Haraldslund":MAILTO:haraldslund@aalborg.dk
END:VEVENT
BEGIN:VEVENT
DTSTART;TZID=Europe/Copenhagen:20270523T090000
DTEND;TZID=Europe/Copenhagen:20270523T095000
DTSTAMP:20260424T174207
CREATED:20250930T095616Z
LAST-MODIFIED:20260223T070130Z
UID:10028984-1811062800-1811065800@haraldslund.com
SUMMARY:Jumping fitness
DESCRIPTION:
URL:https://haraldslund.com/event/jumping-fitness-4/2027-05-23/
LOCATION:Haraldslund Vand- og kulturhus\, Kastetvej 83\, Aalborg\, 9000\, Denmark
CATEGORIES:Motionscenter
ORGANIZER;CN="Haraldslund":MAILTO:haraldslund@aalborg.dk
END:VEVENT
BEGIN:VEVENT
DTSTART;TZID=Europe/Copenhagen:20270522T140000
DTEND;TZID=Europe/Copenhagen:20270522T141500
DTSTAMP:20260424T174207
CREATED:20250929T084523Z
LAST-MODIFIED:20260330T105546Z
UID:10048375-1810994400-1810995300@haraldslund.com
SUMMARY:Saunagus
DESCRIPTION:
URL:https://haraldslund.com/event/saunagus-kl-14-00/2027-05-22/
LOCATION:Haraldslund Vand- og kulturhus\, Kastetvej 83\, Aalborg\, 9000\, Denmark
CATEGORIES:Wellness
ORGANIZER;CN="Haraldslund":MAILTO:haraldslund@aalborg.dk
END:VEVENT
BEGIN:VEVENT
DTSTART;TZID=Europe/Copenhagen:20270522T120000
DTEND;TZID=Europe/Copenhagen:20270522T121500
DTSTAMP:20260424T174207
CREATED:20260223T065538Z
LAST-MODIFIED:20260330T105402Z
UID:10050276-1810987200-1810988100@haraldslund.com
SUMMARY:Saunagus
DESCRIPTION:
URL:https://haraldslund.com/event/saunagus/2027-05-22/
LOCATION:Haraldslund Vand- og kulturhus\, Kastetvej 83\, Aalborg\, 9000\, Denmark
CATEGORIES:Svømmehal,Wellness
ORGANIZER;CN="Haraldslund":MAILTO:haraldslund@aalborg.dk
END:VEVENT
BEGIN:VEVENT
DTSTART;TZID=Europe/Copenhagen:20270522T102000
DTEND;TZID=Europe/Copenhagen:20270522T105000
DTSTAMP:20260424T174207
CREATED:20250930T095352Z
LAST-MODIFIED:20251120T120845Z
UID:10037274-1810981200-1810983000@haraldslund.com
SUMMARY:Ansigtsyoga
DESCRIPTION:
URL:https://haraldslund.com/event/ansigtsyoga/2027-05-22/
LOCATION:Haraldslund Vand- og kulturhus\, Kastetvej 83\, Aalborg\, 9000\, Denmark
CATEGORIES:Motionscenter
ORGANIZER;CN="Haraldslund":MAILTO:haraldslund@aalborg.dk
END:VEVENT
BEGIN:VEVENT
DTSTART;TZID=Europe/Copenhagen:20270522T101000
DTEND;TZID=Europe/Copenhagen:20270522T104000
DTSTAMP:20260424T174207
CREATED:20251205T083722Z
LAST-MODIFIED:20251205T083722Z
UID:10046757-1810980600-1810982400@haraldslund.com
SUMMARY:AB attack
DESCRIPTION:
URL:https://haraldslund.com/event/ab-attack/2027-05-22/
LOCATION:Haraldslund Vand- og kulturhus\, Kastetvej 83\, Aalborg\, 9000\, Denmark
CATEGORIES:Motionscenter
ORGANIZER;CN="Haraldslund":MAILTO:haraldslund@aalborg.dk
END:VEVENT
END:VCALENDAR