BEGIN:VCALENDAR
VERSION:2.0
PRODID:-//Haraldslund - ECPv6.15.16.1//NONSGML v1.0//EN
CALSCALE:GREGORIAN
METHOD:PUBLISH
X-WR-CALNAME:Haraldslund
X-ORIGINAL-URL:https://haraldslund.com
X-WR-CALDESC:Begivenheder for Haraldslund
REFRESH-INTERVAL;VALUE=DURATION:PT1H
X-Robots-Tag:noindex
X-PUBLISHED-TTL:PT1H
BEGIN:VTIMEZONE
TZID:Europe/Copenhagen
BEGIN:DAYLIGHT
TZOFFSETFROM:+0100
TZOFFSETTO:+0200
TZNAME:CEST
DTSTART:20260329T010000
END:DAYLIGHT
BEGIN:STANDARD
TZOFFSETFROM:+0200
TZOFFSETTO:+0100
TZNAME:CET
DTSTART:20261025T010000
END:STANDARD
BEGIN:DAYLIGHT
TZOFFSETFROM:+0100
TZOFFSETTO:+0200
TZNAME:CEST
DTSTART:20270328T010000
END:DAYLIGHT
BEGIN:STANDARD
TZOFFSETFROM:+0200
TZOFFSETTO:+0100
TZNAME:CET
DTSTART:20271031T010000
END:STANDARD
BEGIN:DAYLIGHT
TZOFFSETFROM:+0100
TZOFFSETTO:+0200
TZNAME:CEST
DTSTART:20280326T010000
END:DAYLIGHT
BEGIN:STANDARD
TZOFFSETFROM:+0200
TZOFFSETTO:+0100
TZNAME:CET
DTSTART:20281029T010000
END:STANDARD
END:VTIMEZONE
BEGIN:VEVENT
DTSTART;TZID=Europe/Copenhagen:20270515T140000
DTEND;TZID=Europe/Copenhagen:20270515T141500
DTSTAMP:20260424T035902
CREATED:20250929T084523Z
LAST-MODIFIED:20260330T105546Z
UID:10048374-1810389600-1810390500@haraldslund.com
SUMMARY:Saunagus
DESCRIPTION:
URL:https://haraldslund.com/event/saunagus-kl-14-00/2027-05-15/
LOCATION:Haraldslund Vand- og kulturhus\, Kastetvej 83\, Aalborg\, 9000\, Denmark
CATEGORIES:Wellness
ORGANIZER;CN="Haraldslund":MAILTO:haraldslund@aalborg.dk
END:VEVENT
BEGIN:VEVENT
DTSTART;TZID=Europe/Copenhagen:20270515T120000
DTEND;TZID=Europe/Copenhagen:20270515T121500
DTSTAMP:20260424T035902
CREATED:20260223T065538Z
LAST-MODIFIED:20260330T105402Z
UID:10050274-1810382400-1810383300@haraldslund.com
SUMMARY:Saunagus
DESCRIPTION:
URL:https://haraldslund.com/event/saunagus/2027-05-15/
LOCATION:Haraldslund Vand- og kulturhus\, Kastetvej 83\, Aalborg\, 9000\, Denmark
CATEGORIES:Svømmehal,Wellness
ORGANIZER;CN="Haraldslund":MAILTO:haraldslund@aalborg.dk
END:VEVENT
BEGIN:VEVENT
DTSTART;TZID=Europe/Copenhagen:20270515T102000
DTEND;TZID=Europe/Copenhagen:20270515T105000
DTSTAMP:20260424T035902
CREATED:20250930T095352Z
LAST-MODIFIED:20251120T120845Z
UID:10037273-1810376400-1810378200@haraldslund.com
SUMMARY:Ansigtsyoga
DESCRIPTION:
URL:https://haraldslund.com/event/ansigtsyoga/2027-05-15/
LOCATION:Haraldslund Vand- og kulturhus\, Kastetvej 83\, Aalborg\, 9000\, Denmark
CATEGORIES:Motionscenter
ORGANIZER;CN="Haraldslund":MAILTO:haraldslund@aalborg.dk
END:VEVENT
BEGIN:VEVENT
DTSTART;TZID=Europe/Copenhagen:20270515T101000
DTEND;TZID=Europe/Copenhagen:20270515T104000
DTSTAMP:20260424T035902
CREATED:20251205T083722Z
LAST-MODIFIED:20251205T083722Z
UID:10046756-1810375800-1810377600@haraldslund.com
SUMMARY:AB attack
DESCRIPTION:
URL:https://haraldslund.com/event/ab-attack/2027-05-15/
LOCATION:Haraldslund Vand- og kulturhus\, Kastetvej 83\, Aalborg\, 9000\, Denmark
CATEGORIES:Motionscenter
ORGANIZER;CN="Haraldslund":MAILTO:haraldslund@aalborg.dk
END:VEVENT
BEGIN:VEVENT
DTSTART;TZID=Europe/Copenhagen:20270515T100000
DTEND;TZID=Europe/Copenhagen:20270515T101500
DTSTAMP:20260424T035902
CREATED:20260223T065913Z
LAST-MODIFIED:20260330T105201Z
UID:10050839-1810375200-1810376100@haraldslund.com
SUMMARY:Saunagus
DESCRIPTION:
URL:https://haraldslund.com/event/saunagus-2/2027-05-15/
LOCATION:Haraldslund Vand- og kulturhus\, Kastetvej 83\, Aalborg\, 9000\, Denmark
CATEGORIES:Svømmehal,Wellness
ORGANIZER;CN="Haraldslund":MAILTO:haraldslund@aalborg.dk
END:VEVENT
BEGIN:VEVENT
DTSTART;TZID=Europe/Copenhagen:20270515T090000
DTEND;TZID=Europe/Copenhagen:20270515T101000
DTSTAMP:20260424T035902
CREATED:20250930T095156Z
LAST-MODIFIED:20251001T080029Z
UID:10028617-1810371600-1810375800@haraldslund.com
SUMMARY:Hatha yoga
DESCRIPTION:
URL:https://haraldslund.com/event/hatha-yoga/2027-05-15/
LOCATION:Haraldslund Vand- og kulturhus\, Kastetvej 83\, Aalborg\, 9000\, Denmark
CATEGORIES:Motionscenter
ORGANIZER;CN="Haraldslund":MAILTO:haraldslund@aalborg.dk
END:VEVENT
BEGIN:VEVENT
DTSTART;TZID=Europe/Copenhagen:20270515T090000
DTEND;TZID=Europe/Copenhagen:20270515T100000
DTSTAMP:20260424T035902
CREATED:20250930T095023Z
LAST-MODIFIED:20251001T080206Z
UID:10028252-1810371600-1810375200@haraldslund.com
SUMMARY:Stram op
DESCRIPTION:
URL:https://haraldslund.com/event/stram-op-2/2027-05-15/
LOCATION:Haraldslund Vand- og kulturhus\, Kastetvej 83\, Aalborg\, 9000\, Denmark
CATEGORIES:Motionscenter
ORGANIZER;CN="Haraldslund":MAILTO:haraldslund@aalborg.dk
END:VEVENT
BEGIN:VEVENT
DTSTART;TZID=Europe/Copenhagen:20270514T160000
DTEND;TZID=Europe/Copenhagen:20270514T171500
DTSTAMP:20260424T035902
CREATED:20250930T094756Z
LAST-MODIFIED:20260330T113406Z
UID:10027870-1810310400-1810314900@haraldslund.com
SUMMARY:Yin yoga
DESCRIPTION:
URL:https://haraldslund.com/event/yin-yoga/2027-05-14/
LOCATION:Haraldslund Vand- og kulturhus\, Kastetvej 83\, Aalborg\, 9000\, Denmark
CATEGORIES:Motionscenter
ORGANIZER;CN="Haraldslund":MAILTO:haraldslund@aalborg.dk
END:VEVENT
BEGIN:VEVENT
DTSTART;TZID=Europe/Copenhagen:20270514T154500
DTEND;TZID=Europe/Copenhagen:20270514T170000
DTSTAMP:20260424T035902
CREATED:20250929T092105Z
LAST-MODIFIED:20260413T074248Z
UID:10012521-1810309500-1810314000@haraldslund.com
SUMMARY:Temagus
DESCRIPTION:
URL:https://haraldslund.com/event/temagus-15-45/2027-05-14/
LOCATION:Haraldslund Vand- og kulturhus\, Kastetvej 83\, Aalborg\, 9000\, Denmark
CATEGORIES:Wellness
ORGANIZER;CN="Haraldslund":MAILTO:haraldslund@aalborg.dk
END:VEVENT
BEGIN:VEVENT
DTSTART;TZID=Europe/Copenhagen:20270514T144500
DTEND;TZID=Europe/Copenhagen:20270514T153500
DTSTAMP:20260424T035902
CREATED:20250930T094656Z
LAST-MODIFIED:20260330T113337Z
UID:10027505-1810305900-1810308900@haraldslund.com
SUMMARY:Jumping fitness
DESCRIPTION:
URL:https://haraldslund.com/event/jumping-fitness-3/2027-05-14/
LOCATION:Haraldslund Vand- og kulturhus\, Kastetvej 83\, Aalborg\, 9000\, Denmark
CATEGORIES:Motionscenter
ORGANIZER;CN="Haraldslund":MAILTO:haraldslund@aalborg.dk
END:VEVENT
BEGIN:VEVENT
DTSTART;TZID=Europe/Copenhagen:20270514T113000
DTEND;TZID=Europe/Copenhagen:20270514T114500
DTSTAMP:20260424T035902
CREATED:20250929T090821Z
LAST-MODIFIED:20260330T113216Z
UID:10012155-1810294200-1810295100@haraldslund.com
SUMMARY:Saunagus
DESCRIPTION:
URL:https://haraldslund.com/event/saunagus-kl-11-30/2027-05-14/
LOCATION:Haraldslund Vand- og kulturhus\, Kastetvej 83\, Aalborg\, 9000\, Denmark
CATEGORIES:Wellness
ORGANIZER;CN="Haraldslund":MAILTO:haraldslund@aalborg.dk
END:VEVENT
BEGIN:VEVENT
DTSTART;TZID=Europe/Copenhagen:20270514T110000
DTEND;TZID=Europe/Copenhagen:20270514T111500
DTSTAMP:20260424T035902
CREATED:20250929T090221Z
LAST-MODIFIED:20260330T113145Z
UID:10037772-1810292400-1810293300@haraldslund.com
SUMMARY:Saunagus
DESCRIPTION:
URL:https://haraldslund.com/event/saunagus-kl-11-00/2027-05-14/
LOCATION:Haraldslund Vand- og kulturhus\, Kastetvej 83\, Aalborg\, 9000\, Denmark
CATEGORIES:Wellness
ORGANIZER;CN="Haraldslund":MAILTO:haraldslund@aalborg.dk
END:VEVENT
BEGIN:VEVENT
DTSTART;TZID=Europe/Copenhagen:20270514T100000
DTEND;TZID=Europe/Copenhagen:20270514T104500
DTSTAMP:20260424T035902
CREATED:20250930T094517Z
LAST-MODIFIED:20251001T080414Z
UID:10027140-1810288800-1810291500@haraldslund.com
SUMMARY:Vandgymnastik
DESCRIPTION:
URL:https://haraldslund.com/event/vandgymnastik-4/2027-05-14/
LOCATION:Haraldslund Vand- og kulturhus\, Kastetvej 83\, Aalborg\, 9000\, Denmark
CATEGORIES:Svømmehal
ORGANIZER;CN="Haraldslund":MAILTO:haraldslund@aalborg.dk
END:VEVENT
BEGIN:VEVENT
DTSTART;TZID=Europe/Copenhagen:20270514T091500
DTEND;TZID=Europe/Copenhagen:20270514T100000
DTSTAMP:20260424T035902
CREATED:20251104T113920Z
LAST-MODIFIED:20260330T104413Z
UID:10045230-1810286100-1810288800@haraldslund.com
SUMMARY:Skolesvømning
DESCRIPTION:
URL:https://haraldslund.com/event/skolesvoemning-6/2027-05-14/
LOCATION:Haraldslund Vand- og kulturhus\, Kastetvej 83\, Aalborg\, 9000\, Denmark
CATEGORIES:Svømmehal
ORGANIZER;CN="Haraldslund":MAILTO:haraldslund@aalborg.dk
END:VEVENT
BEGIN:VEVENT
DTSTART;TZID=Europe/Copenhagen:20270514T090000
DTEND;TZID=Europe/Copenhagen:20270514T110000
DTSTAMP:20260424T035902
CREATED:20250930T113821Z
LAST-MODIFIED:20260330T111407Z
UID:10035526-1810285200-1810292400@haraldslund.com
SUMMARY:Sundhed i bevægelse
DESCRIPTION:
URL:https://haraldslund.com/event/sib-traening/2027-05-14/
LOCATION:Haraldslund Vand- og kulturhus\, Kastetvej 83\, Aalborg\, 9000\, Denmark
CATEGORIES:Sundhed i Bevægelse
ORGANIZER;CN="Haraldslund":MAILTO:haraldslund@aalborg.dk
END:VEVENT
BEGIN:VEVENT
DTSTART;TZID=Europe/Copenhagen:20270514T090000
DTEND;TZID=Europe/Copenhagen:20270514T094500
DTSTAMP:20260424T035902
CREATED:20250930T094245Z
LAST-MODIFIED:20260330T113023Z
UID:10026776-1810285200-1810287900@haraldslund.com
SUMMARY:Vandgymnastik
DESCRIPTION:
URL:https://haraldslund.com/event/vandgymnastik-3/2027-05-14/
LOCATION:Haraldslund Vand- og kulturhus\, Kastetvej 83\, Aalborg\, 9000\, Denmark
CATEGORIES:Svømmehal
ORGANIZER;CN="Haraldslund":MAILTO:haraldslund@aalborg.dk
END:VEVENT
BEGIN:VEVENT
DTSTART;TZID=Europe/Copenhagen:20270514T084500
DTEND;TZID=Europe/Copenhagen:20270514T093500
DTSTAMP:20260424T035902
CREATED:20251010T100437Z
LAST-MODIFIED:20251205T082856Z
UID:10026411-1810284300-1810287300@haraldslund.com
SUMMARY:Switching
DESCRIPTION:
URL:https://haraldslund.com/event/switching-2-2/2027-05-14/
LOCATION:Haraldslund Vand- og kulturhus\, Kastetvej 83\, Aalborg\, 9000\, Denmark
CATEGORIES:Motionscenter
ORGANIZER;CN="Haraldslund":MAILTO:haraldslund@aalborg.dk
END:VEVENT
BEGIN:VEVENT
DTSTART;TZID=Europe/Copenhagen:20270514T080000
DTEND;TZID=Europe/Copenhagen:20270514T085000
DTSTAMP:20260424T035902
CREATED:20260423T064915Z
LAST-MODIFIED:20260423T064915Z
UID:10052928-1810281600-1810284600@haraldslund.com
SUMMARY:Pilates
DESCRIPTION:
URL:https://haraldslund.com/event/pilates-2/2027-05-14/
LOCATION:Haraldslund Vand- og kulturhus\, Kastetvej 83\, Aalborg\, 9000\, Denmark
CATEGORIES:Motionscenter
ORGANIZER;CN="Haraldslund":MAILTO:haraldslund@aalborg.dk
END:VEVENT
BEGIN:VEVENT
DTSTART;TZID=Europe/Copenhagen:20270514T073000
DTEND;TZID=Europe/Copenhagen:20270514T074500
DTSTAMP:20260424T035902
CREATED:20251003T074251Z
LAST-MODIFIED:20260330T112921Z
UID:10038822-1810279800-1810280700@haraldslund.com
SUMMARY:Saunagus
DESCRIPTION:
URL:https://haraldslund.com/event/saunagus-7-30-2-4/2027-05-14/
CATEGORIES:Wellness
END:VEVENT
BEGIN:VEVENT
DTSTART;TZID=Europe/Copenhagen:20270513T190000
DTEND;TZID=Europe/Copenhagen:20270513T191500
DTSTAMP:20260424T035902
CREATED:20250929T090017Z
LAST-MODIFIED:20260330T110649Z
UID:10011138-1810234800-1810235700@haraldslund.com
SUMMARY:Saunagus
DESCRIPTION:
URL:https://haraldslund.com/event/saunagus-kl-19-00/2027-05-13/
LOCATION:Haraldslund Vand- og kulturhus\, Kastetvej 83\, Aalborg\, 9000\, Denmark
CATEGORIES:Wellness
ORGANIZER;CN="Haraldslund":MAILTO:haraldslund@aalborg.dk
END:VEVENT
BEGIN:VEVENT
DTSTART;TZID=Europe/Copenhagen:20270513T180000
DTEND;TZID=Europe/Copenhagen:20270513T190000
DTSTAMP:20260424T035902
CREATED:20250929T112622Z
LAST-MODIFIED:20260331T064727Z
UID:10020039-1810231200-1810234800@haraldslund.com
SUMMARY:Bodybike 1
DESCRIPTION:
URL:https://haraldslund.com/event/bodybike-1-3/2027-05-13/
LOCATION:Haraldslund Vand- og kulturhus\, Kastetvej 83\, Aalborg\, 9000\, Denmark
CATEGORIES:Motionscenter
ORGANIZER;CN="Haraldslund":MAILTO:haraldslund@aalborg.dk
END:VEVENT
BEGIN:VEVENT
DTSTART;TZID=Europe/Copenhagen:20270513T170000
DTEND;TZID=Europe/Copenhagen:20270513T180000
DTSTAMP:20260424T035902
CREATED:20260129T075100Z
LAST-MODIFIED:20260331T064503Z
UID:10047799-1810227600-1810231200@haraldslund.com
SUMMARY:Crosstræning
DESCRIPTION:
URL:https://haraldslund.com/event/crosstraening/2027-05-13/
LOCATION:Haraldslund Vand- og kulturhus\, Kastetvej 83\, Aalborg\, 9000\, Denmark
CATEGORIES:Motionscenter
ORGANIZER;CN="Haraldslund":MAILTO:haraldslund@aalborg.dk
END:VEVENT
BEGIN:VEVENT
DTSTART;TZID=Europe/Copenhagen:20270513T170000
DTEND;TZID=Europe/Copenhagen:20270513T175000
DTSTAMP:20260424T035902
CREATED:20250929T111112Z
LAST-MODIFIED:20260330T115132Z
UID:10018318-1810227600-1810230600@haraldslund.com
SUMMARY:Jumping fitness
DESCRIPTION:
URL:https://haraldslund.com/event/jumping-fitness-2/2027-05-13/
LOCATION:Haraldslund Vand- og kulturhus\, Kastetvej 83\, Aalborg\, 9000\, Denmark
CATEGORIES:Motionscenter
ORGANIZER;CN="Haraldslund":MAILTO:haraldslund@aalborg.dk
END:VEVENT
BEGIN:VEVENT
DTSTART;TZID=Europe/Copenhagen:20270513T170000
DTEND;TZID=Europe/Copenhagen:20270513T174500
DTSTAMP:20260424T035902
CREATED:20250930T092819Z
LAST-MODIFIED:20260331T064413Z
UID:10026046-1810227600-1810230300@haraldslund.com
SUMMARY:Vandgymnastik
DESCRIPTION:
URL:https://haraldslund.com/event/vandgymnastik-2/2027-05-13/
LOCATION:Haraldslund Vand- og kulturhus\, Kastetvej 83\, Aalborg\, 9000\, Denmark
CATEGORIES:Svømmehal
ORGANIZER;CN="Haraldslund":MAILTO:haraldslund@aalborg.dk
END:VEVENT
BEGIN:VEVENT
DTSTART;TZID=Europe/Copenhagen:20270513T163000
DTEND;TZID=Europe/Copenhagen:20270513T164500
DTSTAMP:20260424T035902
CREATED:20250929T084722Z
LAST-MODIFIED:20260330T110511Z
UID:10009118-1810225800-1810226700@haraldslund.com
SUMMARY:Saunagus
DESCRIPTION:
URL:https://haraldslund.com/event/saunagus-kl-16-30/2027-05-13/
LOCATION:Haraldslund Vand- og kulturhus\, Kastetvej 83\, Aalborg\, 9000\, Denmark
CATEGORIES:Wellness
ORGANIZER;CN="Haraldslund":MAILTO:haraldslund@aalborg.dk
END:VEVENT
BEGIN:VEVENT
DTSTART;TZID=Europe/Copenhagen:20270513T160000
DTEND;TZID=Europe/Copenhagen:20270513T165000
DTSTAMP:20260424T035902
CREATED:20250930T092628Z
LAST-MODIFIED:20251001T083306Z
UID:10024951-1810224000-1810227000@haraldslund.com
SUMMARY:Styrke\, core og stabilitet
DESCRIPTION:
URL:https://haraldslund.com/event/styrke-core-og-stabilitet/2027-05-13/
LOCATION:Haraldslund Vand- og kulturhus\, Kastetvej 83\, Aalborg\, 9000\, Denmark
CATEGORIES:Motionscenter
ORGANIZER;CN="Haraldslund":MAILTO:haraldslund@aalborg.dk
END:VEVENT
BEGIN:VEVENT
DTSTART;TZID=Europe/Copenhagen:20270513T140000
DTEND;TZID=Europe/Copenhagen:20270513T141500
DTSTAMP:20260424T035902
CREATED:20250929T084523Z
LAST-MODIFIED:20260330T105546Z
UID:10007379-1810216800-1810217700@haraldslund.com
SUMMARY:Saunagus
DESCRIPTION:
URL:https://haraldslund.com/event/saunagus-kl-14-00/2027-05-13/
LOCATION:Haraldslund Vand- og kulturhus\, Kastetvej 83\, Aalborg\, 9000\, Denmark
CATEGORIES:Wellness
ORGANIZER;CN="Haraldslund":MAILTO:haraldslund@aalborg.dk
END:VEVENT
BEGIN:VEVENT
DTSTART;TZID=Europe/Copenhagen:20270513T133000
DTEND;TZID=Europe/Copenhagen:20270513T150000
DTSTAMP:20260424T035902
CREATED:20251104T113413Z
LAST-MODIFIED:20260330T111926Z
UID:10044971-1810215000-1810220400@haraldslund.com
SUMMARY:Skolesvømning
DESCRIPTION:
URL:https://haraldslund.com/event/skolesvoemning-5/2027-05-13/
LOCATION:Haraldslund Vand- og kulturhus\, Kastetvej 83\, Aalborg\, 9000\, Denmark
CATEGORIES:Svømmehal
ORGANIZER;CN="Haraldslund":MAILTO:haraldslund@aalborg.dk
END:VEVENT
BEGIN:VEVENT
DTSTART;TZID=Europe/Copenhagen:20270513T130000
DTEND;TZID=Europe/Copenhagen:20270513T134500
DTSTAMP:20260424T035902
CREATED:20250930T104349Z
LAST-MODIFIED:20260330T112104Z
UID:10032797-1810213200-1810215900@haraldslund.com
SUMMARY:Vandgymnastik specialhold
DESCRIPTION:
URL:https://haraldslund.com/event/vandgymnastik-specialhold/2027-05-13/
LOCATION:Haraldslund Vand- og kulturhus\, Kastetvej 83\, Aalborg\, 9000\, Denmark
CATEGORIES:Svømmehal
ORGANIZER;CN="Haraldslund":MAILTO:haraldslund@aalborg.dk
END:VEVENT
BEGIN:VEVENT
DTSTART;TZID=Europe/Copenhagen:20270513T120000
DTEND;TZID=Europe/Copenhagen:20270513T124500
DTSTAMP:20260424T035902
CREATED:20250930T105139Z
LAST-MODIFIED:20260330T111634Z
UID:10034456-1810209600-1810212300@haraldslund.com
SUMMARY:Vandgymnastik specialhold
DESCRIPTION:
URL:https://haraldslund.com/event/vandgymnastik-specialhold-3/2027-05-13/
LOCATION:Haraldslund Vand- og kulturhus\, Kastetvej 83\, Aalborg\, 9000\, Denmark
CATEGORIES:Svømmehal
ORGANIZER;CN="Haraldslund":MAILTO:haraldslund@aalborg.dk
END:VEVENT
END:VCALENDAR