BEGIN:VCALENDAR
VERSION:2.0
PRODID:-//Haraldslund - ECPv6.15.16.1//NONSGML v1.0//EN
CALSCALE:GREGORIAN
METHOD:PUBLISH
X-WR-CALNAME:Haraldslund
X-ORIGINAL-URL:https://haraldslund.com
X-WR-CALDESC:Begivenheder for Haraldslund
REFRESH-INTERVAL;VALUE=DURATION:PT1H
X-Robots-Tag:noindex
X-PUBLISHED-TTL:PT1H
BEGIN:VTIMEZONE
TZID:Europe/Copenhagen
BEGIN:DAYLIGHT
TZOFFSETFROM:+0100
TZOFFSETTO:+0200
TZNAME:CEST
DTSTART:20260329T010000
END:DAYLIGHT
BEGIN:STANDARD
TZOFFSETFROM:+0200
TZOFFSETTO:+0100
TZNAME:CET
DTSTART:20261025T010000
END:STANDARD
BEGIN:DAYLIGHT
TZOFFSETFROM:+0100
TZOFFSETTO:+0200
TZNAME:CEST
DTSTART:20270328T010000
END:DAYLIGHT
BEGIN:STANDARD
TZOFFSETFROM:+0200
TZOFFSETTO:+0100
TZNAME:CET
DTSTART:20271031T010000
END:STANDARD
BEGIN:DAYLIGHT
TZOFFSETFROM:+0100
TZOFFSETTO:+0200
TZNAME:CEST
DTSTART:20280326T010000
END:DAYLIGHT
BEGIN:STANDARD
TZOFFSETFROM:+0200
TZOFFSETTO:+0100
TZNAME:CET
DTSTART:20281029T010000
END:STANDARD
END:VTIMEZONE
BEGIN:VEVENT
DTSTART;TZID=Europe/Copenhagen:20270513T190000
DTEND;TZID=Europe/Copenhagen:20270513T191500
DTSTAMP:20260424T011731
CREATED:20250929T090017Z
LAST-MODIFIED:20260330T110649Z
UID:10011138-1810234800-1810235700@haraldslund.com
SUMMARY:Saunagus
DESCRIPTION:
URL:https://haraldslund.com/event/saunagus-kl-19-00/2027-05-13/
LOCATION:Haraldslund Vand- og kulturhus\, Kastetvej 83\, Aalborg\, 9000\, Denmark
CATEGORIES:Wellness
ORGANIZER;CN="Haraldslund":MAILTO:haraldslund@aalborg.dk
END:VEVENT
BEGIN:VEVENT
DTSTART;TZID=Europe/Copenhagen:20270513T180000
DTEND;TZID=Europe/Copenhagen:20270513T190000
DTSTAMP:20260424T011731
CREATED:20250929T112622Z
LAST-MODIFIED:20260331T064727Z
UID:10020039-1810231200-1810234800@haraldslund.com
SUMMARY:Bodybike 1
DESCRIPTION:
URL:https://haraldslund.com/event/bodybike-1-3/2027-05-13/
LOCATION:Haraldslund Vand- og kulturhus\, Kastetvej 83\, Aalborg\, 9000\, Denmark
CATEGORIES:Motionscenter
ORGANIZER;CN="Haraldslund":MAILTO:haraldslund@aalborg.dk
END:VEVENT
BEGIN:VEVENT
DTSTART;TZID=Europe/Copenhagen:20270513T170000
DTEND;TZID=Europe/Copenhagen:20270513T180000
DTSTAMP:20260424T011731
CREATED:20260129T075100Z
LAST-MODIFIED:20260331T064503Z
UID:10047799-1810227600-1810231200@haraldslund.com
SUMMARY:Crosstræning
DESCRIPTION:
URL:https://haraldslund.com/event/crosstraening/2027-05-13/
LOCATION:Haraldslund Vand- og kulturhus\, Kastetvej 83\, Aalborg\, 9000\, Denmark
CATEGORIES:Motionscenter
ORGANIZER;CN="Haraldslund":MAILTO:haraldslund@aalborg.dk
END:VEVENT
BEGIN:VEVENT
DTSTART;TZID=Europe/Copenhagen:20270513T170000
DTEND;TZID=Europe/Copenhagen:20270513T175000
DTSTAMP:20260424T011731
CREATED:20250929T111112Z
LAST-MODIFIED:20260330T115132Z
UID:10018318-1810227600-1810230600@haraldslund.com
SUMMARY:Jumping fitness
DESCRIPTION:
URL:https://haraldslund.com/event/jumping-fitness-2/2027-05-13/
LOCATION:Haraldslund Vand- og kulturhus\, Kastetvej 83\, Aalborg\, 9000\, Denmark
CATEGORIES:Motionscenter
ORGANIZER;CN="Haraldslund":MAILTO:haraldslund@aalborg.dk
END:VEVENT
BEGIN:VEVENT
DTSTART;TZID=Europe/Copenhagen:20270513T170000
DTEND;TZID=Europe/Copenhagen:20270513T174500
DTSTAMP:20260424T011731
CREATED:20250930T092819Z
LAST-MODIFIED:20260331T064413Z
UID:10026046-1810227600-1810230300@haraldslund.com
SUMMARY:Vandgymnastik
DESCRIPTION:
URL:https://haraldslund.com/event/vandgymnastik-2/2027-05-13/
LOCATION:Haraldslund Vand- og kulturhus\, Kastetvej 83\, Aalborg\, 9000\, Denmark
CATEGORIES:Svømmehal
ORGANIZER;CN="Haraldslund":MAILTO:haraldslund@aalborg.dk
END:VEVENT
BEGIN:VEVENT
DTSTART;TZID=Europe/Copenhagen:20270513T163000
DTEND;TZID=Europe/Copenhagen:20270513T164500
DTSTAMP:20260424T011731
CREATED:20250929T084722Z
LAST-MODIFIED:20260330T110511Z
UID:10009118-1810225800-1810226700@haraldslund.com
SUMMARY:Saunagus
DESCRIPTION:
URL:https://haraldslund.com/event/saunagus-kl-16-30/2027-05-13/
LOCATION:Haraldslund Vand- og kulturhus\, Kastetvej 83\, Aalborg\, 9000\, Denmark
CATEGORIES:Wellness
ORGANIZER;CN="Haraldslund":MAILTO:haraldslund@aalborg.dk
END:VEVENT
BEGIN:VEVENT
DTSTART;TZID=Europe/Copenhagen:20270513T160000
DTEND;TZID=Europe/Copenhagen:20270513T165000
DTSTAMP:20260424T011731
CREATED:20250930T092628Z
LAST-MODIFIED:20251001T083306Z
UID:10024951-1810224000-1810227000@haraldslund.com
SUMMARY:Styrke\, core og stabilitet
DESCRIPTION:
URL:https://haraldslund.com/event/styrke-core-og-stabilitet/2027-05-13/
LOCATION:Haraldslund Vand- og kulturhus\, Kastetvej 83\, Aalborg\, 9000\, Denmark
CATEGORIES:Motionscenter
ORGANIZER;CN="Haraldslund":MAILTO:haraldslund@aalborg.dk
END:VEVENT
BEGIN:VEVENT
DTSTART;TZID=Europe/Copenhagen:20270513T140000
DTEND;TZID=Europe/Copenhagen:20270513T141500
DTSTAMP:20260424T011731
CREATED:20250929T084523Z
LAST-MODIFIED:20260330T105546Z
UID:10007379-1810216800-1810217700@haraldslund.com
SUMMARY:Saunagus
DESCRIPTION:
URL:https://haraldslund.com/event/saunagus-kl-14-00/2027-05-13/
LOCATION:Haraldslund Vand- og kulturhus\, Kastetvej 83\, Aalborg\, 9000\, Denmark
CATEGORIES:Wellness
ORGANIZER;CN="Haraldslund":MAILTO:haraldslund@aalborg.dk
END:VEVENT
BEGIN:VEVENT
DTSTART;TZID=Europe/Copenhagen:20270513T133000
DTEND;TZID=Europe/Copenhagen:20270513T150000
DTSTAMP:20260424T011731
CREATED:20251104T113413Z
LAST-MODIFIED:20260330T111926Z
UID:10044971-1810215000-1810220400@haraldslund.com
SUMMARY:Skolesvømning
DESCRIPTION:
URL:https://haraldslund.com/event/skolesvoemning-5/2027-05-13/
LOCATION:Haraldslund Vand- og kulturhus\, Kastetvej 83\, Aalborg\, 9000\, Denmark
CATEGORIES:Svømmehal
ORGANIZER;CN="Haraldslund":MAILTO:haraldslund@aalborg.dk
END:VEVENT
BEGIN:VEVENT
DTSTART;TZID=Europe/Copenhagen:20270513T130000
DTEND;TZID=Europe/Copenhagen:20270513T134500
DTSTAMP:20260424T011731
CREATED:20250930T104349Z
LAST-MODIFIED:20260330T112104Z
UID:10032797-1810213200-1810215900@haraldslund.com
SUMMARY:Vandgymnastik specialhold
DESCRIPTION:
URL:https://haraldslund.com/event/vandgymnastik-specialhold/2027-05-13/
LOCATION:Haraldslund Vand- og kulturhus\, Kastetvej 83\, Aalborg\, 9000\, Denmark
CATEGORIES:Svømmehal
ORGANIZER;CN="Haraldslund":MAILTO:haraldslund@aalborg.dk
END:VEVENT
BEGIN:VEVENT
DTSTART;TZID=Europe/Copenhagen:20270513T120000
DTEND;TZID=Europe/Copenhagen:20270513T124500
DTSTAMP:20260424T011731
CREATED:20250930T105139Z
LAST-MODIFIED:20260330T111634Z
UID:10034456-1810209600-1810212300@haraldslund.com
SUMMARY:Vandgymnastik specialhold
DESCRIPTION:
URL:https://haraldslund.com/event/vandgymnastik-specialhold-3/2027-05-13/
LOCATION:Haraldslund Vand- og kulturhus\, Kastetvej 83\, Aalborg\, 9000\, Denmark
CATEGORIES:Svømmehal
ORGANIZER;CN="Haraldslund":MAILTO:haraldslund@aalborg.dk
END:VEVENT
BEGIN:VEVENT
DTSTART;TZID=Europe/Copenhagen:20270513T103000
DTEND;TZID=Europe/Copenhagen:20270513T111500
DTSTAMP:20260424T011731
CREATED:20250929T100820Z
LAST-MODIFIED:20260330T113832Z
UID:10015245-1810204200-1810206900@haraldslund.com
SUMMARY:Vandgymnastik
DESCRIPTION:
URL:https://haraldslund.com/event/vandgymnastik-kl-10-30/2027-05-13/
LOCATION:Haraldslund Vand- og kulturhus\, Kastetvej 83\, Aalborg\, 9000\, Denmark
CATEGORIES:Svømmehal
ORGANIZER;CN="Haraldslund":MAILTO:haraldslund@aalborg.dk
END:VEVENT
BEGIN:VEVENT
DTSTART;TZID=Europe/Copenhagen:20270513T101500
DTEND;TZID=Europe/Copenhagen:20270513T103000
DTSTAMP:20260424T011731
CREATED:20251003T081347Z
LAST-MODIFIED:20260330T110253Z
UID:10040547-1810203300-1810204200@haraldslund.com
SUMMARY:Saunagus
DESCRIPTION:
URL:https://haraldslund.com/event/4198/2027-05-13/
LOCATION:Haraldslund Vand- og kulturhus\, Kastetvej 83\, Aalborg\, 9000\, Denmark
CATEGORIES:Wellness
ORGANIZER;CN="Haraldslund":MAILTO:haraldslund@aalborg.dk
END:VEVENT
BEGIN:VEVENT
DTSTART;TZID=Europe/Copenhagen:20270513T090000
DTEND;TZID=Europe/Copenhagen:20270513T110000
DTSTAMP:20260424T011731
CREATED:20250930T113821Z
LAST-MODIFIED:20260330T111407Z
UID:10035525-1810198800-1810206000@haraldslund.com
SUMMARY:Sundhed i bevægelse
DESCRIPTION:
URL:https://haraldslund.com/event/sib-traening/2027-05-13/
LOCATION:Haraldslund Vand- og kulturhus\, Kastetvej 83\, Aalborg\, 9000\, Denmark
CATEGORIES:Sundhed i Bevægelse
ORGANIZER;CN="Haraldslund":MAILTO:haraldslund@aalborg.dk
END:VEVENT
BEGIN:VEVENT
DTSTART;TZID=Europe/Copenhagen:20270513T083000
DTEND;TZID=Europe/Copenhagen:20270513T091500
DTSTAMP:20260424T011731
CREATED:20251104T113006Z
LAST-MODIFIED:20260330T111310Z
UID:10043755-1810197000-1810199700@haraldslund.com
SUMMARY:Skolesvømning
DESCRIPTION:
URL:https://haraldslund.com/event/skolesvoemning-4/2027-05-13/
LOCATION:Haraldslund Vand- og kulturhus\, Kastetvej 83\, Aalborg\, 9000\, Denmark
CATEGORIES:Svømmehal
ORGANIZER;CN="Haraldslund":MAILTO:haraldslund@aalborg.dk
END:VEVENT
BEGIN:VEVENT
DTSTART;TZID=Europe/Copenhagen:20270512T191000
DTEND;TZID=Europe/Copenhagen:20270512T201000
DTSTAMP:20260424T011731
CREATED:20250930T090845Z
LAST-MODIFIED:20260330T110922Z
UID:10024585-1810149000-1810152600@haraldslund.com
SUMMARY:Stram op
DESCRIPTION:
URL:https://haraldslund.com/event/stram-op/2027-05-12/
LOCATION:Haraldslund Vand- og kulturhus\, Kastetvej 83\, Aalborg\, 9000\, Denmark
CATEGORIES:Motionscenter
ORGANIZER;CN="Haraldslund":MAILTO:haraldslund@aalborg.dk
END:VEVENT
BEGIN:VEVENT
DTSTART;TZID=Europe/Copenhagen:20270512T181500
DTEND;TZID=Europe/Copenhagen:20270512T193000
DTSTAMP:20260424T011731
CREATED:20250929T085743Z
LAST-MODIFIED:20260330T114921Z
UID:10010408-1810145700-1810150200@haraldslund.com
SUMMARY:Temagus
DESCRIPTION:
URL:https://haraldslund.com/event/temagus-kl-18-15/2027-05-12/
LOCATION:Haraldslund Vand- og kulturhus\, Kastetvej 83\, Aalborg\, 9000\, Denmark
CATEGORIES:Wellness
ORGANIZER;CN="Haraldslund":MAILTO:haraldslund@aalborg.dk
END:VEVENT
BEGIN:VEVENT
DTSTART;TZID=Europe/Copenhagen:20270512T181000
DTEND;TZID=Europe/Copenhagen:20270512T190000
DTSTAMP:20260424T011731
CREATED:20250929T110435Z
LAST-MODIFIED:20260323T063531Z
UID:10017881-1810145400-1810148400@haraldslund.com
SUMMARY:Jumping Fitness
DESCRIPTION:
URL:https://haraldslund.com/event/jumping-fitness-kl-17-00/2027-05-12/
LOCATION:Haraldslund Vand- og kulturhus\, Kastetvej 83\, Aalborg\, 9000\, Denmark
CATEGORIES:Motionscenter
ORGANIZER;CN="Haraldslund":MAILTO:haraldslund@aalborg.dk
END:VEVENT
BEGIN:VEVENT
DTSTART;TZID=Europe/Copenhagen:20270512T170000
DTEND;TZID=Europe/Copenhagen:20270512T180000
DTSTAMP:20260424T011731
CREATED:20250930T090108Z
LAST-MODIFIED:20251023T110809Z
UID:10024219-1810141200-1810144800@haraldslund.com
SUMMARY:Crossdance
DESCRIPTION:
URL:https://haraldslund.com/event/crossdance/2027-05-12/
LOCATION:Haraldslund Vand- og kulturhus\, Kastetvej 83\, Aalborg\, 9000\, Denmark
CATEGORIES:Motionscenter
ORGANIZER;CN="Haraldslund":MAILTO:haraldslund@aalborg.dk
END:VEVENT
BEGIN:VEVENT
DTSTART;TZID=Europe/Copenhagen:20270512T170000
DTEND;TZID=Europe/Copenhagen:20270512T180000
DTSTAMP:20260424T011731
CREATED:20250929T112413Z
LAST-MODIFIED:20260331T064541Z
UID:10019674-1810141200-1810144800@haraldslund.com
SUMMARY:Bodybike 1
DESCRIPTION:
URL:https://haraldslund.com/event/bodybike-1-2/2027-05-12/
LOCATION:Haraldslund Vand- og kulturhus\, Kastetvej 83\, Aalborg\, 9000\, Denmark
CATEGORIES:Motionscenter
ORGANIZER;CN="Haraldslund":MAILTO:haraldslund@aalborg.dk
END:VEVENT
BEGIN:VEVENT
DTSTART;TZID=Europe/Copenhagen:20270512T163000
DTEND;TZID=Europe/Copenhagen:20270512T164500
DTSTAMP:20260424T011731
CREATED:20250929T084722Z
LAST-MODIFIED:20260330T110511Z
UID:10009117-1810139400-1810140300@haraldslund.com
SUMMARY:Saunagus
DESCRIPTION:
URL:https://haraldslund.com/event/saunagus-kl-16-30/2027-05-12/
LOCATION:Haraldslund Vand- og kulturhus\, Kastetvej 83\, Aalborg\, 9000\, Denmark
CATEGORIES:Wellness
ORGANIZER;CN="Haraldslund":MAILTO:haraldslund@aalborg.dk
END:VEVENT
BEGIN:VEVENT
DTSTART;TZID=Europe/Copenhagen:20270512T160000
DTEND;TZID=Europe/Copenhagen:20270512T165000
DTSTAMP:20260424T011731
CREATED:20250930T085445Z
LAST-MODIFIED:20251023T110654Z
UID:10023853-1810137600-1810140600@haraldslund.com
SUMMARY:Core og stabilitet
DESCRIPTION:
URL:https://haraldslund.com/event/core-og-stabilitet/2027-05-12/
LOCATION:Haraldslund Vand- og kulturhus\, Kastetvej 83\, Aalborg\, 9000\, Denmark
CATEGORIES:Motionscenter
ORGANIZER;CN="Haraldslund":MAILTO:haraldslund@aalborg.dk
END:VEVENT
BEGIN:VEVENT
DTSTART;TZID=Europe/Copenhagen:20270512T140000
DTEND;TZID=Europe/Copenhagen:20270512T141500
DTSTAMP:20260424T011731
CREATED:20250929T084523Z
LAST-MODIFIED:20260330T105546Z
UID:10007378-1810130400-1810131300@haraldslund.com
SUMMARY:Saunagus
DESCRIPTION:
URL:https://haraldslund.com/event/saunagus-kl-14-00/2027-05-12/
LOCATION:Haraldslund Vand- og kulturhus\, Kastetvej 83\, Aalborg\, 9000\, Denmark
CATEGORIES:Wellness
ORGANIZER;CN="Haraldslund":MAILTO:haraldslund@aalborg.dk
END:VEVENT
BEGIN:VEVENT
DTSTART;TZID=Europe/Copenhagen:20270512T134500
DTEND;TZID=Europe/Copenhagen:20270512T144500
DTSTAMP:20260424T011731
CREATED:20251105T100044Z
LAST-MODIFIED:20260330T111153Z
UID:10045751-1810129500-1810133100@haraldslund.com
SUMMARY:Skolesvømning
DESCRIPTION:
URL:https://haraldslund.com/event/skolesvoemning-2-2/2027-05-12/
CATEGORIES:Svømmehal
END:VEVENT
BEGIN:VEVENT
DTSTART;TZID=Europe/Copenhagen:20270512T130000
DTEND;TZID=Europe/Copenhagen:20270512T134500
DTSTAMP:20260424T011731
CREATED:20250930T104349Z
LAST-MODIFIED:20260330T112104Z
UID:10032796-1810126800-1810129500@haraldslund.com
SUMMARY:Vandgymnastik specialhold
DESCRIPTION:
URL:https://haraldslund.com/event/vandgymnastik-specialhold/2027-05-12/
LOCATION:Haraldslund Vand- og kulturhus\, Kastetvej 83\, Aalborg\, 9000\, Denmark
CATEGORIES:Svømmehal
ORGANIZER;CN="Haraldslund":MAILTO:haraldslund@aalborg.dk
END:VEVENT
BEGIN:VEVENT
DTSTART;TZID=Europe/Copenhagen:20270512T103000
DTEND;TZID=Europe/Copenhagen:20270512T111500
DTSTAMP:20260424T011731
CREATED:20250929T115150Z
LAST-MODIFIED:20251205T081919Z
UID:10023223-1810117800-1810120500@haraldslund.com
SUMMARY:Varmtvandstræning
DESCRIPTION:
URL:https://haraldslund.com/event/varmtvandstraening/2027-05-12/
LOCATION:Haraldslund Vand- og kulturhus\, Kastetvej 83\, Aalborg\, 9000\, Denmark
CATEGORIES:Svømmehal
ORGANIZER;CN="Haraldslund":MAILTO:haraldslund@aalborg.dk
END:VEVENT
BEGIN:VEVENT
DTSTART;TZID=Europe/Copenhagen:20270512T101500
DTEND;TZID=Europe/Copenhagen:20270512T103000
DTSTAMP:20260424T011731
CREATED:20251003T081347Z
LAST-MODIFIED:20260330T110253Z
UID:10040546-1810116900-1810117800@haraldslund.com
SUMMARY:Saunagus
DESCRIPTION:
URL:https://haraldslund.com/event/4198/2027-05-12/
LOCATION:Haraldslund Vand- og kulturhus\, Kastetvej 83\, Aalborg\, 9000\, Denmark
CATEGORIES:Wellness
ORGANIZER;CN="Haraldslund":MAILTO:haraldslund@aalborg.dk
END:VEVENT
BEGIN:VEVENT
DTSTART;TZID=Europe/Copenhagen:20270512T093000
DTEND;TZID=Europe/Copenhagen:20270512T103000
DTSTAMP:20260424T011731
CREATED:20250929T114741Z
LAST-MODIFIED:20251205T082421Z
UID:10022859-1810114200-1810117800@haraldslund.com
SUMMARY:Pilates
DESCRIPTION:
URL:https://haraldslund.com/event/pilates/2027-05-12/
LOCATION:Haraldslund Vand- og kulturhus\, Kastetvej 83\, Aalborg\, 9000\, Denmark
CATEGORIES:Motionscenter
ORGANIZER;CN="Haraldslund":MAILTO:haraldslund@aalborg.dk
END:VEVENT
BEGIN:VEVENT
DTSTART;TZID=Europe/Copenhagen:20270512T091500
DTEND;TZID=Europe/Copenhagen:20270512T100000
DTSTAMP:20260424T011731
CREATED:20250929T094650Z
LAST-MODIFIED:20260330T111051Z
UID:10014148-1810113300-1810116000@haraldslund.com
SUMMARY:Vandgymnastik
DESCRIPTION:
URL:https://haraldslund.com/event/vandgymnastik-kl-9-15/2027-05-12/
LOCATION:Haraldslund Vand- og kulturhus\, Kastetvej 83\, Aalborg\, 9000\, Denmark
CATEGORIES:Svømmehal
ORGANIZER;CN="Haraldslund":MAILTO:haraldslund@aalborg.dk
END:VEVENT
BEGIN:VEVENT
DTSTART;TZID=Europe/Copenhagen:20270512T090000
DTEND;TZID=Europe/Copenhagen:20270512T110000
DTSTAMP:20260424T011731
CREATED:20250930T113821Z
LAST-MODIFIED:20260330T111407Z
UID:10035524-1810112400-1810119600@haraldslund.com
SUMMARY:Sundhed i bevægelse
DESCRIPTION:
URL:https://haraldslund.com/event/sib-traening/2027-05-12/
LOCATION:Haraldslund Vand- og kulturhus\, Kastetvej 83\, Aalborg\, 9000\, Denmark
CATEGORIES:Sundhed i Bevægelse
ORGANIZER;CN="Haraldslund":MAILTO:haraldslund@aalborg.dk
END:VEVENT
END:VCALENDAR