BEGIN:VCALENDAR
VERSION:2.0
PRODID:-//Haraldslund - ECPv6.15.16.1//NONSGML v1.0//EN
CALSCALE:GREGORIAN
METHOD:PUBLISH
X-WR-CALNAME:Haraldslund
X-ORIGINAL-URL:https://haraldslund.com
X-WR-CALDESC:Begivenheder for Haraldslund
REFRESH-INTERVAL;VALUE=DURATION:PT1H
X-Robots-Tag:noindex
X-PUBLISHED-TTL:PT1H
BEGIN:VTIMEZONE
TZID:Europe/Copenhagen
BEGIN:DAYLIGHT
TZOFFSETFROM:+0100
TZOFFSETTO:+0200
TZNAME:CEST
DTSTART:20260329T010000
END:DAYLIGHT
BEGIN:STANDARD
TZOFFSETFROM:+0200
TZOFFSETTO:+0100
TZNAME:CET
DTSTART:20261025T010000
END:STANDARD
BEGIN:DAYLIGHT
TZOFFSETFROM:+0100
TZOFFSETTO:+0200
TZNAME:CEST
DTSTART:20270328T010000
END:DAYLIGHT
BEGIN:STANDARD
TZOFFSETFROM:+0200
TZOFFSETTO:+0100
TZNAME:CET
DTSTART:20271031T010000
END:STANDARD
BEGIN:DAYLIGHT
TZOFFSETFROM:+0100
TZOFFSETTO:+0200
TZNAME:CEST
DTSTART:20280326T010000
END:DAYLIGHT
BEGIN:STANDARD
TZOFFSETFROM:+0200
TZOFFSETTO:+0100
TZNAME:CET
DTSTART:20281029T010000
END:STANDARD
END:VTIMEZONE
BEGIN:VEVENT
DTSTART;TZID=Europe/Copenhagen:20270426T191000
DTEND;TZID=Europe/Copenhagen:20270426T201000
DTSTAMP:20260423T002635
CREATED:20250929T113437Z
LAST-MODIFIED:20260330T114555Z
UID:10021134-1808766600-1808770200@haraldslund.com
SUMMARY:Yoga
DESCRIPTION:
URL:https://haraldslund.com/event/yoga/2027-04-26/
LOCATION:Haraldslund Vand- og kulturhus\, Kastetvej 83\, Aalborg\, 9000\, Denmark
CATEGORIES:Motionscenter
ORGANIZER;CN="Haraldslund":MAILTO:haraldslund@aalborg.dk
END:VEVENT
BEGIN:VEVENT
DTSTART;TZID=Europe/Copenhagen:20270426T184500
DTEND;TZID=Europe/Copenhagen:20270426T193000
DTSTAMP:20260423T002635
CREATED:20250929T113227Z
LAST-MODIFIED:20260330T103944Z
UID:10020768-1808765100-1808767800@haraldslund.com
SUMMARY:Vandgymnastik
DESCRIPTION:
URL:https://haraldslund.com/event/vandgymnastik/2027-04-26/
LOCATION:Haraldslund Vand- og kulturhus\, Kastetvej 83\, Aalborg\, 9000\, Denmark
CATEGORIES:Svømmehal
ORGANIZER;CN="Haraldslund":MAILTO:haraldslund@aalborg.dk
END:VEVENT
BEGIN:VEVENT
DTSTART;TZID=Europe/Copenhagen:20270426T181500
DTEND;TZID=Europe/Copenhagen:20270426T193000
DTSTAMP:20260423T002635
CREATED:20250929T085743Z
LAST-MODIFIED:20260330T114921Z
UID:10010403-1808763300-1808767800@haraldslund.com
SUMMARY:Temagus
DESCRIPTION:
URL:https://haraldslund.com/event/temagus-kl-18-15/2027-04-26/
LOCATION:Haraldslund Vand- og kulturhus\, Kastetvej 83\, Aalborg\, 9000\, Denmark
CATEGORIES:Wellness
ORGANIZER;CN="Haraldslund":MAILTO:haraldslund@aalborg.dk
END:VEVENT
BEGIN:VEVENT
DTSTART;TZID=Europe/Copenhagen:20270426T181000
DTEND;TZID=Europe/Copenhagen:20270426T190000
DTSTAMP:20260423T002635
CREATED:20250929T113012Z
LAST-MODIFIED:20260330T101847Z
UID:10020402-1808763000-1808766000@haraldslund.com
SUMMARY:Stærk krop
DESCRIPTION:
URL:https://haraldslund.com/event/staerk-krop/2027-04-26/
LOCATION:Haraldslund Vand- og kulturhus\, Kastetvej 83\, Aalborg\, 9000\, Denmark
CATEGORIES:Motionscenter
ORGANIZER;CN="Haraldslund":MAILTO:haraldslund@aalborg.dk
END:VEVENT
BEGIN:VEVENT
DTSTART;TZID=Europe/Copenhagen:20270426T173000
DTEND;TZID=Europe/Copenhagen:20270426T183000
DTSTAMP:20260423T002635
CREATED:20250929T111823Z
LAST-MODIFIED:20260330T101820Z
UID:10018681-1808760600-1808764200@haraldslund.com
SUMMARY:Bodybike 1
DESCRIPTION:
URL:https://haraldslund.com/event/bodybike-1/2027-04-26/
LOCATION:Haraldslund Vand- og kulturhus\, Kastetvej 83\, Aalborg\, 9000\, Denmark
CATEGORIES:Motionscenter
ORGANIZER;CN="Haraldslund":MAILTO:haraldslund@aalborg.dk
END:VEVENT
BEGIN:VEVENT
DTSTART;TZID=Europe/Copenhagen:20270426T171000
DTEND;TZID=Europe/Copenhagen:20270426T180000
DTSTAMP:20260423T002635
CREATED:20250929T105054Z
LAST-MODIFIED:20260330T114844Z
UID:10016906-1808759400-1808762400@haraldslund.com
SUMMARY:Jumping Fitness
DESCRIPTION:
URL:https://haraldslund.com/event/jumping-fitness/2027-04-26/
LOCATION:Haraldslund Vand- og kulturhus\, Kastetvej 83\, Aalborg\, 9000\, Denmark
CATEGORIES:Motionscenter
ORGANIZER;CN="Haraldslund":MAILTO:haraldslund@aalborg.dk
END:VEVENT
BEGIN:VEVENT
DTSTART;TZID=Europe/Copenhagen:20270426T163000
DTEND;TZID=Europe/Copenhagen:20270426T164500
DTSTAMP:20260423T002635
CREATED:20250929T084722Z
LAST-MODIFIED:20260330T110511Z
UID:10009107-1808757000-1808757900@haraldslund.com
SUMMARY:Saunagus
DESCRIPTION:
URL:https://haraldslund.com/event/saunagus-kl-16-30/2027-04-26/
LOCATION:Haraldslund Vand- og kulturhus\, Kastetvej 83\, Aalborg\, 9000\, Denmark
CATEGORIES:Wellness
ORGANIZER;CN="Haraldslund":MAILTO:haraldslund@aalborg.dk
END:VEVENT
BEGIN:VEVENT
DTSTART;TZID=Europe/Copenhagen:20270426T162000
DTEND;TZID=Europe/Copenhagen:20270426T171000
DTSTAMP:20260423T002635
CREATED:20250929T102636Z
LAST-MODIFIED:20251001T083702Z
UID:10016535-1808756400-1808759400@haraldslund.com
SUMMARY:Switching
DESCRIPTION:
URL:https://haraldslund.com/event/switching-kl-16-20/2027-04-26/
LOCATION:Haraldslund Vand- og kulturhus\, Kastetvej 83\, Aalborg\, 9000\, Denmark
CATEGORIES:Motionscenter
ORGANIZER;CN="Haraldslund":MAILTO:haraldslund@aalborg.dk
END:VEVENT
BEGIN:VEVENT
DTSTART;TZID=Europe/Copenhagen:20270426T161500
DTEND;TZID=Europe/Copenhagen:20270426T171500
DTSTAMP:20260423T002635
CREATED:20251205T084610Z
LAST-MODIFIED:20260330T102114Z
UID:10047013-1808756100-1808759700@haraldslund.com
SUMMARY:Bodybike 1
DESCRIPTION:
URL:https://haraldslund.com/event/bodybike-1-4/2027-04-26/
LOCATION:Haraldslund Vand- og kulturhus\, Kastetvej 83\, Aalborg\, 9000\, Denmark
CATEGORIES:Motionscenter
ORGANIZER;CN="Haraldslund":MAILTO:haraldslund@aalborg.dk
END:VEVENT
BEGIN:VEVENT
DTSTART;TZID=Europe/Copenhagen:20270426T160000
DTEND;TZID=Europe/Copenhagen:20270426T170000
DTSTAMP:20260423T002635
CREATED:20250929T101957Z
LAST-MODIFIED:20260323T063250Z
UID:10016169-1808755200-1808758800@haraldslund.com
SUMMARY:Bodytoning
DESCRIPTION:
URL:https://haraldslund.com/event/bodytoning-kl-16-00/2027-04-26/
LOCATION:Haraldslund Vand- og kulturhus\, Kastetvej 83\, Aalborg\, 9000\, Denmark
CATEGORIES:Motionscenter
ORGANIZER;CN="Haraldslund":MAILTO:haraldslund@aalborg.dk
END:VEVENT
BEGIN:VEVENT
DTSTART;TZID=Europe/Copenhagen:20270426T140000
DTEND;TZID=Europe/Copenhagen:20270426T141500
DTSTAMP:20260423T002635
CREATED:20250929T084523Z
LAST-MODIFIED:20260330T105546Z
UID:10007366-1808748000-1808748900@haraldslund.com
SUMMARY:Saunagus
DESCRIPTION:
URL:https://haraldslund.com/event/saunagus-kl-14-00/2027-04-26/
LOCATION:Haraldslund Vand- og kulturhus\, Kastetvej 83\, Aalborg\, 9000\, Denmark
CATEGORIES:Wellness
ORGANIZER;CN="Haraldslund":MAILTO:haraldslund@aalborg.dk
END:VEVENT
BEGIN:VEVENT
DTSTART;TZID=Europe/Copenhagen:20270426T134500
DTEND;TZID=Europe/Copenhagen:20270426T153000
DTSTAMP:20260423T002635
CREATED:20260303T085715Z
LAST-MODIFIED:20260303T085912Z
UID:10051394-1808747100-1808753400@haraldslund.com
SUMMARY:Sandfiltre skylles - temperatur kan falde 1-2 grader
DESCRIPTION:
URL:https://haraldslund.com/event/sandfiltre-skylles-temperatur/2027-04-26/
LOCATION:Haraldslund Vand- og kulturhus\, Kastetvej 83\, Aalborg\, 9000\, Denmark
CATEGORIES:Svømmehal
ORGANIZER;CN="Haraldslund":MAILTO:haraldslund@aalborg.dk
END:VEVENT
BEGIN:VEVENT
DTSTART;TZID=Europe/Copenhagen:20270426T134500
DTEND;TZID=Europe/Copenhagen:20270426T144500
DTSTAMP:20260423T002635
CREATED:20251104T112551Z
LAST-MODIFIED:20260330T103804Z
UID:10046012-1808747100-1808750700@haraldslund.com
SUMMARY:Skolesvømning
DESCRIPTION:
URL:https://haraldslund.com/event/skolesvoemning-2/2027-04-26/
CATEGORIES:Svømmehal
END:VEVENT
BEGIN:VEVENT
DTSTART;TZID=Europe/Copenhagen:20270426T130000
DTEND;TZID=Europe/Copenhagen:20270426T134500
DTSTAMP:20260423T002635
CREATED:20250930T104349Z
LAST-MODIFIED:20260330T112104Z
UID:10032789-1808744400-1808747100@haraldslund.com
SUMMARY:Vandgymnastik specialhold
DESCRIPTION:
URL:https://haraldslund.com/event/vandgymnastik-specialhold/2027-04-26/
LOCATION:Haraldslund Vand- og kulturhus\, Kastetvej 83\, Aalborg\, 9000\, Denmark
CATEGORIES:Svømmehal
ORGANIZER;CN="Haraldslund":MAILTO:haraldslund@aalborg.dk
END:VEVENT
BEGIN:VEVENT
DTSTART;TZID=Europe/Copenhagen:20270426T103000
DTEND;TZID=Europe/Copenhagen:20270426T111500
DTSTAMP:20260423T002635
CREATED:20250929T100820Z
LAST-MODIFIED:20260330T113832Z
UID:10015237-1808735400-1808738100@haraldslund.com
SUMMARY:Vandgymnastik
DESCRIPTION:
URL:https://haraldslund.com/event/vandgymnastik-kl-10-30/2027-04-26/
LOCATION:Haraldslund Vand- og kulturhus\, Kastetvej 83\, Aalborg\, 9000\, Denmark
CATEGORIES:Svømmehal
ORGANIZER;CN="Haraldslund":MAILTO:haraldslund@aalborg.dk
END:VEVENT
BEGIN:VEVENT
DTSTART;TZID=Europe/Copenhagen:20270426T101500
DTEND;TZID=Europe/Copenhagen:20270426T110000
DTSTAMP:20260423T002635
CREATED:20251104T112402Z
LAST-MODIFIED:20260330T113932Z
UID:10042715-1808734500-1808737200@haraldslund.com
SUMMARY:Skolesvømning
DESCRIPTION:
URL:https://haraldslund.com/event/skolesvoemning/2027-04-26/
LOCATION:Haraldslund Vand- og kulturhus\, Kastetvej 83\, Aalborg\, 9000\, Denmark
CATEGORIES:Svømmehal
ORGANIZER;CN="Haraldslund":MAILTO:haraldslund@aalborg.dk
END:VEVENT
BEGIN:VEVENT
DTSTART;TZID=Europe/Copenhagen:20270426T101500
DTEND;TZID=Europe/Copenhagen:20270426T103000
DTSTAMP:20260423T002635
CREATED:20251003T081347Z
LAST-MODIFIED:20260330T110253Z
UID:10040532-1808734500-1808735400@haraldslund.com
SUMMARY:Saunagus
DESCRIPTION:
URL:https://haraldslund.com/event/4198/2027-04-26/
LOCATION:Haraldslund Vand- og kulturhus\, Kastetvej 83\, Aalborg\, 9000\, Denmark
CATEGORIES:Wellness
ORGANIZER;CN="Haraldslund":MAILTO:haraldslund@aalborg.dk
END:VEVENT
BEGIN:VEVENT
DTSTART;TZID=Europe/Copenhagen:20270426T091500
DTEND;TZID=Europe/Copenhagen:20270426T100000
DTSTAMP:20260423T002635
CREATED:20250929T094650Z
LAST-MODIFIED:20260330T111051Z
UID:10014140-1808730900-1808733600@haraldslund.com
SUMMARY:Vandgymnastik
DESCRIPTION:
URL:https://haraldslund.com/event/vandgymnastik-kl-9-15/2027-04-26/
LOCATION:Haraldslund Vand- og kulturhus\, Kastetvej 83\, Aalborg\, 9000\, Denmark
CATEGORIES:Svømmehal
ORGANIZER;CN="Haraldslund":MAILTO:haraldslund@aalborg.dk
END:VEVENT
BEGIN:VEVENT
DTSTART;TZID=Europe/Copenhagen:20270426T090000
DTEND;TZID=Europe/Copenhagen:20270426T110000
DTSTAMP:20260423T002635
CREATED:20250930T113821Z
LAST-MODIFIED:20260330T111407Z
UID:10035512-1808730000-1808737200@haraldslund.com
SUMMARY:Sundhed i bevægelse
DESCRIPTION:
URL:https://haraldslund.com/event/sib-traening/2027-04-26/
LOCATION:Haraldslund Vand- og kulturhus\, Kastetvej 83\, Aalborg\, 9000\, Denmark
CATEGORIES:Sundhed i Bevægelse
ORGANIZER;CN="Haraldslund":MAILTO:haraldslund@aalborg.dk
END:VEVENT
BEGIN:VEVENT
DTSTART;TZID=Europe/Copenhagen:20270426T073000
DTEND;TZID=Europe/Copenhagen:20270426T074500
DTSTAMP:20260423T002635
CREATED:20250929T080715Z
LAST-MODIFIED:20260330T110205Z
UID:10039683-1808724600-1808725500@haraldslund.com
SUMMARY:Saunagus
DESCRIPTION:
URL:https://haraldslund.com/event/saunagus-7-30-2/2027-04-26/
CATEGORIES:Svømmehal
END:VEVENT
BEGIN:VEVENT
DTSTART;TZID=Europe/Copenhagen:20270425T140000
DTEND;TZID=Europe/Copenhagen:20270425T141500
DTSTAMP:20260423T002635
CREATED:20250929T084523Z
LAST-MODIFIED:20260330T105546Z
UID:10007365-1808661600-1808662500@haraldslund.com
SUMMARY:Saunagus
DESCRIPTION:
URL:https://haraldslund.com/event/saunagus-kl-14-00/2027-04-25/
LOCATION:Haraldslund Vand- og kulturhus\, Kastetvej 83\, Aalborg\, 9000\, Denmark
CATEGORIES:Wellness
ORGANIZER;CN="Haraldslund":MAILTO:haraldslund@aalborg.dk
END:VEVENT
BEGIN:VEVENT
DTSTART;TZID=Europe/Copenhagen:20270425T120000
DTEND;TZID=Europe/Copenhagen:20270425T121500
DTSTAMP:20260423T002635
CREATED:20260223T065538Z
LAST-MODIFIED:20260330T105402Z
UID:10050269-1808654400-1808655300@haraldslund.com
SUMMARY:Saunagus
DESCRIPTION:
URL:https://haraldslund.com/event/saunagus/2027-04-25/
LOCATION:Haraldslund Vand- og kulturhus\, Kastetvej 83\, Aalborg\, 9000\, Denmark
CATEGORIES:Svømmehal,Wellness
ORGANIZER;CN="Haraldslund":MAILTO:haraldslund@aalborg.dk
END:VEVENT
BEGIN:VEVENT
DTSTART;TZID=Europe/Copenhagen:20270425T113000
DTEND;TZID=Europe/Copenhagen:20270425T123000
DTSTAMP:20260423T002635
CREATED:20250930T100054Z
LAST-MODIFIED:20260330T112616Z
UID:10029346-1808652600-1808656200@haraldslund.com
SUMMARY:Fitness pump
DESCRIPTION:
URL:https://haraldslund.com/event/fitness-pump/2027-04-25/
LOCATION:Haraldslund Vand- og kulturhus\, Kastetvej 83\, Aalborg\, 9000\, Denmark
CATEGORIES:Motionscenter
ORGANIZER;CN="Haraldslund":MAILTO:haraldslund@aalborg.dk
END:VEVENT
BEGIN:VEVENT
DTSTART;TZID=Europe/Copenhagen:20270425T100000
DTEND;TZID=Europe/Copenhagen:20270425T111500
DTSTAMP:20260423T002635
CREATED:20250930T095930Z
LAST-MODIFIED:20251001T075144Z
UID:10037010-1808647200-1808651700@haraldslund.com
SUMMARY:Morgen yoga flow
DESCRIPTION:
URL:https://haraldslund.com/event/morgen-yoga-flow/2027-04-25/
LOCATION:Haraldslund Vand- og kulturhus\, Kastetvej 83\, Aalborg\, 9000\, Denmark
CATEGORIES:Motionscenter
ORGANIZER;CN="Haraldslund":MAILTO:haraldslund@aalborg.dk
END:VEVENT
BEGIN:VEVENT
DTSTART;TZID=Europe/Copenhagen:20270425T100000
DTEND;TZID=Europe/Copenhagen:20270425T101500
DTSTAMP:20260423T002635
CREATED:20260223T065913Z
LAST-MODIFIED:20260330T105201Z
UID:10050834-1808647200-1808648100@haraldslund.com
SUMMARY:Saunagus
DESCRIPTION:
URL:https://haraldslund.com/event/saunagus-2/2027-04-25/
LOCATION:Haraldslund Vand- og kulturhus\, Kastetvej 83\, Aalborg\, 9000\, Denmark
CATEGORIES:Svømmehal,Wellness
ORGANIZER;CN="Haraldslund":MAILTO:haraldslund@aalborg.dk
END:VEVENT
BEGIN:VEVENT
DTSTART;TZID=Europe/Copenhagen:20270425T090000
DTEND;TZID=Europe/Copenhagen:20270425T095000
DTSTAMP:20260423T002635
CREATED:20250930T095616Z
LAST-MODIFIED:20260223T070130Z
UID:10028980-1808643600-1808646600@haraldslund.com
SUMMARY:Jumping fitness
DESCRIPTION:
URL:https://haraldslund.com/event/jumping-fitness-4/2027-04-25/
LOCATION:Haraldslund Vand- og kulturhus\, Kastetvej 83\, Aalborg\, 9000\, Denmark
CATEGORIES:Motionscenter
ORGANIZER;CN="Haraldslund":MAILTO:haraldslund@aalborg.dk
END:VEVENT
BEGIN:VEVENT
DTSTART;TZID=Europe/Copenhagen:20270424T140000
DTEND;TZID=Europe/Copenhagen:20270424T141500
DTSTAMP:20260423T002635
CREATED:20250929T084523Z
LAST-MODIFIED:20260330T105546Z
UID:10048371-1808575200-1808576100@haraldslund.com
SUMMARY:Saunagus
DESCRIPTION:
URL:https://haraldslund.com/event/saunagus-kl-14-00/2027-04-24/
LOCATION:Haraldslund Vand- og kulturhus\, Kastetvej 83\, Aalborg\, 9000\, Denmark
CATEGORIES:Wellness
ORGANIZER;CN="Haraldslund":MAILTO:haraldslund@aalborg.dk
END:VEVENT
BEGIN:VEVENT
DTSTART;TZID=Europe/Copenhagen:20270424T120000
DTEND;TZID=Europe/Copenhagen:20270424T121500
DTSTAMP:20260423T002635
CREATED:20260223T065538Z
LAST-MODIFIED:20260330T105402Z
UID:10050268-1808568000-1808568900@haraldslund.com
SUMMARY:Saunagus
DESCRIPTION:
URL:https://haraldslund.com/event/saunagus/2027-04-24/
LOCATION:Haraldslund Vand- og kulturhus\, Kastetvej 83\, Aalborg\, 9000\, Denmark
CATEGORIES:Svømmehal,Wellness
ORGANIZER;CN="Haraldslund":MAILTO:haraldslund@aalborg.dk
END:VEVENT
BEGIN:VEVENT
DTSTART;TZID=Europe/Copenhagen:20270424T102000
DTEND;TZID=Europe/Copenhagen:20270424T105000
DTSTAMP:20260423T002635
CREATED:20250930T095352Z
LAST-MODIFIED:20251120T120845Z
UID:10037270-1808562000-1808563800@haraldslund.com
SUMMARY:Ansigtsyoga
DESCRIPTION:
URL:https://haraldslund.com/event/ansigtsyoga/2027-04-24/
LOCATION:Haraldslund Vand- og kulturhus\, Kastetvej 83\, Aalborg\, 9000\, Denmark
CATEGORIES:Motionscenter
ORGANIZER;CN="Haraldslund":MAILTO:haraldslund@aalborg.dk
END:VEVENT
BEGIN:VEVENT
DTSTART;TZID=Europe/Copenhagen:20270424T101000
DTEND;TZID=Europe/Copenhagen:20270424T104000
DTSTAMP:20260423T002635
CREATED:20251205T083722Z
LAST-MODIFIED:20251205T083722Z
UID:10046753-1808561400-1808563200@haraldslund.com
SUMMARY:AB attack
DESCRIPTION:
URL:https://haraldslund.com/event/ab-attack/2027-04-24/
LOCATION:Haraldslund Vand- og kulturhus\, Kastetvej 83\, Aalborg\, 9000\, Denmark
CATEGORIES:Motionscenter
ORGANIZER;CN="Haraldslund":MAILTO:haraldslund@aalborg.dk
END:VEVENT
END:VCALENDAR