BEGIN:VCALENDAR
VERSION:2.0
PRODID:-//Haraldslund - ECPv6.15.16.1//NONSGML v1.0//EN
CALSCALE:GREGORIAN
METHOD:PUBLISH
X-WR-CALNAME:Haraldslund
X-ORIGINAL-URL:https://haraldslund.com
X-WR-CALDESC:Begivenheder for Haraldslund
REFRESH-INTERVAL;VALUE=DURATION:PT1H
X-Robots-Tag:noindex
X-PUBLISHED-TTL:PT1H
BEGIN:VTIMEZONE
TZID:Europe/Copenhagen
BEGIN:DAYLIGHT
TZOFFSETFROM:+0100
TZOFFSETTO:+0200
TZNAME:CEST
DTSTART:20260329T010000
END:DAYLIGHT
BEGIN:STANDARD
TZOFFSETFROM:+0200
TZOFFSETTO:+0100
TZNAME:CET
DTSTART:20261025T010000
END:STANDARD
BEGIN:DAYLIGHT
TZOFFSETFROM:+0100
TZOFFSETTO:+0200
TZNAME:CEST
DTSTART:20270328T010000
END:DAYLIGHT
BEGIN:STANDARD
TZOFFSETFROM:+0200
TZOFFSETTO:+0100
TZNAME:CET
DTSTART:20271031T010000
END:STANDARD
BEGIN:DAYLIGHT
TZOFFSETFROM:+0100
TZOFFSETTO:+0200
TZNAME:CEST
DTSTART:20280326T010000
END:DAYLIGHT
BEGIN:STANDARD
TZOFFSETFROM:+0200
TZOFFSETTO:+0100
TZNAME:CET
DTSTART:20281029T010000
END:STANDARD
END:VTIMEZONE
BEGIN:VEVENT
DTSTART;TZID=Europe/Copenhagen:20270330T190000
DTEND;TZID=Europe/Copenhagen:20270330T191500
DTSTAMP:20260421T082935
CREATED:20250929T090017Z
LAST-MODIFIED:20260330T110649Z
UID:10011125-1806433200-1806434100@haraldslund.com
SUMMARY:Saunagus
DESCRIPTION:
URL:https://haraldslund.com/event/saunagus-kl-19-00/2027-03-30/
LOCATION:Haraldslund Vand- og kulturhus\, Kastetvej 83\, Aalborg\, 9000\, Denmark
CATEGORIES:Wellness
ORGANIZER;CN="Haraldslund":MAILTO:haraldslund@aalborg.dk
END:VEVENT
BEGIN:VEVENT
DTSTART;TZID=Europe/Copenhagen:20270330T184500
DTEND;TZID=Europe/Copenhagen:20270330T193000
DTSTAMP:20260421T082935
CREATED:20250929T114607Z
LAST-MODIFIED:20250929T114607Z
UID:10022594-1806432300-1806435000@haraldslund.com
SUMMARY:Aqua Yoga
DESCRIPTION:
URL:https://haraldslund.com/event/aqua-yoga/2027-03-30/
LOCATION:Haraldslund Vand- og kulturhus\, Kastetvej 83\, Aalborg\, 9000\, Denmark
CATEGORIES:Svømmehal
ORGANIZER;CN="Haraldslund":MAILTO:haraldslund@aalborg.dk
END:VEVENT
BEGIN:VEVENT
DTSTART;TZID=Europe/Copenhagen:20270330T181000
DTEND;TZID=Europe/Copenhagen:20270330T190000
DTSTAMP:20260421T082935
CREATED:20250929T110435Z
LAST-MODIFIED:20260323T063531Z
UID:10017868-1806430200-1806433200@haraldslund.com
SUMMARY:Jumping Fitness
DESCRIPTION:
URL:https://haraldslund.com/event/jumping-fitness-kl-17-00/2027-03-30/
LOCATION:Haraldslund Vand- og kulturhus\, Kastetvej 83\, Aalborg\, 9000\, Denmark
CATEGORIES:Motionscenter
ORGANIZER;CN="Haraldslund":MAILTO:haraldslund@aalborg.dk
END:VEVENT
BEGIN:VEVENT
DTSTART;TZID=Europe/Copenhagen:20270330T180000
DTEND;TZID=Europe/Copenhagen:20270330T191000
DTSTAMP:20260421T082935
CREATED:20250929T112046Z
LAST-MODIFIED:20260331T064621Z
UID:10019304-1806429600-1806433800@haraldslund.com
SUMMARY:Bodybike 2
DESCRIPTION:
URL:https://haraldslund.com/event/bodybike-2/2027-03-30/
LOCATION:Haraldslund Vand- og kulturhus\, Kastetvej 83\, Aalborg\, 9000\, Denmark
CATEGORIES:Motionscenter
ORGANIZER;CN="Haraldslund":MAILTO:haraldslund@aalborg.dk
END:VEVENT
BEGIN:VEVENT
DTSTART;TZID=Europe/Copenhagen:20270330T174500
DTEND;TZID=Europe/Copenhagen:20270330T183000
DTSTAMP:20260421T082935
CREATED:20250929T114343Z
LAST-MODIFIED:20251001T083929Z
UID:10022228-1806428700-1806431400@haraldslund.com
SUMMARY:Aqua puls og power
DESCRIPTION:
URL:https://haraldslund.com/event/aqua-puls-og-power/2027-03-30/
LOCATION:Haraldslund Vand- og kulturhus\, Kastetvej 83\, Aalborg\, 9000\, Denmark
CATEGORIES:Svømmehal
ORGANIZER;CN="Haraldslund":MAILTO:haraldslund@aalborg.dk
END:VEVENT
BEGIN:VEVENT
DTSTART;TZID=Europe/Copenhagen:20270330T164500
DTEND;TZID=Europe/Copenhagen:20270330T180000
DTSTAMP:20260421T082935
CREATED:20250929T114139Z
LAST-MODIFIED:20251208T064032Z
UID:10021862-1806425100-1806429600@haraldslund.com
SUMMARY:Yoga
DESCRIPTION:
URL:https://haraldslund.com/event/yoga-2/2027-03-30/
LOCATION:Haraldslund Vand- og kulturhus\, Kastetvej 83\, Aalborg\, 9000\, Denmark
CATEGORIES:Motionscenter
ORGANIZER;CN="Haraldslund":MAILTO:haraldslund@aalborg.dk
END:VEVENT
BEGIN:VEVENT
DTSTART;TZID=Europe/Copenhagen:20270330T163000
DTEND;TZID=Europe/Copenhagen:20270330T172000
DTSTAMP:20260421T082935
CREATED:20250929T113803Z
LAST-MODIFIED:20251001T084057Z
UID:10021496-1806424200-1806427200@haraldslund.com
SUMMARY:Switching
DESCRIPTION:
URL:https://haraldslund.com/event/switching/2027-03-30/
LOCATION:Haraldslund Vand- og kulturhus\, Kastetvej 83\, Aalborg\, 9000\, Denmark
CATEGORIES:Motionscenter
ORGANIZER;CN="Haraldslund":MAILTO:haraldslund@aalborg.dk
END:VEVENT
BEGIN:VEVENT
DTSTART;TZID=Europe/Copenhagen:20270330T163000
DTEND;TZID=Europe/Copenhagen:20270330T164500
DTSTAMP:20260421T082935
CREATED:20250929T084722Z
LAST-MODIFIED:20260330T110511Z
UID:10009092-1806424200-1806425100@haraldslund.com
SUMMARY:Saunagus
DESCRIPTION:
URL:https://haraldslund.com/event/saunagus-kl-16-30/2027-03-30/
LOCATION:Haraldslund Vand- og kulturhus\, Kastetvej 83\, Aalborg\, 9000\, Denmark
CATEGORIES:Wellness
ORGANIZER;CN="Haraldslund":MAILTO:haraldslund@aalborg.dk
END:VEVENT
BEGIN:VEVENT
DTSTART;TZID=Europe/Copenhagen:20270330T160000
DTEND;TZID=Europe/Copenhagen:20270330T164500
DTSTAMP:20260421T082935
CREATED:20260211T091301Z
LAST-MODIFIED:20260211T091442Z
UID:10048079-1806422400-1806425100@haraldslund.com
SUMMARY:Vandgymnastik specialhold
DESCRIPTION:
URL:https://haraldslund.com/event/vandgymnastik-specialhold-2/2027-03-30/
LOCATION:Haraldslund Vand- og kulturhus\, Kastetvej 83\, Aalborg\, 9000\, Denmark
CATEGORIES:Svømmehal
ORGANIZER;CN="Haraldslund":MAILTO:haraldslund@aalborg.dk
END:VEVENT
BEGIN:VEVENT
DTSTART;TZID=Europe/Copenhagen:20270330T140000
DTEND;TZID=Europe/Copenhagen:20270330T141500
DTSTAMP:20260421T082935
CREATED:20250929T084523Z
LAST-MODIFIED:20260330T105546Z
UID:10007347-1806415200-1806416100@haraldslund.com
SUMMARY:Saunagus
DESCRIPTION:
URL:https://haraldslund.com/event/saunagus-kl-14-00/2027-03-30/
LOCATION:Haraldslund Vand- og kulturhus\, Kastetvej 83\, Aalborg\, 9000\, Denmark
CATEGORIES:Wellness
ORGANIZER;CN="Haraldslund":MAILTO:haraldslund@aalborg.dk
END:VEVENT
BEGIN:VEVENT
DTSTART;TZID=Europe/Copenhagen:20270330T123000
DTEND;TZID=Europe/Copenhagen:20270330T131500
DTSTAMP:20260421T082935
CREATED:20250930T104806Z
LAST-MODIFIED:20251208T063003Z
UID:10034084-1806409800-1806412500@haraldslund.com
SUMMARY:Vandgymnastik specialhold (SIB)
DESCRIPTION:
URL:https://haraldslund.com/event/vandgymnastik-specialhold-sib/2027-03-30/
LOCATION:Haraldslund Vand- og kulturhus\, Kastetvej 83\, Aalborg\, 9000\, Denmark
CATEGORIES:Svømmehal
ORGANIZER;CN="Haraldslund":MAILTO:haraldslund@aalborg.dk
END:VEVENT
BEGIN:VEVENT
DTSTART;TZID=Europe/Copenhagen:20270330T120000
DTEND;TZID=Europe/Copenhagen:20270330T133000
DTSTAMP:20260421T082935
CREATED:20251104T112822Z
LAST-MODIFIED:20260330T104143Z
UID:10044706-1806408000-1806413400@haraldslund.com
SUMMARY:Skolesvømning
DESCRIPTION:
URL:https://haraldslund.com/event/skolesvoemning-3/2027-03-30/
LOCATION:Haraldslund Vand- og kulturhus\, Kastetvej 83\, Aalborg\, 9000\, Denmark
CATEGORIES:Svømmehal
ORGANIZER;CN="Haraldslund":MAILTO:haraldslund@aalborg.dk
END:VEVENT
BEGIN:VEVENT
DTSTART;TZID=Europe/Copenhagen:20270330T101500
DTEND;TZID=Europe/Copenhagen:20270330T110000
DTSTAMP:20260421T082935
CREATED:20251104T112402Z
LAST-MODIFIED:20260330T113932Z
UID:10042708-1806401700-1806404400@haraldslund.com
SUMMARY:Skolesvømning
DESCRIPTION:
URL:https://haraldslund.com/event/skolesvoemning/2027-03-30/
LOCATION:Haraldslund Vand- og kulturhus\, Kastetvej 83\, Aalborg\, 9000\, Denmark
CATEGORIES:Svømmehal
ORGANIZER;CN="Haraldslund":MAILTO:haraldslund@aalborg.dk
END:VEVENT
BEGIN:VEVENT
DTSTART;TZID=Europe/Copenhagen:20270330T101500
DTEND;TZID=Europe/Copenhagen:20270330T103000
DTSTAMP:20260421T082935
CREATED:20251003T081347Z
LAST-MODIFIED:20260330T110253Z
UID:10040509-1806401700-1806402600@haraldslund.com
SUMMARY:Saunagus
DESCRIPTION:
URL:https://haraldslund.com/event/4198/2027-03-30/
LOCATION:Haraldslund Vand- og kulturhus\, Kastetvej 83\, Aalborg\, 9000\, Denmark
CATEGORIES:Wellness
ORGANIZER;CN="Haraldslund":MAILTO:haraldslund@aalborg.dk
END:VEVENT
BEGIN:VEVENT
DTSTART;TZID=Europe/Copenhagen:20270330T091500
DTEND;TZID=Europe/Copenhagen:20270330T100000
DTSTAMP:20260421T082935
CREATED:20250929T094650Z
LAST-MODIFIED:20260330T111051Z
UID:10014129-1806398100-1806400800@haraldslund.com
SUMMARY:Vandgymnastik
DESCRIPTION:
URL:https://haraldslund.com/event/vandgymnastik-kl-9-15/2027-03-30/
LOCATION:Haraldslund Vand- og kulturhus\, Kastetvej 83\, Aalborg\, 9000\, Denmark
CATEGORIES:Svømmehal
ORGANIZER;CN="Haraldslund":MAILTO:haraldslund@aalborg.dk
END:VEVENT
BEGIN:VEVENT
DTSTART;TZID=Europe/Copenhagen:20270330T090000
DTEND;TZID=Europe/Copenhagen:20270330T110000
DTSTAMP:20260421T082935
CREATED:20250930T113821Z
LAST-MODIFIED:20260330T111407Z
UID:10035493-1806397200-1806404400@haraldslund.com
SUMMARY:Sundhed i bevægelse
DESCRIPTION:
URL:https://haraldslund.com/event/sib-traening/2027-03-30/
LOCATION:Haraldslund Vand- og kulturhus\, Kastetvej 83\, Aalborg\, 9000\, Denmark
CATEGORIES:Sundhed i Bevægelse
ORGANIZER;CN="Haraldslund":MAILTO:haraldslund@aalborg.dk
END:VEVENT
BEGIN:VEVENT
DTSTART;TZID=Europe/Copenhagen:20270330T073000
DTEND;TZID=Europe/Copenhagen:20270330T081500
DTSTAMP:20260421T082935
CREATED:20250930T085050Z
LAST-MODIFIED:20260323T064719Z
UID:10023481-1806391800-1806394500@haraldslund.com
SUMMARY:Mave\, balle\, lår
DESCRIPTION:
URL:https://haraldslund.com/event/mave-balle-laar/2027-03-30/
LOCATION:Haraldslund Vand- og kulturhus\, Kastetvej 83\, Aalborg\, 9000\, Denmark
CATEGORIES:Motionscenter
ORGANIZER;CN="Haraldslund":MAILTO:haraldslund@aalborg.dk
END:VEVENT
BEGIN:VEVENT
DTSTART;TZID=Europe/Copenhagen:20270329T191000
DTEND;TZID=Europe/Copenhagen:20270329T201000
DTSTAMP:20260421T082935
CREATED:20250929T113437Z
LAST-MODIFIED:20260330T114555Z
UID:10021130-1806347400-1806351000@haraldslund.com
SUMMARY:Yoga
DESCRIPTION:
URL:https://haraldslund.com/event/yoga/2027-03-29/
LOCATION:Haraldslund Vand- og kulturhus\, Kastetvej 83\, Aalborg\, 9000\, Denmark
CATEGORIES:Motionscenter
ORGANIZER;CN="Haraldslund":MAILTO:haraldslund@aalborg.dk
END:VEVENT
BEGIN:VEVENT
DTSTART;TZID=Europe/Copenhagen:20270329T184500
DTEND;TZID=Europe/Copenhagen:20270329T193000
DTSTAMP:20260421T082935
CREATED:20250929T113227Z
LAST-MODIFIED:20260330T103944Z
UID:10020764-1806345900-1806348600@haraldslund.com
SUMMARY:Vandgymnastik
DESCRIPTION:
URL:https://haraldslund.com/event/vandgymnastik/2027-03-29/
LOCATION:Haraldslund Vand- og kulturhus\, Kastetvej 83\, Aalborg\, 9000\, Denmark
CATEGORIES:Svømmehal
ORGANIZER;CN="Haraldslund":MAILTO:haraldslund@aalborg.dk
END:VEVENT
BEGIN:VEVENT
DTSTART;TZID=Europe/Copenhagen:20270329T181500
DTEND;TZID=Europe/Copenhagen:20270329T193000
DTSTAMP:20260421T082935
CREATED:20250929T085743Z
LAST-MODIFIED:20260330T114921Z
UID:10010395-1806344100-1806348600@haraldslund.com
SUMMARY:Temagus
DESCRIPTION:
URL:https://haraldslund.com/event/temagus-kl-18-15/2027-03-29/
LOCATION:Haraldslund Vand- og kulturhus\, Kastetvej 83\, Aalborg\, 9000\, Denmark
CATEGORIES:Wellness
ORGANIZER;CN="Haraldslund":MAILTO:haraldslund@aalborg.dk
END:VEVENT
BEGIN:VEVENT
DTSTART;TZID=Europe/Copenhagen:20270329T181000
DTEND;TZID=Europe/Copenhagen:20270329T190000
DTSTAMP:20260421T082935
CREATED:20250929T113012Z
LAST-MODIFIED:20260330T101847Z
UID:10020398-1806343800-1806346800@haraldslund.com
SUMMARY:Stærk krop
DESCRIPTION:
URL:https://haraldslund.com/event/staerk-krop/2027-03-29/
LOCATION:Haraldslund Vand- og kulturhus\, Kastetvej 83\, Aalborg\, 9000\, Denmark
CATEGORIES:Motionscenter
ORGANIZER;CN="Haraldslund":MAILTO:haraldslund@aalborg.dk
END:VEVENT
BEGIN:VEVENT
DTSTART;TZID=Europe/Copenhagen:20270329T173000
DTEND;TZID=Europe/Copenhagen:20270329T183000
DTSTAMP:20260421T082935
CREATED:20250929T111823Z
LAST-MODIFIED:20260330T101820Z
UID:10018677-1806341400-1806345000@haraldslund.com
SUMMARY:Bodybike 1
DESCRIPTION:
URL:https://haraldslund.com/event/bodybike-1/2027-03-29/
LOCATION:Haraldslund Vand- og kulturhus\, Kastetvej 83\, Aalborg\, 9000\, Denmark
CATEGORIES:Motionscenter
ORGANIZER;CN="Haraldslund":MAILTO:haraldslund@aalborg.dk
END:VEVENT
BEGIN:VEVENT
DTSTART;TZID=Europe/Copenhagen:20270329T171000
DTEND;TZID=Europe/Copenhagen:20270329T180000
DTSTAMP:20260421T082935
CREATED:20250929T105054Z
LAST-MODIFIED:20260330T114844Z
UID:10016902-1806340200-1806343200@haraldslund.com
SUMMARY:Jumping Fitness
DESCRIPTION:
URL:https://haraldslund.com/event/jumping-fitness/2027-03-29/
LOCATION:Haraldslund Vand- og kulturhus\, Kastetvej 83\, Aalborg\, 9000\, Denmark
CATEGORIES:Motionscenter
ORGANIZER;CN="Haraldslund":MAILTO:haraldslund@aalborg.dk
END:VEVENT
BEGIN:VEVENT
DTSTART;TZID=Europe/Copenhagen:20270329T163000
DTEND;TZID=Europe/Copenhagen:20270329T164500
DTSTAMP:20260421T082935
CREATED:20250929T084722Z
LAST-MODIFIED:20260330T110511Z
UID:10009091-1806337800-1806338700@haraldslund.com
SUMMARY:Saunagus
DESCRIPTION:
URL:https://haraldslund.com/event/saunagus-kl-16-30/2027-03-29/
LOCATION:Haraldslund Vand- og kulturhus\, Kastetvej 83\, Aalborg\, 9000\, Denmark
CATEGORIES:Wellness
ORGANIZER;CN="Haraldslund":MAILTO:haraldslund@aalborg.dk
END:VEVENT
BEGIN:VEVENT
DTSTART;TZID=Europe/Copenhagen:20270329T162000
DTEND;TZID=Europe/Copenhagen:20270329T171000
DTSTAMP:20260421T082935
CREATED:20250929T102636Z
LAST-MODIFIED:20251001T083702Z
UID:10016531-1806337200-1806340200@haraldslund.com
SUMMARY:Switching
DESCRIPTION:
URL:https://haraldslund.com/event/switching-kl-16-20/2027-03-29/
LOCATION:Haraldslund Vand- og kulturhus\, Kastetvej 83\, Aalborg\, 9000\, Denmark
CATEGORIES:Motionscenter
ORGANIZER;CN="Haraldslund":MAILTO:haraldslund@aalborg.dk
END:VEVENT
BEGIN:VEVENT
DTSTART;TZID=Europe/Copenhagen:20270329T161500
DTEND;TZID=Europe/Copenhagen:20270329T171500
DTSTAMP:20260421T082935
CREATED:20251205T084610Z
LAST-MODIFIED:20260330T102114Z
UID:10047009-1806336900-1806340500@haraldslund.com
SUMMARY:Bodybike 1
DESCRIPTION:
URL:https://haraldslund.com/event/bodybike-1-4/2027-03-29/
LOCATION:Haraldslund Vand- og kulturhus\, Kastetvej 83\, Aalborg\, 9000\, Denmark
CATEGORIES:Motionscenter
ORGANIZER;CN="Haraldslund":MAILTO:haraldslund@aalborg.dk
END:VEVENT
BEGIN:VEVENT
DTSTART;TZID=Europe/Copenhagen:20270329T160000
DTEND;TZID=Europe/Copenhagen:20270329T170000
DTSTAMP:20260421T082935
CREATED:20250929T101957Z
LAST-MODIFIED:20260323T063250Z
UID:10016165-1806336000-1806339600@haraldslund.com
SUMMARY:Bodytoning
DESCRIPTION:
URL:https://haraldslund.com/event/bodytoning-kl-16-00/2027-03-29/
LOCATION:Haraldslund Vand- og kulturhus\, Kastetvej 83\, Aalborg\, 9000\, Denmark
CATEGORIES:Motionscenter
ORGANIZER;CN="Haraldslund":MAILTO:haraldslund@aalborg.dk
END:VEVENT
BEGIN:VEVENT
DTSTART;TZID=Europe/Copenhagen:20270329T140000
DTEND;TZID=Europe/Copenhagen:20270329T141500
DTSTAMP:20260421T082935
CREATED:20250929T084523Z
LAST-MODIFIED:20260330T105546Z
UID:10007346-1806328800-1806329700@haraldslund.com
SUMMARY:Saunagus
DESCRIPTION:
URL:https://haraldslund.com/event/saunagus-kl-14-00/2027-03-29/
LOCATION:Haraldslund Vand- og kulturhus\, Kastetvej 83\, Aalborg\, 9000\, Denmark
CATEGORIES:Wellness
ORGANIZER;CN="Haraldslund":MAILTO:haraldslund@aalborg.dk
END:VEVENT
BEGIN:VEVENT
DTSTART;TZID=Europe/Copenhagen:20270329T134500
DTEND;TZID=Europe/Copenhagen:20270329T153000
DTSTAMP:20260421T082935
CREATED:20260303T085715Z
LAST-MODIFIED:20260303T085912Z
UID:10051390-1806327900-1806334200@haraldslund.com
SUMMARY:Sandfiltre skylles - temperatur kan falde 1-2 grader
DESCRIPTION:
URL:https://haraldslund.com/event/sandfiltre-skylles-temperatur/2027-03-29/
LOCATION:Haraldslund Vand- og kulturhus\, Kastetvej 83\, Aalborg\, 9000\, Denmark
CATEGORIES:Svømmehal
ORGANIZER;CN="Haraldslund":MAILTO:haraldslund@aalborg.dk
END:VEVENT
BEGIN:VEVENT
DTSTART;TZID=Europe/Copenhagen:20270329T134500
DTEND;TZID=Europe/Copenhagen:20270329T144500
DTSTAMP:20260421T082935
CREATED:20251104T112551Z
LAST-MODIFIED:20260330T103804Z
UID:10046008-1806327900-1806331500@haraldslund.com
SUMMARY:Skolesvømning
DESCRIPTION:
URL:https://haraldslund.com/event/skolesvoemning-2/2027-03-29/
CATEGORIES:Svømmehal
END:VEVENT
END:VCALENDAR