BEGIN:VCALENDAR
VERSION:2.0
PRODID:-//Haraldslund - ECPv6.15.16.1//NONSGML v1.0//EN
CALSCALE:GREGORIAN
METHOD:PUBLISH
X-WR-CALNAME:Haraldslund
X-ORIGINAL-URL:https://haraldslund.com
X-WR-CALDESC:Begivenheder for Haraldslund
REFRESH-INTERVAL;VALUE=DURATION:PT1H
X-Robots-Tag:noindex
X-PUBLISHED-TTL:PT1H
BEGIN:VTIMEZONE
TZID:Europe/Copenhagen
BEGIN:DAYLIGHT
TZOFFSETFROM:+0100
TZOFFSETTO:+0200
TZNAME:CEST
DTSTART:20260329T010000
END:DAYLIGHT
BEGIN:STANDARD
TZOFFSETFROM:+0200
TZOFFSETTO:+0100
TZNAME:CET
DTSTART:20261025T010000
END:STANDARD
BEGIN:DAYLIGHT
TZOFFSETFROM:+0100
TZOFFSETTO:+0200
TZNAME:CEST
DTSTART:20270328T010000
END:DAYLIGHT
BEGIN:STANDARD
TZOFFSETFROM:+0200
TZOFFSETTO:+0100
TZNAME:CET
DTSTART:20271031T010000
END:STANDARD
BEGIN:DAYLIGHT
TZOFFSETFROM:+0100
TZOFFSETTO:+0200
TZNAME:CEST
DTSTART:20280326T010000
END:DAYLIGHT
BEGIN:STANDARD
TZOFFSETFROM:+0200
TZOFFSETTO:+0100
TZNAME:CET
DTSTART:20281029T010000
END:STANDARD
END:VTIMEZONE
BEGIN:VEVENT
DTSTART;TZID=Europe/Copenhagen:20270326T160000
DTEND;TZID=Europe/Copenhagen:20270326T171500
DTSTAMP:20260421T021139
CREATED:20250930T094756Z
LAST-MODIFIED:20260330T113406Z
UID:10027863-1806076800-1806081300@haraldslund.com
SUMMARY:Yin yoga
DESCRIPTION:
URL:https://haraldslund.com/event/yin-yoga/2027-03-26/
LOCATION:Haraldslund Vand- og kulturhus\, Kastetvej 83\, Aalborg\, 9000\, Denmark
CATEGORIES:Motionscenter
ORGANIZER;CN="Haraldslund":MAILTO:haraldslund@aalborg.dk
END:VEVENT
BEGIN:VEVENT
DTSTART;TZID=Europe/Copenhagen:20270326T154500
DTEND;TZID=Europe/Copenhagen:20270326T170000
DTSTAMP:20260421T021139
CREATED:20250929T092105Z
LAST-MODIFIED:20260413T074248Z
UID:10012514-1806075900-1806080400@haraldslund.com
SUMMARY:Temagus
DESCRIPTION:
URL:https://haraldslund.com/event/temagus-15-45/2027-03-26/
LOCATION:Haraldslund Vand- og kulturhus\, Kastetvej 83\, Aalborg\, 9000\, Denmark
CATEGORIES:Wellness
ORGANIZER;CN="Haraldslund":MAILTO:haraldslund@aalborg.dk
END:VEVENT
BEGIN:VEVENT
DTSTART;TZID=Europe/Copenhagen:20270326T144500
DTEND;TZID=Europe/Copenhagen:20270326T153500
DTSTAMP:20260421T021139
CREATED:20250930T094656Z
LAST-MODIFIED:20260330T113337Z
UID:10027498-1806072300-1806075300@haraldslund.com
SUMMARY:Jumping fitness
DESCRIPTION:
URL:https://haraldslund.com/event/jumping-fitness-3/2027-03-26/
LOCATION:Haraldslund Vand- og kulturhus\, Kastetvej 83\, Aalborg\, 9000\, Denmark
CATEGORIES:Motionscenter
ORGANIZER;CN="Haraldslund":MAILTO:haraldslund@aalborg.dk
END:VEVENT
BEGIN:VEVENT
DTSTART;TZID=Europe/Copenhagen:20270326T113000
DTEND;TZID=Europe/Copenhagen:20270326T114500
DTSTAMP:20260421T021139
CREATED:20250929T090821Z
LAST-MODIFIED:20260330T113216Z
UID:10012148-1806060600-1806061500@haraldslund.com
SUMMARY:Saunagus
DESCRIPTION:
URL:https://haraldslund.com/event/saunagus-kl-11-30/2027-03-26/
LOCATION:Haraldslund Vand- og kulturhus\, Kastetvej 83\, Aalborg\, 9000\, Denmark
CATEGORIES:Wellness
ORGANIZER;CN="Haraldslund":MAILTO:haraldslund@aalborg.dk
END:VEVENT
BEGIN:VEVENT
DTSTART;TZID=Europe/Copenhagen:20270326T110000
DTEND;TZID=Europe/Copenhagen:20270326T111500
DTSTAMP:20260421T021139
CREATED:20250929T090221Z
LAST-MODIFIED:20260330T113145Z
UID:10037765-1806058800-1806059700@haraldslund.com
SUMMARY:Saunagus
DESCRIPTION:
URL:https://haraldslund.com/event/saunagus-kl-11-00/2027-03-26/
LOCATION:Haraldslund Vand- og kulturhus\, Kastetvej 83\, Aalborg\, 9000\, Denmark
CATEGORIES:Wellness
ORGANIZER;CN="Haraldslund":MAILTO:haraldslund@aalborg.dk
END:VEVENT
BEGIN:VEVENT
DTSTART;TZID=Europe/Copenhagen:20270326T100000
DTEND;TZID=Europe/Copenhagen:20270326T104500
DTSTAMP:20260421T021139
CREATED:20250930T094517Z
LAST-MODIFIED:20251001T080414Z
UID:10027133-1806055200-1806057900@haraldslund.com
SUMMARY:Vandgymnastik
DESCRIPTION:
URL:https://haraldslund.com/event/vandgymnastik-4/2027-03-26/
LOCATION:Haraldslund Vand- og kulturhus\, Kastetvej 83\, Aalborg\, 9000\, Denmark
CATEGORIES:Svømmehal
ORGANIZER;CN="Haraldslund":MAILTO:haraldslund@aalborg.dk
END:VEVENT
BEGIN:VEVENT
DTSTART;TZID=Europe/Copenhagen:20270326T091500
DTEND;TZID=Europe/Copenhagen:20270326T100000
DTSTAMP:20260421T021139
CREATED:20251104T113920Z
LAST-MODIFIED:20260330T104413Z
UID:10045223-1806052500-1806055200@haraldslund.com
SUMMARY:Skolesvømning
DESCRIPTION:
URL:https://haraldslund.com/event/skolesvoemning-6/2027-03-26/
LOCATION:Haraldslund Vand- og kulturhus\, Kastetvej 83\, Aalborg\, 9000\, Denmark
CATEGORIES:Svømmehal
ORGANIZER;CN="Haraldslund":MAILTO:haraldslund@aalborg.dk
END:VEVENT
BEGIN:VEVENT
DTSTART;TZID=Europe/Copenhagen:20270326T090000
DTEND;TZID=Europe/Copenhagen:20270326T110000
DTSTAMP:20260421T021139
CREATED:20250930T113821Z
LAST-MODIFIED:20260330T111407Z
UID:10035491-1806051600-1806058800@haraldslund.com
SUMMARY:Sundhed i bevægelse
DESCRIPTION:
URL:https://haraldslund.com/event/sib-traening/2027-03-26/
LOCATION:Haraldslund Vand- og kulturhus\, Kastetvej 83\, Aalborg\, 9000\, Denmark
CATEGORIES:Sundhed i Bevægelse
ORGANIZER;CN="Haraldslund":MAILTO:haraldslund@aalborg.dk
END:VEVENT
BEGIN:VEVENT
DTSTART;TZID=Europe/Copenhagen:20270326T090000
DTEND;TZID=Europe/Copenhagen:20270326T094500
DTSTAMP:20260421T021139
CREATED:20250930T094245Z
LAST-MODIFIED:20260330T113023Z
UID:10026769-1806051600-1806054300@haraldslund.com
SUMMARY:Vandgymnastik
DESCRIPTION:
URL:https://haraldslund.com/event/vandgymnastik-3/2027-03-26/
LOCATION:Haraldslund Vand- og kulturhus\, Kastetvej 83\, Aalborg\, 9000\, Denmark
CATEGORIES:Svømmehal
ORGANIZER;CN="Haraldslund":MAILTO:haraldslund@aalborg.dk
END:VEVENT
BEGIN:VEVENT
DTSTART;TZID=Europe/Copenhagen:20270326T084500
DTEND;TZID=Europe/Copenhagen:20270326T093500
DTSTAMP:20260421T021139
CREATED:20251010T100437Z
LAST-MODIFIED:20251205T082856Z
UID:10026404-1806050700-1806053700@haraldslund.com
SUMMARY:Switching
DESCRIPTION:
URL:https://haraldslund.com/event/switching-2-2/2027-03-26/
LOCATION:Haraldslund Vand- og kulturhus\, Kastetvej 83\, Aalborg\, 9000\, Denmark
CATEGORIES:Motionscenter
ORGANIZER;CN="Haraldslund":MAILTO:haraldslund@aalborg.dk
END:VEVENT
BEGIN:VEVENT
DTSTART;TZID=Europe/Copenhagen:20270326T073000
DTEND;TZID=Europe/Copenhagen:20270326T074500
DTSTAMP:20260421T021139
CREATED:20251003T074251Z
LAST-MODIFIED:20260330T112921Z
UID:10038815-1806046200-1806047100@haraldslund.com
SUMMARY:Saunagus
DESCRIPTION:
URL:https://haraldslund.com/event/saunagus-7-30-2-4/2027-03-26/
CATEGORIES:Wellness
END:VEVENT
BEGIN:VEVENT
DTSTART;TZID=Europe/Copenhagen:20270325T190000
DTEND;TZID=Europe/Copenhagen:20270325T191500
DTSTAMP:20260421T021139
CREATED:20250929T090017Z
LAST-MODIFIED:20260330T110649Z
UID:10011124-1806001200-1806002100@haraldslund.com
SUMMARY:Saunagus
DESCRIPTION:
URL:https://haraldslund.com/event/saunagus-kl-19-00/2027-03-25/
LOCATION:Haraldslund Vand- og kulturhus\, Kastetvej 83\, Aalborg\, 9000\, Denmark
CATEGORIES:Wellness
ORGANIZER;CN="Haraldslund":MAILTO:haraldslund@aalborg.dk
END:VEVENT
BEGIN:VEVENT
DTSTART;TZID=Europe/Copenhagen:20270325T180000
DTEND;TZID=Europe/Copenhagen:20270325T190000
DTSTAMP:20260421T021139
CREATED:20250929T112622Z
LAST-MODIFIED:20260331T064727Z
UID:10020032-1805997600-1806001200@haraldslund.com
SUMMARY:Bodybike 1
DESCRIPTION:
URL:https://haraldslund.com/event/bodybike-1-3/2027-03-25/
LOCATION:Haraldslund Vand- og kulturhus\, Kastetvej 83\, Aalborg\, 9000\, Denmark
CATEGORIES:Motionscenter
ORGANIZER;CN="Haraldslund":MAILTO:haraldslund@aalborg.dk
END:VEVENT
BEGIN:VEVENT
DTSTART;TZID=Europe/Copenhagen:20270325T170000
DTEND;TZID=Europe/Copenhagen:20270325T180000
DTSTAMP:20260421T021139
CREATED:20260129T075100Z
LAST-MODIFIED:20260331T064503Z
UID:10047792-1805994000-1805997600@haraldslund.com
SUMMARY:Crosstræning
DESCRIPTION:
URL:https://haraldslund.com/event/crosstraening/2027-03-25/
LOCATION:Haraldslund Vand- og kulturhus\, Kastetvej 83\, Aalborg\, 9000\, Denmark
CATEGORIES:Motionscenter
ORGANIZER;CN="Haraldslund":MAILTO:haraldslund@aalborg.dk
END:VEVENT
BEGIN:VEVENT
DTSTART;TZID=Europe/Copenhagen:20270325T170000
DTEND;TZID=Europe/Copenhagen:20270325T175000
DTSTAMP:20260421T021139
CREATED:20250929T111112Z
LAST-MODIFIED:20260330T115132Z
UID:10018311-1805994000-1805997000@haraldslund.com
SUMMARY:Jumping fitness
DESCRIPTION:
URL:https://haraldslund.com/event/jumping-fitness-2/2027-03-25/
LOCATION:Haraldslund Vand- og kulturhus\, Kastetvej 83\, Aalborg\, 9000\, Denmark
CATEGORIES:Motionscenter
ORGANIZER;CN="Haraldslund":MAILTO:haraldslund@aalborg.dk
END:VEVENT
BEGIN:VEVENT
DTSTART;TZID=Europe/Copenhagen:20270325T170000
DTEND;TZID=Europe/Copenhagen:20270325T174500
DTSTAMP:20260421T021139
CREATED:20250930T092819Z
LAST-MODIFIED:20260331T064413Z
UID:10026039-1805994000-1805996700@haraldslund.com
SUMMARY:Vandgymnastik
DESCRIPTION:
URL:https://haraldslund.com/event/vandgymnastik-2/2027-03-25/
LOCATION:Haraldslund Vand- og kulturhus\, Kastetvej 83\, Aalborg\, 9000\, Denmark
CATEGORIES:Svømmehal
ORGANIZER;CN="Haraldslund":MAILTO:haraldslund@aalborg.dk
END:VEVENT
BEGIN:VEVENT
DTSTART;TZID=Europe/Copenhagen:20270325T163000
DTEND;TZID=Europe/Copenhagen:20270325T164500
DTSTAMP:20260421T021139
CREATED:20250929T084722Z
LAST-MODIFIED:20260330T110511Z
UID:10009090-1805992200-1805993100@haraldslund.com
SUMMARY:Saunagus
DESCRIPTION:
URL:https://haraldslund.com/event/saunagus-kl-16-30/2027-03-25/
LOCATION:Haraldslund Vand- og kulturhus\, Kastetvej 83\, Aalborg\, 9000\, Denmark
CATEGORIES:Wellness
ORGANIZER;CN="Haraldslund":MAILTO:haraldslund@aalborg.dk
END:VEVENT
BEGIN:VEVENT
DTSTART;TZID=Europe/Copenhagen:20270325T160000
DTEND;TZID=Europe/Copenhagen:20270325T165000
DTSTAMP:20260421T021139
CREATED:20250930T092628Z
LAST-MODIFIED:20251001T083306Z
UID:10024944-1805990400-1805993400@haraldslund.com
SUMMARY:Styrke\, core og stabilitet
DESCRIPTION:
URL:https://haraldslund.com/event/styrke-core-og-stabilitet/2027-03-25/
LOCATION:Haraldslund Vand- og kulturhus\, Kastetvej 83\, Aalborg\, 9000\, Denmark
CATEGORIES:Motionscenter
ORGANIZER;CN="Haraldslund":MAILTO:haraldslund@aalborg.dk
END:VEVENT
BEGIN:VEVENT
DTSTART;TZID=Europe/Copenhagen:20270325T140000
DTEND;TZID=Europe/Copenhagen:20270325T141500
DTSTAMP:20260421T021139
CREATED:20250929T084523Z
LAST-MODIFIED:20260330T105546Z
UID:10007344-1805983200-1805984100@haraldslund.com
SUMMARY:Saunagus
DESCRIPTION:
URL:https://haraldslund.com/event/saunagus-kl-14-00/2027-03-25/
LOCATION:Haraldslund Vand- og kulturhus\, Kastetvej 83\, Aalborg\, 9000\, Denmark
CATEGORIES:Wellness
ORGANIZER;CN="Haraldslund":MAILTO:haraldslund@aalborg.dk
END:VEVENT
BEGIN:VEVENT
DTSTART;TZID=Europe/Copenhagen:20270325T133000
DTEND;TZID=Europe/Copenhagen:20270325T150000
DTSTAMP:20260421T021139
CREATED:20251104T113413Z
LAST-MODIFIED:20260330T111926Z
UID:10044964-1805981400-1805986800@haraldslund.com
SUMMARY:Skolesvømning
DESCRIPTION:
URL:https://haraldslund.com/event/skolesvoemning-5/2027-03-25/
LOCATION:Haraldslund Vand- og kulturhus\, Kastetvej 83\, Aalborg\, 9000\, Denmark
CATEGORIES:Svømmehal
ORGANIZER;CN="Haraldslund":MAILTO:haraldslund@aalborg.dk
END:VEVENT
BEGIN:VEVENT
DTSTART;TZID=Europe/Copenhagen:20270325T130000
DTEND;TZID=Europe/Copenhagen:20270325T134500
DTSTAMP:20260421T021139
CREATED:20250930T104349Z
LAST-MODIFIED:20260330T112104Z
UID:10032776-1805979600-1805982300@haraldslund.com
SUMMARY:Vandgymnastik specialhold
DESCRIPTION:
URL:https://haraldslund.com/event/vandgymnastik-specialhold/2027-03-25/
LOCATION:Haraldslund Vand- og kulturhus\, Kastetvej 83\, Aalborg\, 9000\, Denmark
CATEGORIES:Svømmehal
ORGANIZER;CN="Haraldslund":MAILTO:haraldslund@aalborg.dk
END:VEVENT
BEGIN:VEVENT
DTSTART;TZID=Europe/Copenhagen:20270325T120000
DTEND;TZID=Europe/Copenhagen:20270325T124500
DTSTAMP:20260421T021139
CREATED:20250930T105139Z
LAST-MODIFIED:20260330T111634Z
UID:10034449-1805976000-1805978700@haraldslund.com
SUMMARY:Vandgymnastik specialhold
DESCRIPTION:
URL:https://haraldslund.com/event/vandgymnastik-specialhold-3/2027-03-25/
LOCATION:Haraldslund Vand- og kulturhus\, Kastetvej 83\, Aalborg\, 9000\, Denmark
CATEGORIES:Svømmehal
ORGANIZER;CN="Haraldslund":MAILTO:haraldslund@aalborg.dk
END:VEVENT
BEGIN:VEVENT
DTSTART;TZID=Europe/Copenhagen:20270325T103000
DTEND;TZID=Europe/Copenhagen:20270325T111500
DTSTAMP:20260421T021139
CREATED:20250929T100820Z
LAST-MODIFIED:20260330T113832Z
UID:10015224-1805970600-1805973300@haraldslund.com
SUMMARY:Vandgymnastik
DESCRIPTION:
URL:https://haraldslund.com/event/vandgymnastik-kl-10-30/2027-03-25/
LOCATION:Haraldslund Vand- og kulturhus\, Kastetvej 83\, Aalborg\, 9000\, Denmark
CATEGORIES:Svømmehal
ORGANIZER;CN="Haraldslund":MAILTO:haraldslund@aalborg.dk
END:VEVENT
BEGIN:VEVENT
DTSTART;TZID=Europe/Copenhagen:20270325T101500
DTEND;TZID=Europe/Copenhagen:20270325T103000
DTSTAMP:20260421T021139
CREATED:20251003T081347Z
LAST-MODIFIED:20260330T110253Z
UID:10040505-1805969700-1805970600@haraldslund.com
SUMMARY:Saunagus
DESCRIPTION:
URL:https://haraldslund.com/event/4198/2027-03-25/
LOCATION:Haraldslund Vand- og kulturhus\, Kastetvej 83\, Aalborg\, 9000\, Denmark
CATEGORIES:Wellness
ORGANIZER;CN="Haraldslund":MAILTO:haraldslund@aalborg.dk
END:VEVENT
BEGIN:VEVENT
DTSTART;TZID=Europe/Copenhagen:20270325T090000
DTEND;TZID=Europe/Copenhagen:20270325T110000
DTSTAMP:20260421T021139
CREATED:20250930T113821Z
LAST-MODIFIED:20260330T111407Z
UID:10035490-1805965200-1805972400@haraldslund.com
SUMMARY:Sundhed i bevægelse
DESCRIPTION:
URL:https://haraldslund.com/event/sib-traening/2027-03-25/
LOCATION:Haraldslund Vand- og kulturhus\, Kastetvej 83\, Aalborg\, 9000\, Denmark
CATEGORIES:Sundhed i Bevægelse
ORGANIZER;CN="Haraldslund":MAILTO:haraldslund@aalborg.dk
END:VEVENT
BEGIN:VEVENT
DTSTART;TZID=Europe/Copenhagen:20270325T083000
DTEND;TZID=Europe/Copenhagen:20270325T091500
DTSTAMP:20260421T021139
CREATED:20251104T113006Z
LAST-MODIFIED:20260330T111310Z
UID:10043741-1805963400-1805966100@haraldslund.com
SUMMARY:Skolesvømning
DESCRIPTION:
URL:https://haraldslund.com/event/skolesvoemning-4/2027-03-25/
LOCATION:Haraldslund Vand- og kulturhus\, Kastetvej 83\, Aalborg\, 9000\, Denmark
CATEGORIES:Svømmehal
ORGANIZER;CN="Haraldslund":MAILTO:haraldslund@aalborg.dk
END:VEVENT
BEGIN:VEVENT
DTSTART;TZID=Europe/Copenhagen:20270324T191000
DTEND;TZID=Europe/Copenhagen:20270324T201000
DTSTAMP:20260421T021139
CREATED:20250930T090845Z
LAST-MODIFIED:20260330T110922Z
UID:10024578-1805915400-1805919000@haraldslund.com
SUMMARY:Stram op
DESCRIPTION:
URL:https://haraldslund.com/event/stram-op/2027-03-24/
LOCATION:Haraldslund Vand- og kulturhus\, Kastetvej 83\, Aalborg\, 9000\, Denmark
CATEGORIES:Motionscenter
ORGANIZER;CN="Haraldslund":MAILTO:haraldslund@aalborg.dk
END:VEVENT
BEGIN:VEVENT
DTSTART;TZID=Europe/Copenhagen:20270324T181500
DTEND;TZID=Europe/Copenhagen:20270324T193000
DTSTAMP:20260421T021139
CREATED:20250929T085743Z
LAST-MODIFIED:20260330T114921Z
UID:10010394-1805912100-1805916600@haraldslund.com
SUMMARY:Temagus
DESCRIPTION:
URL:https://haraldslund.com/event/temagus-kl-18-15/2027-03-24/
LOCATION:Haraldslund Vand- og kulturhus\, Kastetvej 83\, Aalborg\, 9000\, Denmark
CATEGORIES:Wellness
ORGANIZER;CN="Haraldslund":MAILTO:haraldslund@aalborg.dk
END:VEVENT
BEGIN:VEVENT
DTSTART;TZID=Europe/Copenhagen:20270324T181000
DTEND;TZID=Europe/Copenhagen:20270324T190000
DTSTAMP:20260421T021139
CREATED:20250929T110435Z
LAST-MODIFIED:20260323T063531Z
UID:10017867-1805911800-1805914800@haraldslund.com
SUMMARY:Jumping Fitness
DESCRIPTION:
URL:https://haraldslund.com/event/jumping-fitness-kl-17-00/2027-03-24/
LOCATION:Haraldslund Vand- og kulturhus\, Kastetvej 83\, Aalborg\, 9000\, Denmark
CATEGORIES:Motionscenter
ORGANIZER;CN="Haraldslund":MAILTO:haraldslund@aalborg.dk
END:VEVENT
BEGIN:VEVENT
DTSTART;TZID=Europe/Copenhagen:20270324T170000
DTEND;TZID=Europe/Copenhagen:20270324T180000
DTSTAMP:20260421T021139
CREATED:20250930T090108Z
LAST-MODIFIED:20251023T110809Z
UID:10024212-1805907600-1805911200@haraldslund.com
SUMMARY:Crossdance
DESCRIPTION:
URL:https://haraldslund.com/event/crossdance/2027-03-24/
LOCATION:Haraldslund Vand- og kulturhus\, Kastetvej 83\, Aalborg\, 9000\, Denmark
CATEGORIES:Motionscenter
ORGANIZER;CN="Haraldslund":MAILTO:haraldslund@aalborg.dk
END:VEVENT
END:VCALENDAR