BEGIN:VCALENDAR
VERSION:2.0
PRODID:-//Haraldslund - ECPv6.15.16.1//NONSGML v1.0//EN
CALSCALE:GREGORIAN
METHOD:PUBLISH
X-WR-CALNAME:Haraldslund
X-ORIGINAL-URL:https://haraldslund.com
X-WR-CALDESC:Begivenheder for Haraldslund
REFRESH-INTERVAL;VALUE=DURATION:PT1H
X-Robots-Tag:noindex
X-PUBLISHED-TTL:PT1H
BEGIN:VTIMEZONE
TZID:Europe/Copenhagen
BEGIN:DAYLIGHT
TZOFFSETFROM:+0100
TZOFFSETTO:+0200
TZNAME:CEST
DTSTART:20260329T010000
END:DAYLIGHT
BEGIN:STANDARD
TZOFFSETFROM:+0200
TZOFFSETTO:+0100
TZNAME:CET
DTSTART:20261025T010000
END:STANDARD
BEGIN:DAYLIGHT
TZOFFSETFROM:+0100
TZOFFSETTO:+0200
TZNAME:CEST
DTSTART:20270328T010000
END:DAYLIGHT
BEGIN:STANDARD
TZOFFSETFROM:+0200
TZOFFSETTO:+0100
TZNAME:CET
DTSTART:20271031T010000
END:STANDARD
BEGIN:DAYLIGHT
TZOFFSETFROM:+0100
TZOFFSETTO:+0200
TZNAME:CEST
DTSTART:20280326T010000
END:DAYLIGHT
BEGIN:STANDARD
TZOFFSETFROM:+0200
TZOFFSETTO:+0100
TZNAME:CET
DTSTART:20281029T010000
END:STANDARD
END:VTIMEZONE
BEGIN:VEVENT
DTSTART;TZID=Europe/Copenhagen:20270617T190000
DTEND;TZID=Europe/Copenhagen:20270617T191500
DTSTAMP:20260426T031113
CREATED:20250929T090017Z
LAST-MODIFIED:20260330T110649Z
UID:10011148-1813258800-1813259700@haraldslund.com
SUMMARY:Saunagus
DESCRIPTION:
URL:https://haraldslund.com/event/saunagus-kl-19-00/2027-06-17/
LOCATION:Haraldslund Vand- og kulturhus\, Kastetvej 83\, Aalborg\, 9000\, Denmark
CATEGORIES:Wellness
ORGANIZER;CN="Haraldslund":MAILTO:haraldslund@aalborg.dk
END:VEVENT
BEGIN:VEVENT
DTSTART;TZID=Europe/Copenhagen:20270617T180000
DTEND;TZID=Europe/Copenhagen:20270617T190000
DTSTAMP:20260426T031113
CREATED:20250929T112622Z
LAST-MODIFIED:20260331T064727Z
UID:10020044-1813255200-1813258800@haraldslund.com
SUMMARY:Bodybike 1
DESCRIPTION:
URL:https://haraldslund.com/event/bodybike-1-3/2027-06-17/
LOCATION:Haraldslund Vand- og kulturhus\, Kastetvej 83\, Aalborg\, 9000\, Denmark
CATEGORIES:Motionscenter
ORGANIZER;CN="Haraldslund":MAILTO:haraldslund@aalborg.dk
END:VEVENT
BEGIN:VEVENT
DTSTART;TZID=Europe/Copenhagen:20270617T170000
DTEND;TZID=Europe/Copenhagen:20270617T180000
DTSTAMP:20260426T031113
CREATED:20260129T075100Z
LAST-MODIFIED:20260331T064503Z
UID:10047804-1813251600-1813255200@haraldslund.com
SUMMARY:Crosstræning
DESCRIPTION:
URL:https://haraldslund.com/event/crosstraening/2027-06-17/
LOCATION:Haraldslund Vand- og kulturhus\, Kastetvej 83\, Aalborg\, 9000\, Denmark
CATEGORIES:Motionscenter
ORGANIZER;CN="Haraldslund":MAILTO:haraldslund@aalborg.dk
END:VEVENT
BEGIN:VEVENT
DTSTART;TZID=Europe/Copenhagen:20270617T170000
DTEND;TZID=Europe/Copenhagen:20270617T175000
DTSTAMP:20260426T031113
CREATED:20250929T111112Z
LAST-MODIFIED:20260330T115132Z
UID:10018323-1813251600-1813254600@haraldslund.com
SUMMARY:Jumping fitness
DESCRIPTION:
URL:https://haraldslund.com/event/jumping-fitness-2/2027-06-17/
LOCATION:Haraldslund Vand- og kulturhus\, Kastetvej 83\, Aalborg\, 9000\, Denmark
CATEGORIES:Motionscenter
ORGANIZER;CN="Haraldslund":MAILTO:haraldslund@aalborg.dk
END:VEVENT
BEGIN:VEVENT
DTSTART;TZID=Europe/Copenhagen:20270617T170000
DTEND;TZID=Europe/Copenhagen:20270617T174500
DTSTAMP:20260426T031113
CREATED:20250930T092819Z
LAST-MODIFIED:20260331T064413Z
UID:10026051-1813251600-1813254300@haraldslund.com
SUMMARY:Vandgymnastik
DESCRIPTION:
URL:https://haraldslund.com/event/vandgymnastik-2/2027-06-17/
LOCATION:Haraldslund Vand- og kulturhus\, Kastetvej 83\, Aalborg\, 9000\, Denmark
CATEGORIES:Svømmehal
ORGANIZER;CN="Haraldslund":MAILTO:haraldslund@aalborg.dk
END:VEVENT
BEGIN:VEVENT
DTSTART;TZID=Europe/Copenhagen:20270617T163000
DTEND;TZID=Europe/Copenhagen:20270617T164500
DTSTAMP:20260426T031113
CREATED:20250929T084722Z
LAST-MODIFIED:20260330T110511Z
UID:10009138-1813249800-1813250700@haraldslund.com
SUMMARY:Saunagus
DESCRIPTION:
URL:https://haraldslund.com/event/saunagus-kl-16-30/2027-06-17/
LOCATION:Haraldslund Vand- og kulturhus\, Kastetvej 83\, Aalborg\, 9000\, Denmark
CATEGORIES:Wellness
ORGANIZER;CN="Haraldslund":MAILTO:haraldslund@aalborg.dk
END:VEVENT
BEGIN:VEVENT
DTSTART;TZID=Europe/Copenhagen:20270617T160000
DTEND;TZID=Europe/Copenhagen:20270617T165000
DTSTAMP:20260426T031113
CREATED:20250930T092628Z
LAST-MODIFIED:20251001T083306Z
UID:10024956-1813248000-1813251000@haraldslund.com
SUMMARY:Styrke\, core og stabilitet
DESCRIPTION:
URL:https://haraldslund.com/event/styrke-core-og-stabilitet/2027-06-17/
LOCATION:Haraldslund Vand- og kulturhus\, Kastetvej 83\, Aalborg\, 9000\, Denmark
CATEGORIES:Motionscenter
ORGANIZER;CN="Haraldslund":MAILTO:haraldslund@aalborg.dk
END:VEVENT
BEGIN:VEVENT
DTSTART;TZID=Europe/Copenhagen:20270617T140000
DTEND;TZID=Europe/Copenhagen:20270617T141500
DTSTAMP:20260426T031113
CREATED:20250929T084523Z
LAST-MODIFIED:20260330T105546Z
UID:10007404-1813240800-1813241700@haraldslund.com
SUMMARY:Saunagus
DESCRIPTION:
URL:https://haraldslund.com/event/saunagus-kl-14-00/2027-06-17/
LOCATION:Haraldslund Vand- og kulturhus\, Kastetvej 83\, Aalborg\, 9000\, Denmark
CATEGORIES:Wellness
ORGANIZER;CN="Haraldslund":MAILTO:haraldslund@aalborg.dk
END:VEVENT
BEGIN:VEVENT
DTSTART;TZID=Europe/Copenhagen:20270617T133000
DTEND;TZID=Europe/Copenhagen:20270617T150000
DTSTAMP:20260426T031113
CREATED:20251104T113413Z
LAST-MODIFIED:20260330T111926Z
UID:10044976-1813239000-1813244400@haraldslund.com
SUMMARY:Skolesvømning
DESCRIPTION:
URL:https://haraldslund.com/event/skolesvoemning-5/2027-06-17/
LOCATION:Haraldslund Vand- og kulturhus\, Kastetvej 83\, Aalborg\, 9000\, Denmark
CATEGORIES:Svømmehal
ORGANIZER;CN="Haraldslund":MAILTO:haraldslund@aalborg.dk
END:VEVENT
BEGIN:VEVENT
DTSTART;TZID=Europe/Copenhagen:20270617T130000
DTEND;TZID=Europe/Copenhagen:20270617T134500
DTSTAMP:20260426T031113
CREATED:20250930T104349Z
LAST-MODIFIED:20260330T112104Z
UID:10032812-1813237200-1813239900@haraldslund.com
SUMMARY:Vandgymnastik specialhold
DESCRIPTION:
URL:https://haraldslund.com/event/vandgymnastik-specialhold/2027-06-17/
LOCATION:Haraldslund Vand- og kulturhus\, Kastetvej 83\, Aalborg\, 9000\, Denmark
CATEGORIES:Svømmehal
ORGANIZER;CN="Haraldslund":MAILTO:haraldslund@aalborg.dk
END:VEVENT
BEGIN:VEVENT
DTSTART;TZID=Europe/Copenhagen:20270617T120000
DTEND;TZID=Europe/Copenhagen:20270617T124500
DTSTAMP:20260426T031113
CREATED:20250930T105139Z
LAST-MODIFIED:20260330T111634Z
UID:10034461-1813233600-1813236300@haraldslund.com
SUMMARY:Vandgymnastik specialhold
DESCRIPTION:
URL:https://haraldslund.com/event/vandgymnastik-specialhold-3/2027-06-17/
LOCATION:Haraldslund Vand- og kulturhus\, Kastetvej 83\, Aalborg\, 9000\, Denmark
CATEGORIES:Svømmehal
ORGANIZER;CN="Haraldslund":MAILTO:haraldslund@aalborg.dk
END:VEVENT
BEGIN:VEVENT
DTSTART;TZID=Europe/Copenhagen:20270617T103000
DTEND;TZID=Europe/Copenhagen:20270617T111500
DTSTAMP:20260426T031113
CREATED:20250929T100820Z
LAST-MODIFIED:20260330T113832Z
UID:10015260-1813228200-1813230900@haraldslund.com
SUMMARY:Vandgymnastik
DESCRIPTION:
URL:https://haraldslund.com/event/vandgymnastik-kl-10-30/2027-06-17/
LOCATION:Haraldslund Vand- og kulturhus\, Kastetvej 83\, Aalborg\, 9000\, Denmark
CATEGORIES:Svømmehal
ORGANIZER;CN="Haraldslund":MAILTO:haraldslund@aalborg.dk
END:VEVENT
BEGIN:VEVENT
DTSTART;TZID=Europe/Copenhagen:20270617T101500
DTEND;TZID=Europe/Copenhagen:20270617T103000
DTSTAMP:20260426T031113
CREATED:20251003T081347Z
LAST-MODIFIED:20260330T110253Z
UID:10040577-1813227300-1813228200@haraldslund.com
SUMMARY:Saunagus
DESCRIPTION:
URL:https://haraldslund.com/event/4198/2027-06-17/
LOCATION:Haraldslund Vand- og kulturhus\, Kastetvej 83\, Aalborg\, 9000\, Denmark
CATEGORIES:Wellness
ORGANIZER;CN="Haraldslund":MAILTO:haraldslund@aalborg.dk
END:VEVENT
BEGIN:VEVENT
DTSTART;TZID=Europe/Copenhagen:20270617T090000
DTEND;TZID=Europe/Copenhagen:20270617T110000
DTSTAMP:20260426T031113
CREATED:20250930T113821Z
LAST-MODIFIED:20260330T111407Z
UID:10035550-1813222800-1813230000@haraldslund.com
SUMMARY:Sundhed i bevægelse
DESCRIPTION:
URL:https://haraldslund.com/event/sib-traening/2027-06-17/
LOCATION:Haraldslund Vand- og kulturhus\, Kastetvej 83\, Aalborg\, 9000\, Denmark
CATEGORIES:Sundhed i Bevægelse
ORGANIZER;CN="Haraldslund":MAILTO:haraldslund@aalborg.dk
END:VEVENT
BEGIN:VEVENT
DTSTART;TZID=Europe/Copenhagen:20270617T083000
DTEND;TZID=Europe/Copenhagen:20270617T091500
DTSTAMP:20260426T031113
CREATED:20251104T113006Z
LAST-MODIFIED:20260330T111310Z
UID:10043765-1813221000-1813223700@haraldslund.com
SUMMARY:Skolesvømning
DESCRIPTION:
URL:https://haraldslund.com/event/skolesvoemning-4/2027-06-17/
LOCATION:Haraldslund Vand- og kulturhus\, Kastetvej 83\, Aalborg\, 9000\, Denmark
CATEGORIES:Svømmehal
ORGANIZER;CN="Haraldslund":MAILTO:haraldslund@aalborg.dk
END:VEVENT
BEGIN:VEVENT
DTSTART;TZID=Europe/Copenhagen:20270616T191000
DTEND;TZID=Europe/Copenhagen:20270616T201000
DTSTAMP:20260426T031113
CREATED:20250930T090845Z
LAST-MODIFIED:20260330T110922Z
UID:10024590-1813173000-1813176600@haraldslund.com
SUMMARY:Stram op
DESCRIPTION:
URL:https://haraldslund.com/event/stram-op/2027-06-16/
LOCATION:Haraldslund Vand- og kulturhus\, Kastetvej 83\, Aalborg\, 9000\, Denmark
CATEGORIES:Motionscenter
ORGANIZER;CN="Haraldslund":MAILTO:haraldslund@aalborg.dk
END:VEVENT
BEGIN:VEVENT
DTSTART;TZID=Europe/Copenhagen:20270616T181500
DTEND;TZID=Europe/Copenhagen:20270616T193000
DTSTAMP:20260426T031113
CREATED:20250929T085743Z
LAST-MODIFIED:20260330T114921Z
UID:10010418-1813169700-1813174200@haraldslund.com
SUMMARY:Temagus
DESCRIPTION:
URL:https://haraldslund.com/event/temagus-kl-18-15/2027-06-16/
LOCATION:Haraldslund Vand- og kulturhus\, Kastetvej 83\, Aalborg\, 9000\, Denmark
CATEGORIES:Wellness
ORGANIZER;CN="Haraldslund":MAILTO:haraldslund@aalborg.dk
END:VEVENT
BEGIN:VEVENT
DTSTART;TZID=Europe/Copenhagen:20270616T181000
DTEND;TZID=Europe/Copenhagen:20270616T190000
DTSTAMP:20260426T031113
CREATED:20250929T110435Z
LAST-MODIFIED:20260323T063531Z
UID:10017891-1813169400-1813172400@haraldslund.com
SUMMARY:Jumping Fitness
DESCRIPTION:
URL:https://haraldslund.com/event/jumping-fitness-kl-17-00/2027-06-16/
LOCATION:Haraldslund Vand- og kulturhus\, Kastetvej 83\, Aalborg\, 9000\, Denmark
CATEGORIES:Motionscenter
ORGANIZER;CN="Haraldslund":MAILTO:haraldslund@aalborg.dk
END:VEVENT
BEGIN:VEVENT
DTSTART;TZID=Europe/Copenhagen:20270616T170000
DTEND;TZID=Europe/Copenhagen:20270616T180000
DTSTAMP:20260426T031113
CREATED:20250930T090108Z
LAST-MODIFIED:20251023T110809Z
UID:10024224-1813165200-1813168800@haraldslund.com
SUMMARY:Crossdance
DESCRIPTION:
URL:https://haraldslund.com/event/crossdance/2027-06-16/
LOCATION:Haraldslund Vand- og kulturhus\, Kastetvej 83\, Aalborg\, 9000\, Denmark
CATEGORIES:Motionscenter
ORGANIZER;CN="Haraldslund":MAILTO:haraldslund@aalborg.dk
END:VEVENT
BEGIN:VEVENT
DTSTART;TZID=Europe/Copenhagen:20270616T170000
DTEND;TZID=Europe/Copenhagen:20270616T180000
DTSTAMP:20260426T031113
CREATED:20250929T112413Z
LAST-MODIFIED:20260331T064541Z
UID:10019679-1813165200-1813168800@haraldslund.com
SUMMARY:Bodybike 1
DESCRIPTION:
URL:https://haraldslund.com/event/bodybike-1-2/2027-06-16/
LOCATION:Haraldslund Vand- og kulturhus\, Kastetvej 83\, Aalborg\, 9000\, Denmark
CATEGORIES:Motionscenter
ORGANIZER;CN="Haraldslund":MAILTO:haraldslund@aalborg.dk
END:VEVENT
BEGIN:VEVENT
DTSTART;TZID=Europe/Copenhagen:20270616T163000
DTEND;TZID=Europe/Copenhagen:20270616T164500
DTSTAMP:20260426T031113
CREATED:20250929T084722Z
LAST-MODIFIED:20260330T110511Z
UID:10009137-1813163400-1813164300@haraldslund.com
SUMMARY:Saunagus
DESCRIPTION:
URL:https://haraldslund.com/event/saunagus-kl-16-30/2027-06-16/
LOCATION:Haraldslund Vand- og kulturhus\, Kastetvej 83\, Aalborg\, 9000\, Denmark
CATEGORIES:Wellness
ORGANIZER;CN="Haraldslund":MAILTO:haraldslund@aalborg.dk
END:VEVENT
BEGIN:VEVENT
DTSTART;TZID=Europe/Copenhagen:20270616T160000
DTEND;TZID=Europe/Copenhagen:20270616T165000
DTSTAMP:20260426T031113
CREATED:20250930T085445Z
LAST-MODIFIED:20251023T110654Z
UID:10023858-1813161600-1813164600@haraldslund.com
SUMMARY:Core og stabilitet
DESCRIPTION:
URL:https://haraldslund.com/event/core-og-stabilitet/2027-06-16/
LOCATION:Haraldslund Vand- og kulturhus\, Kastetvej 83\, Aalborg\, 9000\, Denmark
CATEGORIES:Motionscenter
ORGANIZER;CN="Haraldslund":MAILTO:haraldslund@aalborg.dk
END:VEVENT
BEGIN:VEVENT
DTSTART;TZID=Europe/Copenhagen:20270616T140000
DTEND;TZID=Europe/Copenhagen:20270616T141500
DTSTAMP:20260426T031113
CREATED:20250929T084523Z
LAST-MODIFIED:20260330T105546Z
UID:10007403-1813154400-1813155300@haraldslund.com
SUMMARY:Saunagus
DESCRIPTION:
URL:https://haraldslund.com/event/saunagus-kl-14-00/2027-06-16/
LOCATION:Haraldslund Vand- og kulturhus\, Kastetvej 83\, Aalborg\, 9000\, Denmark
CATEGORIES:Wellness
ORGANIZER;CN="Haraldslund":MAILTO:haraldslund@aalborg.dk
END:VEVENT
BEGIN:VEVENT
DTSTART;TZID=Europe/Copenhagen:20270616T134500
DTEND;TZID=Europe/Copenhagen:20270616T144500
DTSTAMP:20260426T031113
CREATED:20251105T100044Z
LAST-MODIFIED:20260330T111153Z
UID:10045756-1813153500-1813157100@haraldslund.com
SUMMARY:Skolesvømning
DESCRIPTION:
URL:https://haraldslund.com/event/skolesvoemning-2-2/2027-06-16/
CATEGORIES:Svømmehal
END:VEVENT
BEGIN:VEVENT
DTSTART;TZID=Europe/Copenhagen:20270616T130000
DTEND;TZID=Europe/Copenhagen:20270616T134500
DTSTAMP:20260426T031113
CREATED:20250930T104349Z
LAST-MODIFIED:20260330T112104Z
UID:10032811-1813150800-1813153500@haraldslund.com
SUMMARY:Vandgymnastik specialhold
DESCRIPTION:
URL:https://haraldslund.com/event/vandgymnastik-specialhold/2027-06-16/
LOCATION:Haraldslund Vand- og kulturhus\, Kastetvej 83\, Aalborg\, 9000\, Denmark
CATEGORIES:Svømmehal
ORGANIZER;CN="Haraldslund":MAILTO:haraldslund@aalborg.dk
END:VEVENT
BEGIN:VEVENT
DTSTART;TZID=Europe/Copenhagen:20270616T103000
DTEND;TZID=Europe/Copenhagen:20270616T111500
DTSTAMP:20260426T031113
CREATED:20250929T115150Z
LAST-MODIFIED:20251205T081919Z
UID:10023228-1813141800-1813144500@haraldslund.com
SUMMARY:Varmtvandstræning
DESCRIPTION:
URL:https://haraldslund.com/event/varmtvandstraening/2027-06-16/
LOCATION:Haraldslund Vand- og kulturhus\, Kastetvej 83\, Aalborg\, 9000\, Denmark
CATEGORIES:Svømmehal
ORGANIZER;CN="Haraldslund":MAILTO:haraldslund@aalborg.dk
END:VEVENT
BEGIN:VEVENT
DTSTART;TZID=Europe/Copenhagen:20270616T101500
DTEND;TZID=Europe/Copenhagen:20270616T103000
DTSTAMP:20260426T031113
CREATED:20251003T081347Z
LAST-MODIFIED:20260330T110253Z
UID:10040576-1813140900-1813141800@haraldslund.com
SUMMARY:Saunagus
DESCRIPTION:
URL:https://haraldslund.com/event/4198/2027-06-16/
LOCATION:Haraldslund Vand- og kulturhus\, Kastetvej 83\, Aalborg\, 9000\, Denmark
CATEGORIES:Wellness
ORGANIZER;CN="Haraldslund":MAILTO:haraldslund@aalborg.dk
END:VEVENT
BEGIN:VEVENT
DTSTART;TZID=Europe/Copenhagen:20270616T093000
DTEND;TZID=Europe/Copenhagen:20270616T103000
DTSTAMP:20260426T031113
CREATED:20250929T114741Z
LAST-MODIFIED:20251205T082421Z
UID:10022864-1813138200-1813141800@haraldslund.com
SUMMARY:Pilates
DESCRIPTION:
URL:https://haraldslund.com/event/pilates/2027-06-16/
LOCATION:Haraldslund Vand- og kulturhus\, Kastetvej 83\, Aalborg\, 9000\, Denmark
CATEGORIES:Motionscenter
ORGANIZER;CN="Haraldslund":MAILTO:haraldslund@aalborg.dk
END:VEVENT
BEGIN:VEVENT
DTSTART;TZID=Europe/Copenhagen:20270616T091500
DTEND;TZID=Europe/Copenhagen:20270616T100000
DTSTAMP:20260426T031113
CREATED:20250929T094650Z
LAST-MODIFIED:20260330T111051Z
UID:10014163-1813137300-1813140000@haraldslund.com
SUMMARY:Vandgymnastik
DESCRIPTION:
URL:https://haraldslund.com/event/vandgymnastik-kl-9-15/2027-06-16/
LOCATION:Haraldslund Vand- og kulturhus\, Kastetvej 83\, Aalborg\, 9000\, Denmark
CATEGORIES:Svømmehal
ORGANIZER;CN="Haraldslund":MAILTO:haraldslund@aalborg.dk
END:VEVENT
BEGIN:VEVENT
DTSTART;TZID=Europe/Copenhagen:20270616T090000
DTEND;TZID=Europe/Copenhagen:20270616T110000
DTSTAMP:20260426T031113
CREATED:20250930T113821Z
LAST-MODIFIED:20260330T111407Z
UID:10035549-1813136400-1813143600@haraldslund.com
SUMMARY:Sundhed i bevægelse
DESCRIPTION:
URL:https://haraldslund.com/event/sib-traening/2027-06-16/
LOCATION:Haraldslund Vand- og kulturhus\, Kastetvej 83\, Aalborg\, 9000\, Denmark
CATEGORIES:Sundhed i Bevægelse
ORGANIZER;CN="Haraldslund":MAILTO:haraldslund@aalborg.dk
END:VEVENT
END:VCALENDAR