BEGIN:VCALENDAR
VERSION:2.0
PRODID:-//Haraldslund - ECPv6.15.16.1//NONSGML v1.0//EN
CALSCALE:GREGORIAN
METHOD:PUBLISH
X-WR-CALNAME:Haraldslund
X-ORIGINAL-URL:https://haraldslund.com
X-WR-CALDESC:Begivenheder for Haraldslund
REFRESH-INTERVAL;VALUE=DURATION:PT1H
X-Robots-Tag:noindex
X-PUBLISHED-TTL:PT1H
BEGIN:VTIMEZONE
TZID:Europe/Copenhagen
BEGIN:DAYLIGHT
TZOFFSETFROM:+0100
TZOFFSETTO:+0200
TZNAME:CEST
DTSTART:20260329T010000
END:DAYLIGHT
BEGIN:STANDARD
TZOFFSETFROM:+0200
TZOFFSETTO:+0100
TZNAME:CET
DTSTART:20261025T010000
END:STANDARD
BEGIN:DAYLIGHT
TZOFFSETFROM:+0100
TZOFFSETTO:+0200
TZNAME:CEST
DTSTART:20270328T010000
END:DAYLIGHT
BEGIN:STANDARD
TZOFFSETFROM:+0200
TZOFFSETTO:+0100
TZNAME:CET
DTSTART:20271031T010000
END:STANDARD
BEGIN:DAYLIGHT
TZOFFSETFROM:+0100
TZOFFSETTO:+0200
TZNAME:CEST
DTSTART:20280326T010000
END:DAYLIGHT
BEGIN:STANDARD
TZOFFSETFROM:+0200
TZOFFSETTO:+0100
TZNAME:CET
DTSTART:20281029T010000
END:STANDARD
END:VTIMEZONE
BEGIN:VEVENT
DTSTART;TZID=Europe/Copenhagen:20270612T140000
DTEND;TZID=Europe/Copenhagen:20270612T141500
DTSTAMP:20260425T204125
CREATED:20250929T084523Z
LAST-MODIFIED:20260330T105546Z
UID:10048378-1812808800-1812809700@haraldslund.com
SUMMARY:Saunagus
DESCRIPTION:
URL:https://haraldslund.com/event/saunagus-kl-14-00/2027-06-12/
LOCATION:Haraldslund Vand- og kulturhus\, Kastetvej 83\, Aalborg\, 9000\, Denmark
CATEGORIES:Wellness
ORGANIZER;CN="Haraldslund":MAILTO:haraldslund@aalborg.dk
END:VEVENT
BEGIN:VEVENT
DTSTART;TZID=Europe/Copenhagen:20270612T120000
DTEND;TZID=Europe/Copenhagen:20270612T121500
DTSTAMP:20260425T204125
CREATED:20260223T065538Z
LAST-MODIFIED:20260330T105402Z
UID:10050282-1812801600-1812802500@haraldslund.com
SUMMARY:Saunagus
DESCRIPTION:
URL:https://haraldslund.com/event/saunagus/2027-06-12/
LOCATION:Haraldslund Vand- og kulturhus\, Kastetvej 83\, Aalborg\, 9000\, Denmark
CATEGORIES:Svømmehal,Wellness
ORGANIZER;CN="Haraldslund":MAILTO:haraldslund@aalborg.dk
END:VEVENT
BEGIN:VEVENT
DTSTART;TZID=Europe/Copenhagen:20270612T102000
DTEND;TZID=Europe/Copenhagen:20270612T105000
DTSTAMP:20260425T204125
CREATED:20250930T095352Z
LAST-MODIFIED:20251120T120845Z
UID:10037277-1812795600-1812797400@haraldslund.com
SUMMARY:Ansigtsyoga
DESCRIPTION:
URL:https://haraldslund.com/event/ansigtsyoga/2027-06-12/
LOCATION:Haraldslund Vand- og kulturhus\, Kastetvej 83\, Aalborg\, 9000\, Denmark
CATEGORIES:Motionscenter
ORGANIZER;CN="Haraldslund":MAILTO:haraldslund@aalborg.dk
END:VEVENT
BEGIN:VEVENT
DTSTART;TZID=Europe/Copenhagen:20270612T101000
DTEND;TZID=Europe/Copenhagen:20270612T104000
DTSTAMP:20260425T204125
CREATED:20251205T083722Z
LAST-MODIFIED:20251205T083722Z
UID:10046760-1812795000-1812796800@haraldslund.com
SUMMARY:AB attack
DESCRIPTION:
URL:https://haraldslund.com/event/ab-attack/2027-06-12/
LOCATION:Haraldslund Vand- og kulturhus\, Kastetvej 83\, Aalborg\, 9000\, Denmark
CATEGORIES:Motionscenter
ORGANIZER;CN="Haraldslund":MAILTO:haraldslund@aalborg.dk
END:VEVENT
BEGIN:VEVENT
DTSTART;TZID=Europe/Copenhagen:20270612T100000
DTEND;TZID=Europe/Copenhagen:20270612T101500
DTSTAMP:20260425T204125
CREATED:20260223T065913Z
LAST-MODIFIED:20260330T105201Z
UID:10050847-1812794400-1812795300@haraldslund.com
SUMMARY:Saunagus
DESCRIPTION:
URL:https://haraldslund.com/event/saunagus-2/2027-06-12/
LOCATION:Haraldslund Vand- og kulturhus\, Kastetvej 83\, Aalborg\, 9000\, Denmark
CATEGORIES:Svømmehal,Wellness
ORGANIZER;CN="Haraldslund":MAILTO:haraldslund@aalborg.dk
END:VEVENT
BEGIN:VEVENT
DTSTART;TZID=Europe/Copenhagen:20270612T090000
DTEND;TZID=Europe/Copenhagen:20270612T101000
DTSTAMP:20260425T204125
CREATED:20250930T095156Z
LAST-MODIFIED:20251001T080029Z
UID:10028621-1812790800-1812795000@haraldslund.com
SUMMARY:Hatha yoga
DESCRIPTION:
URL:https://haraldslund.com/event/hatha-yoga/2027-06-12/
LOCATION:Haraldslund Vand- og kulturhus\, Kastetvej 83\, Aalborg\, 9000\, Denmark
CATEGORIES:Motionscenter
ORGANIZER;CN="Haraldslund":MAILTO:haraldslund@aalborg.dk
END:VEVENT
BEGIN:VEVENT
DTSTART;TZID=Europe/Copenhagen:20270612T090000
DTEND;TZID=Europe/Copenhagen:20270612T100000
DTSTAMP:20260425T204125
CREATED:20250930T095023Z
LAST-MODIFIED:20251001T080206Z
UID:10028256-1812790800-1812794400@haraldslund.com
SUMMARY:Stram op
DESCRIPTION:
URL:https://haraldslund.com/event/stram-op-2/2027-06-12/
LOCATION:Haraldslund Vand- og kulturhus\, Kastetvej 83\, Aalborg\, 9000\, Denmark
CATEGORIES:Motionscenter
ORGANIZER;CN="Haraldslund":MAILTO:haraldslund@aalborg.dk
END:VEVENT
BEGIN:VEVENT
DTSTART;TZID=Europe/Copenhagen:20270611T160000
DTEND;TZID=Europe/Copenhagen:20270611T171500
DTSTAMP:20260425T204125
CREATED:20250930T094756Z
LAST-MODIFIED:20260330T113406Z
UID:10027874-1812729600-1812734100@haraldslund.com
SUMMARY:Yin yoga
DESCRIPTION:
URL:https://haraldslund.com/event/yin-yoga/2027-06-11/
LOCATION:Haraldslund Vand- og kulturhus\, Kastetvej 83\, Aalborg\, 9000\, Denmark
CATEGORIES:Motionscenter
ORGANIZER;CN="Haraldslund":MAILTO:haraldslund@aalborg.dk
END:VEVENT
BEGIN:VEVENT
DTSTART;TZID=Europe/Copenhagen:20270611T154500
DTEND;TZID=Europe/Copenhagen:20270611T170000
DTSTAMP:20260425T204125
CREATED:20250929T092105Z
LAST-MODIFIED:20260413T074248Z
UID:10012525-1812728700-1812733200@haraldslund.com
SUMMARY:Temagus
DESCRIPTION:
URL:https://haraldslund.com/event/temagus-15-45/2027-06-11/
LOCATION:Haraldslund Vand- og kulturhus\, Kastetvej 83\, Aalborg\, 9000\, Denmark
CATEGORIES:Wellness
ORGANIZER;CN="Haraldslund":MAILTO:haraldslund@aalborg.dk
END:VEVENT
BEGIN:VEVENT
DTSTART;TZID=Europe/Copenhagen:20270611T144500
DTEND;TZID=Europe/Copenhagen:20270611T153500
DTSTAMP:20260425T204125
CREATED:20250930T094656Z
LAST-MODIFIED:20260330T113337Z
UID:10027509-1812725100-1812728100@haraldslund.com
SUMMARY:Jumping fitness
DESCRIPTION:
URL:https://haraldslund.com/event/jumping-fitness-3/2027-06-11/
LOCATION:Haraldslund Vand- og kulturhus\, Kastetvej 83\, Aalborg\, 9000\, Denmark
CATEGORIES:Motionscenter
ORGANIZER;CN="Haraldslund":MAILTO:haraldslund@aalborg.dk
END:VEVENT
BEGIN:VEVENT
DTSTART;TZID=Europe/Copenhagen:20270611T113000
DTEND;TZID=Europe/Copenhagen:20270611T114500
DTSTAMP:20260425T204125
CREATED:20250929T090821Z
LAST-MODIFIED:20260330T113216Z
UID:10012159-1812713400-1812714300@haraldslund.com
SUMMARY:Saunagus
DESCRIPTION:
URL:https://haraldslund.com/event/saunagus-kl-11-30/2027-06-11/
LOCATION:Haraldslund Vand- og kulturhus\, Kastetvej 83\, Aalborg\, 9000\, Denmark
CATEGORIES:Wellness
ORGANIZER;CN="Haraldslund":MAILTO:haraldslund@aalborg.dk
END:VEVENT
BEGIN:VEVENT
DTSTART;TZID=Europe/Copenhagen:20270611T110000
DTEND;TZID=Europe/Copenhagen:20270611T111500
DTSTAMP:20260425T204125
CREATED:20250929T090221Z
LAST-MODIFIED:20260330T113145Z
UID:10037776-1812711600-1812712500@haraldslund.com
SUMMARY:Saunagus
DESCRIPTION:
URL:https://haraldslund.com/event/saunagus-kl-11-00/2027-06-11/
LOCATION:Haraldslund Vand- og kulturhus\, Kastetvej 83\, Aalborg\, 9000\, Denmark
CATEGORIES:Wellness
ORGANIZER;CN="Haraldslund":MAILTO:haraldslund@aalborg.dk
END:VEVENT
BEGIN:VEVENT
DTSTART;TZID=Europe/Copenhagen:20270611T100000
DTEND;TZID=Europe/Copenhagen:20270611T104500
DTSTAMP:20260425T204125
CREATED:20250930T094517Z
LAST-MODIFIED:20251001T080414Z
UID:10027144-1812708000-1812710700@haraldslund.com
SUMMARY:Vandgymnastik
DESCRIPTION:
URL:https://haraldslund.com/event/vandgymnastik-4/2027-06-11/
LOCATION:Haraldslund Vand- og kulturhus\, Kastetvej 83\, Aalborg\, 9000\, Denmark
CATEGORIES:Svømmehal
ORGANIZER;CN="Haraldslund":MAILTO:haraldslund@aalborg.dk
END:VEVENT
BEGIN:VEVENT
DTSTART;TZID=Europe/Copenhagen:20270611T091500
DTEND;TZID=Europe/Copenhagen:20270611T100000
DTSTAMP:20260425T204125
CREATED:20251104T113920Z
LAST-MODIFIED:20260330T104413Z
UID:10045234-1812705300-1812708000@haraldslund.com
SUMMARY:Skolesvømning
DESCRIPTION:
URL:https://haraldslund.com/event/skolesvoemning-6/2027-06-11/
LOCATION:Haraldslund Vand- og kulturhus\, Kastetvej 83\, Aalborg\, 9000\, Denmark
CATEGORIES:Svømmehal
ORGANIZER;CN="Haraldslund":MAILTO:haraldslund@aalborg.dk
END:VEVENT
BEGIN:VEVENT
DTSTART;TZID=Europe/Copenhagen:20270611T090000
DTEND;TZID=Europe/Copenhagen:20270611T110000
DTSTAMP:20260425T204125
CREATED:20250930T113821Z
LAST-MODIFIED:20260330T111407Z
UID:10035546-1812704400-1812711600@haraldslund.com
SUMMARY:Sundhed i bevægelse
DESCRIPTION:
URL:https://haraldslund.com/event/sib-traening/2027-06-11/
LOCATION:Haraldslund Vand- og kulturhus\, Kastetvej 83\, Aalborg\, 9000\, Denmark
CATEGORIES:Sundhed i Bevægelse
ORGANIZER;CN="Haraldslund":MAILTO:haraldslund@aalborg.dk
END:VEVENT
BEGIN:VEVENT
DTSTART;TZID=Europe/Copenhagen:20270611T090000
DTEND;TZID=Europe/Copenhagen:20270611T094500
DTSTAMP:20260425T204125
CREATED:20250930T094245Z
LAST-MODIFIED:20260330T113023Z
UID:10026780-1812704400-1812707100@haraldslund.com
SUMMARY:Vandgymnastik
DESCRIPTION:
URL:https://haraldslund.com/event/vandgymnastik-3/2027-06-11/
LOCATION:Haraldslund Vand- og kulturhus\, Kastetvej 83\, Aalborg\, 9000\, Denmark
CATEGORIES:Svømmehal
ORGANIZER;CN="Haraldslund":MAILTO:haraldslund@aalborg.dk
END:VEVENT
BEGIN:VEVENT
DTSTART;TZID=Europe/Copenhagen:20270611T084500
DTEND;TZID=Europe/Copenhagen:20270611T093500
DTSTAMP:20260425T204125
CREATED:20251010T100437Z
LAST-MODIFIED:20251205T082856Z
UID:10026415-1812703500-1812706500@haraldslund.com
SUMMARY:Switching
DESCRIPTION:
URL:https://haraldslund.com/event/switching-2-2/2027-06-11/
LOCATION:Haraldslund Vand- og kulturhus\, Kastetvej 83\, Aalborg\, 9000\, Denmark
CATEGORIES:Motionscenter
ORGANIZER;CN="Haraldslund":MAILTO:haraldslund@aalborg.dk
END:VEVENT
BEGIN:VEVENT
DTSTART;TZID=Europe/Copenhagen:20270611T080000
DTEND;TZID=Europe/Copenhagen:20270611T085000
DTSTAMP:20260425T204125
CREATED:20260423T064915Z
LAST-MODIFIED:20260423T064915Z
UID:10052932-1812700800-1812703800@haraldslund.com
SUMMARY:Pilates
DESCRIPTION:
URL:https://haraldslund.com/event/pilates-2/2027-06-11/
LOCATION:Haraldslund Vand- og kulturhus\, Kastetvej 83\, Aalborg\, 9000\, Denmark
CATEGORIES:Motionscenter
ORGANIZER;CN="Haraldslund":MAILTO:haraldslund@aalborg.dk
END:VEVENT
BEGIN:VEVENT
DTSTART;TZID=Europe/Copenhagen:20270611T073000
DTEND;TZID=Europe/Copenhagen:20270611T074500
DTSTAMP:20260425T204125
CREATED:20251003T074251Z
LAST-MODIFIED:20260330T112921Z
UID:10038826-1812699000-1812699900@haraldslund.com
SUMMARY:Saunagus
DESCRIPTION:
URL:https://haraldslund.com/event/saunagus-7-30-2-4/2027-06-11/
CATEGORIES:Wellness
END:VEVENT
BEGIN:VEVENT
DTSTART;TZID=Europe/Copenhagen:20270610T190000
DTEND;TZID=Europe/Copenhagen:20270610T191500
DTSTAMP:20260425T204125
CREATED:20250929T090017Z
LAST-MODIFIED:20260330T110649Z
UID:10011146-1812654000-1812654900@haraldslund.com
SUMMARY:Saunagus
DESCRIPTION:
URL:https://haraldslund.com/event/saunagus-kl-19-00/2027-06-10/
LOCATION:Haraldslund Vand- og kulturhus\, Kastetvej 83\, Aalborg\, 9000\, Denmark
CATEGORIES:Wellness
ORGANIZER;CN="Haraldslund":MAILTO:haraldslund@aalborg.dk
END:VEVENT
BEGIN:VEVENT
DTSTART;TZID=Europe/Copenhagen:20270610T180000
DTEND;TZID=Europe/Copenhagen:20270610T190000
DTSTAMP:20260425T204125
CREATED:20250929T112622Z
LAST-MODIFIED:20260331T064727Z
UID:10020043-1812650400-1812654000@haraldslund.com
SUMMARY:Bodybike 1
DESCRIPTION:
URL:https://haraldslund.com/event/bodybike-1-3/2027-06-10/
LOCATION:Haraldslund Vand- og kulturhus\, Kastetvej 83\, Aalborg\, 9000\, Denmark
CATEGORIES:Motionscenter
ORGANIZER;CN="Haraldslund":MAILTO:haraldslund@aalborg.dk
END:VEVENT
BEGIN:VEVENT
DTSTART;TZID=Europe/Copenhagen:20270610T170000
DTEND;TZID=Europe/Copenhagen:20270610T180000
DTSTAMP:20260425T204125
CREATED:20260129T075100Z
LAST-MODIFIED:20260331T064503Z
UID:10047803-1812646800-1812650400@haraldslund.com
SUMMARY:Crosstræning
DESCRIPTION:
URL:https://haraldslund.com/event/crosstraening/2027-06-10/
LOCATION:Haraldslund Vand- og kulturhus\, Kastetvej 83\, Aalborg\, 9000\, Denmark
CATEGORIES:Motionscenter
ORGANIZER;CN="Haraldslund":MAILTO:haraldslund@aalborg.dk
END:VEVENT
BEGIN:VEVENT
DTSTART;TZID=Europe/Copenhagen:20270610T170000
DTEND;TZID=Europe/Copenhagen:20270610T175000
DTSTAMP:20260425T204125
CREATED:20250929T111112Z
LAST-MODIFIED:20260330T115132Z
UID:10018322-1812646800-1812649800@haraldslund.com
SUMMARY:Jumping fitness
DESCRIPTION:
URL:https://haraldslund.com/event/jumping-fitness-2/2027-06-10/
LOCATION:Haraldslund Vand- og kulturhus\, Kastetvej 83\, Aalborg\, 9000\, Denmark
CATEGORIES:Motionscenter
ORGANIZER;CN="Haraldslund":MAILTO:haraldslund@aalborg.dk
END:VEVENT
BEGIN:VEVENT
DTSTART;TZID=Europe/Copenhagen:20270610T170000
DTEND;TZID=Europe/Copenhagen:20270610T174500
DTSTAMP:20260425T204125
CREATED:20250930T092819Z
LAST-MODIFIED:20260331T064413Z
UID:10026050-1812646800-1812649500@haraldslund.com
SUMMARY:Vandgymnastik
DESCRIPTION:
URL:https://haraldslund.com/event/vandgymnastik-2/2027-06-10/
LOCATION:Haraldslund Vand- og kulturhus\, Kastetvej 83\, Aalborg\, 9000\, Denmark
CATEGORIES:Svømmehal
ORGANIZER;CN="Haraldslund":MAILTO:haraldslund@aalborg.dk
END:VEVENT
BEGIN:VEVENT
DTSTART;TZID=Europe/Copenhagen:20270610T163000
DTEND;TZID=Europe/Copenhagen:20270610T164500
DTSTAMP:20260425T204125
CREATED:20250929T084722Z
LAST-MODIFIED:20260330T110511Z
UID:10009134-1812645000-1812645900@haraldslund.com
SUMMARY:Saunagus
DESCRIPTION:
URL:https://haraldslund.com/event/saunagus-kl-16-30/2027-06-10/
LOCATION:Haraldslund Vand- og kulturhus\, Kastetvej 83\, Aalborg\, 9000\, Denmark
CATEGORIES:Wellness
ORGANIZER;CN="Haraldslund":MAILTO:haraldslund@aalborg.dk
END:VEVENT
BEGIN:VEVENT
DTSTART;TZID=Europe/Copenhagen:20270610T160000
DTEND;TZID=Europe/Copenhagen:20270610T165000
DTSTAMP:20260425T204125
CREATED:20250930T092628Z
LAST-MODIFIED:20251001T083306Z
UID:10024955-1812643200-1812646200@haraldslund.com
SUMMARY:Styrke\, core og stabilitet
DESCRIPTION:
URL:https://haraldslund.com/event/styrke-core-og-stabilitet/2027-06-10/
LOCATION:Haraldslund Vand- og kulturhus\, Kastetvej 83\, Aalborg\, 9000\, Denmark
CATEGORIES:Motionscenter
ORGANIZER;CN="Haraldslund":MAILTO:haraldslund@aalborg.dk
END:VEVENT
BEGIN:VEVENT
DTSTART;TZID=Europe/Copenhagen:20270610T140000
DTEND;TZID=Europe/Copenhagen:20270610T141500
DTSTAMP:20260425T204125
CREATED:20250929T084523Z
LAST-MODIFIED:20260330T105546Z
UID:10007399-1812636000-1812636900@haraldslund.com
SUMMARY:Saunagus
DESCRIPTION:
URL:https://haraldslund.com/event/saunagus-kl-14-00/2027-06-10/
LOCATION:Haraldslund Vand- og kulturhus\, Kastetvej 83\, Aalborg\, 9000\, Denmark
CATEGORIES:Wellness
ORGANIZER;CN="Haraldslund":MAILTO:haraldslund@aalborg.dk
END:VEVENT
BEGIN:VEVENT
DTSTART;TZID=Europe/Copenhagen:20270610T133000
DTEND;TZID=Europe/Copenhagen:20270610T150000
DTSTAMP:20260425T204125
CREATED:20251104T113413Z
LAST-MODIFIED:20260330T111926Z
UID:10044975-1812634200-1812639600@haraldslund.com
SUMMARY:Skolesvømning
DESCRIPTION:
URL:https://haraldslund.com/event/skolesvoemning-5/2027-06-10/
LOCATION:Haraldslund Vand- og kulturhus\, Kastetvej 83\, Aalborg\, 9000\, Denmark
CATEGORIES:Svømmehal
ORGANIZER;CN="Haraldslund":MAILTO:haraldslund@aalborg.dk
END:VEVENT
BEGIN:VEVENT
DTSTART;TZID=Europe/Copenhagen:20270610T130000
DTEND;TZID=Europe/Copenhagen:20270610T134500
DTSTAMP:20260425T204125
CREATED:20250930T104349Z
LAST-MODIFIED:20260330T112104Z
UID:10032809-1812632400-1812635100@haraldslund.com
SUMMARY:Vandgymnastik specialhold
DESCRIPTION:
URL:https://haraldslund.com/event/vandgymnastik-specialhold/2027-06-10/
LOCATION:Haraldslund Vand- og kulturhus\, Kastetvej 83\, Aalborg\, 9000\, Denmark
CATEGORIES:Svømmehal
ORGANIZER;CN="Haraldslund":MAILTO:haraldslund@aalborg.dk
END:VEVENT
BEGIN:VEVENT
DTSTART;TZID=Europe/Copenhagen:20270610T120000
DTEND;TZID=Europe/Copenhagen:20270610T124500
DTSTAMP:20260425T204125
CREATED:20250930T105139Z
LAST-MODIFIED:20260330T111634Z
UID:10034460-1812628800-1812631500@haraldslund.com
SUMMARY:Vandgymnastik specialhold
DESCRIPTION:
URL:https://haraldslund.com/event/vandgymnastik-specialhold-3/2027-06-10/
LOCATION:Haraldslund Vand- og kulturhus\, Kastetvej 83\, Aalborg\, 9000\, Denmark
CATEGORIES:Svømmehal
ORGANIZER;CN="Haraldslund":MAILTO:haraldslund@aalborg.dk
END:VEVENT
END:VCALENDAR