BEGIN:VCALENDAR
VERSION:2.0
PRODID:-//Haraldslund - ECPv6.15.16.1//NONSGML v1.0//EN
CALSCALE:GREGORIAN
METHOD:PUBLISH
X-WR-CALNAME:Haraldslund
X-ORIGINAL-URL:https://haraldslund.com
X-WR-CALDESC:Begivenheder for Haraldslund
REFRESH-INTERVAL;VALUE=DURATION:PT1H
X-Robots-Tag:noindex
X-PUBLISHED-TTL:PT1H
BEGIN:VTIMEZONE
TZID:Europe/Copenhagen
BEGIN:DAYLIGHT
TZOFFSETFROM:+0100
TZOFFSETTO:+0200
TZNAME:CEST
DTSTART:20260329T010000
END:DAYLIGHT
BEGIN:STANDARD
TZOFFSETFROM:+0200
TZOFFSETTO:+0100
TZNAME:CET
DTSTART:20261025T010000
END:STANDARD
BEGIN:DAYLIGHT
TZOFFSETFROM:+0100
TZOFFSETTO:+0200
TZNAME:CEST
DTSTART:20270328T010000
END:DAYLIGHT
BEGIN:STANDARD
TZOFFSETFROM:+0200
TZOFFSETTO:+0100
TZNAME:CET
DTSTART:20271031T010000
END:STANDARD
BEGIN:DAYLIGHT
TZOFFSETFROM:+0100
TZOFFSETTO:+0200
TZNAME:CEST
DTSTART:20280326T010000
END:DAYLIGHT
BEGIN:STANDARD
TZOFFSETFROM:+0200
TZOFFSETTO:+0100
TZNAME:CET
DTSTART:20281029T010000
END:STANDARD
END:VTIMEZONE
BEGIN:VEVENT
DTSTART;TZID=Europe/Copenhagen:20270519T191000
DTEND;TZID=Europe/Copenhagen:20270519T201000
DTSTAMP:20260424T111556
CREATED:20250930T090845Z
LAST-MODIFIED:20260330T110922Z
UID:10024586-1810753800-1810757400@haraldslund.com
SUMMARY:Stram op
DESCRIPTION:
URL:https://haraldslund.com/event/stram-op/2027-05-19/
LOCATION:Haraldslund Vand- og kulturhus\, Kastetvej 83\, Aalborg\, 9000\, Denmark
CATEGORIES:Motionscenter
ORGANIZER;CN="Haraldslund":MAILTO:haraldslund@aalborg.dk
END:VEVENT
BEGIN:VEVENT
DTSTART;TZID=Europe/Copenhagen:20270519T181500
DTEND;TZID=Europe/Copenhagen:20270519T193000
DTSTAMP:20260424T111556
CREATED:20250929T085743Z
LAST-MODIFIED:20260330T114921Z
UID:10010410-1810750500-1810755000@haraldslund.com
SUMMARY:Temagus
DESCRIPTION:
URL:https://haraldslund.com/event/temagus-kl-18-15/2027-05-19/
LOCATION:Haraldslund Vand- og kulturhus\, Kastetvej 83\, Aalborg\, 9000\, Denmark
CATEGORIES:Wellness
ORGANIZER;CN="Haraldslund":MAILTO:haraldslund@aalborg.dk
END:VEVENT
BEGIN:VEVENT
DTSTART;TZID=Europe/Copenhagen:20270519T181000
DTEND;TZID=Europe/Copenhagen:20270519T190000
DTSTAMP:20260424T111556
CREATED:20250929T110435Z
LAST-MODIFIED:20260323T063531Z
UID:10017883-1810750200-1810753200@haraldslund.com
SUMMARY:Jumping Fitness
DESCRIPTION:
URL:https://haraldslund.com/event/jumping-fitness-kl-17-00/2027-05-19/
LOCATION:Haraldslund Vand- og kulturhus\, Kastetvej 83\, Aalborg\, 9000\, Denmark
CATEGORIES:Motionscenter
ORGANIZER;CN="Haraldslund":MAILTO:haraldslund@aalborg.dk
END:VEVENT
BEGIN:VEVENT
DTSTART;TZID=Europe/Copenhagen:20270519T170000
DTEND;TZID=Europe/Copenhagen:20270519T180000
DTSTAMP:20260424T111556
CREATED:20250930T090108Z
LAST-MODIFIED:20251023T110809Z
UID:10024220-1810746000-1810749600@haraldslund.com
SUMMARY:Crossdance
DESCRIPTION:
URL:https://haraldslund.com/event/crossdance/2027-05-19/
LOCATION:Haraldslund Vand- og kulturhus\, Kastetvej 83\, Aalborg\, 9000\, Denmark
CATEGORIES:Motionscenter
ORGANIZER;CN="Haraldslund":MAILTO:haraldslund@aalborg.dk
END:VEVENT
BEGIN:VEVENT
DTSTART;TZID=Europe/Copenhagen:20270519T170000
DTEND;TZID=Europe/Copenhagen:20270519T180000
DTSTAMP:20260424T111556
CREATED:20250929T112413Z
LAST-MODIFIED:20260331T064541Z
UID:10019675-1810746000-1810749600@haraldslund.com
SUMMARY:Bodybike 1
DESCRIPTION:
URL:https://haraldslund.com/event/bodybike-1-2/2027-05-19/
LOCATION:Haraldslund Vand- og kulturhus\, Kastetvej 83\, Aalborg\, 9000\, Denmark
CATEGORIES:Motionscenter
ORGANIZER;CN="Haraldslund":MAILTO:haraldslund@aalborg.dk
END:VEVENT
BEGIN:VEVENT
DTSTART;TZID=Europe/Copenhagen:20270519T163000
DTEND;TZID=Europe/Copenhagen:20270519T164500
DTSTAMP:20260424T111556
CREATED:20250929T084722Z
LAST-MODIFIED:20260330T110511Z
UID:10009121-1810744200-1810745100@haraldslund.com
SUMMARY:Saunagus
DESCRIPTION:
URL:https://haraldslund.com/event/saunagus-kl-16-30/2027-05-19/
LOCATION:Haraldslund Vand- og kulturhus\, Kastetvej 83\, Aalborg\, 9000\, Denmark
CATEGORIES:Wellness
ORGANIZER;CN="Haraldslund":MAILTO:haraldslund@aalborg.dk
END:VEVENT
BEGIN:VEVENT
DTSTART;TZID=Europe/Copenhagen:20270519T160000
DTEND;TZID=Europe/Copenhagen:20270519T165000
DTSTAMP:20260424T111556
CREATED:20250930T085445Z
LAST-MODIFIED:20251023T110654Z
UID:10023854-1810742400-1810745400@haraldslund.com
SUMMARY:Core og stabilitet
DESCRIPTION:
URL:https://haraldslund.com/event/core-og-stabilitet/2027-05-19/
LOCATION:Haraldslund Vand- og kulturhus\, Kastetvej 83\, Aalborg\, 9000\, Denmark
CATEGORIES:Motionscenter
ORGANIZER;CN="Haraldslund":MAILTO:haraldslund@aalborg.dk
END:VEVENT
BEGIN:VEVENT
DTSTART;TZID=Europe/Copenhagen:20270519T140000
DTEND;TZID=Europe/Copenhagen:20270519T141500
DTSTAMP:20260424T111556
CREATED:20250929T084523Z
LAST-MODIFIED:20260330T105546Z
UID:10007383-1810735200-1810736100@haraldslund.com
SUMMARY:Saunagus
DESCRIPTION:
URL:https://haraldslund.com/event/saunagus-kl-14-00/2027-05-19/
LOCATION:Haraldslund Vand- og kulturhus\, Kastetvej 83\, Aalborg\, 9000\, Denmark
CATEGORIES:Wellness
ORGANIZER;CN="Haraldslund":MAILTO:haraldslund@aalborg.dk
END:VEVENT
BEGIN:VEVENT
DTSTART;TZID=Europe/Copenhagen:20270519T134500
DTEND;TZID=Europe/Copenhagen:20270519T144500
DTSTAMP:20260424T111556
CREATED:20251105T100044Z
LAST-MODIFIED:20260330T111153Z
UID:10045752-1810734300-1810737900@haraldslund.com
SUMMARY:Skolesvømning
DESCRIPTION:
URL:https://haraldslund.com/event/skolesvoemning-2-2/2027-05-19/
CATEGORIES:Svømmehal
END:VEVENT
BEGIN:VEVENT
DTSTART;TZID=Europe/Copenhagen:20270519T130000
DTEND;TZID=Europe/Copenhagen:20270519T134500
DTSTAMP:20260424T111556
CREATED:20250930T104349Z
LAST-MODIFIED:20260330T112104Z
UID:10032799-1810731600-1810734300@haraldslund.com
SUMMARY:Vandgymnastik specialhold
DESCRIPTION:
URL:https://haraldslund.com/event/vandgymnastik-specialhold/2027-05-19/
LOCATION:Haraldslund Vand- og kulturhus\, Kastetvej 83\, Aalborg\, 9000\, Denmark
CATEGORIES:Svømmehal
ORGANIZER;CN="Haraldslund":MAILTO:haraldslund@aalborg.dk
END:VEVENT
BEGIN:VEVENT
DTSTART;TZID=Europe/Copenhagen:20270519T103000
DTEND;TZID=Europe/Copenhagen:20270519T111500
DTSTAMP:20260424T111556
CREATED:20250929T115150Z
LAST-MODIFIED:20251205T081919Z
UID:10023224-1810722600-1810725300@haraldslund.com
SUMMARY:Varmtvandstræning
DESCRIPTION:
URL:https://haraldslund.com/event/varmtvandstraening/2027-05-19/
LOCATION:Haraldslund Vand- og kulturhus\, Kastetvej 83\, Aalborg\, 9000\, Denmark
CATEGORIES:Svømmehal
ORGANIZER;CN="Haraldslund":MAILTO:haraldslund@aalborg.dk
END:VEVENT
BEGIN:VEVENT
DTSTART;TZID=Europe/Copenhagen:20270519T101500
DTEND;TZID=Europe/Copenhagen:20270519T103000
DTSTAMP:20260424T111556
CREATED:20251003T081347Z
LAST-MODIFIED:20260330T110253Z
UID:10040552-1810721700-1810722600@haraldslund.com
SUMMARY:Saunagus
DESCRIPTION:
URL:https://haraldslund.com/event/4198/2027-05-19/
LOCATION:Haraldslund Vand- og kulturhus\, Kastetvej 83\, Aalborg\, 9000\, Denmark
CATEGORIES:Wellness
ORGANIZER;CN="Haraldslund":MAILTO:haraldslund@aalborg.dk
END:VEVENT
BEGIN:VEVENT
DTSTART;TZID=Europe/Copenhagen:20270519T093000
DTEND;TZID=Europe/Copenhagen:20270519T103000
DTSTAMP:20260424T111556
CREATED:20250929T114741Z
LAST-MODIFIED:20251205T082421Z
UID:10022860-1810719000-1810722600@haraldslund.com
SUMMARY:Pilates
DESCRIPTION:
URL:https://haraldslund.com/event/pilates/2027-05-19/
LOCATION:Haraldslund Vand- og kulturhus\, Kastetvej 83\, Aalborg\, 9000\, Denmark
CATEGORIES:Motionscenter
ORGANIZER;CN="Haraldslund":MAILTO:haraldslund@aalborg.dk
END:VEVENT
BEGIN:VEVENT
DTSTART;TZID=Europe/Copenhagen:20270519T091500
DTEND;TZID=Europe/Copenhagen:20270519T100000
DTSTAMP:20260424T111556
CREATED:20250929T094650Z
LAST-MODIFIED:20260330T111051Z
UID:10014151-1810718100-1810720800@haraldslund.com
SUMMARY:Vandgymnastik
DESCRIPTION:
URL:https://haraldslund.com/event/vandgymnastik-kl-9-15/2027-05-19/
LOCATION:Haraldslund Vand- og kulturhus\, Kastetvej 83\, Aalborg\, 9000\, Denmark
CATEGORIES:Svømmehal
ORGANIZER;CN="Haraldslund":MAILTO:haraldslund@aalborg.dk
END:VEVENT
BEGIN:VEVENT
DTSTART;TZID=Europe/Copenhagen:20270519T090000
DTEND;TZID=Europe/Copenhagen:20270519T110000
DTSTAMP:20260424T111556
CREATED:20250930T113821Z
LAST-MODIFIED:20260330T111407Z
UID:10035529-1810717200-1810724400@haraldslund.com
SUMMARY:Sundhed i bevægelse
DESCRIPTION:
URL:https://haraldslund.com/event/sib-traening/2027-05-19/
LOCATION:Haraldslund Vand- og kulturhus\, Kastetvej 83\, Aalborg\, 9000\, Denmark
CATEGORIES:Sundhed i Bevægelse
ORGANIZER;CN="Haraldslund":MAILTO:haraldslund@aalborg.dk
END:VEVENT
BEGIN:VEVENT
DTSTART;TZID=Europe/Copenhagen:20270519T083000
DTEND;TZID=Europe/Copenhagen:20270519T091500
DTSTAMP:20260424T111556
CREATED:20251104T113006Z
LAST-MODIFIED:20260330T111310Z
UID:10043756-1810715400-1810718100@haraldslund.com
SUMMARY:Skolesvømning
DESCRIPTION:
URL:https://haraldslund.com/event/skolesvoemning-4/2027-05-19/
LOCATION:Haraldslund Vand- og kulturhus\, Kastetvej 83\, Aalborg\, 9000\, Denmark
CATEGORIES:Svømmehal
ORGANIZER;CN="Haraldslund":MAILTO:haraldslund@aalborg.dk
END:VEVENT
BEGIN:VEVENT
DTSTART;TZID=Europe/Copenhagen:20270519T073000
DTEND;TZID=Europe/Copenhagen:20270519T074500
DTSTAMP:20260424T111556
CREATED:20250929T080715Z
LAST-MODIFIED:20260330T110205Z
UID:10039690-1810711800-1810712700@haraldslund.com
SUMMARY:Saunagus
DESCRIPTION:
URL:https://haraldslund.com/event/saunagus-7-30-2/2027-05-19/
CATEGORIES:Svømmehal
END:VEVENT
BEGIN:VEVENT
DTSTART;TZID=Europe/Copenhagen:20270518T190000
DTEND;TZID=Europe/Copenhagen:20270518T191500
DTSTAMP:20260424T111556
CREATED:20250929T090017Z
LAST-MODIFIED:20260330T110649Z
UID:10011139-1810666800-1810667700@haraldslund.com
SUMMARY:Saunagus
DESCRIPTION:
URL:https://haraldslund.com/event/saunagus-kl-19-00/2027-05-18/
LOCATION:Haraldslund Vand- og kulturhus\, Kastetvej 83\, Aalborg\, 9000\, Denmark
CATEGORIES:Wellness
ORGANIZER;CN="Haraldslund":MAILTO:haraldslund@aalborg.dk
END:VEVENT
BEGIN:VEVENT
DTSTART;TZID=Europe/Copenhagen:20270518T184500
DTEND;TZID=Europe/Copenhagen:20270518T193000
DTSTAMP:20260424T111556
CREATED:20250929T114607Z
LAST-MODIFIED:20250929T114607Z
UID:10022601-1810665900-1810668600@haraldslund.com
SUMMARY:Aqua Yoga
DESCRIPTION:
URL:https://haraldslund.com/event/aqua-yoga/2027-05-18/
LOCATION:Haraldslund Vand- og kulturhus\, Kastetvej 83\, Aalborg\, 9000\, Denmark
CATEGORIES:Svømmehal
ORGANIZER;CN="Haraldslund":MAILTO:haraldslund@aalborg.dk
END:VEVENT
BEGIN:VEVENT
DTSTART;TZID=Europe/Copenhagen:20270518T181000
DTEND;TZID=Europe/Copenhagen:20270518T190000
DTSTAMP:20260424T111556
CREATED:20250929T110435Z
LAST-MODIFIED:20260323T063531Z
UID:10017882-1810663800-1810666800@haraldslund.com
SUMMARY:Jumping Fitness
DESCRIPTION:
URL:https://haraldslund.com/event/jumping-fitness-kl-17-00/2027-05-18/
LOCATION:Haraldslund Vand- og kulturhus\, Kastetvej 83\, Aalborg\, 9000\, Denmark
CATEGORIES:Motionscenter
ORGANIZER;CN="Haraldslund":MAILTO:haraldslund@aalborg.dk
END:VEVENT
BEGIN:VEVENT
DTSTART;TZID=Europe/Copenhagen:20270518T180000
DTEND;TZID=Europe/Copenhagen:20270518T191000
DTSTAMP:20260424T111556
CREATED:20250929T112046Z
LAST-MODIFIED:20260331T064621Z
UID:10019311-1810663200-1810667400@haraldslund.com
SUMMARY:Bodybike 2
DESCRIPTION:
URL:https://haraldslund.com/event/bodybike-2/2027-05-18/
LOCATION:Haraldslund Vand- og kulturhus\, Kastetvej 83\, Aalborg\, 9000\, Denmark
CATEGORIES:Motionscenter
ORGANIZER;CN="Haraldslund":MAILTO:haraldslund@aalborg.dk
END:VEVENT
BEGIN:VEVENT
DTSTART;TZID=Europe/Copenhagen:20270518T174500
DTEND;TZID=Europe/Copenhagen:20270518T183000
DTSTAMP:20260424T111556
CREATED:20250929T114343Z
LAST-MODIFIED:20251001T083929Z
UID:10022235-1810662300-1810665000@haraldslund.com
SUMMARY:Aqua puls og power
DESCRIPTION:
URL:https://haraldslund.com/event/aqua-puls-og-power/2027-05-18/
LOCATION:Haraldslund Vand- og kulturhus\, Kastetvej 83\, Aalborg\, 9000\, Denmark
CATEGORIES:Svømmehal
ORGANIZER;CN="Haraldslund":MAILTO:haraldslund@aalborg.dk
END:VEVENT
BEGIN:VEVENT
DTSTART;TZID=Europe/Copenhagen:20270518T164500
DTEND;TZID=Europe/Copenhagen:20270518T180000
DTSTAMP:20260424T111556
CREATED:20250929T114139Z
LAST-MODIFIED:20251208T064032Z
UID:10021869-1810658700-1810663200@haraldslund.com
SUMMARY:Yoga
DESCRIPTION:
URL:https://haraldslund.com/event/yoga-2/2027-05-18/
LOCATION:Haraldslund Vand- og kulturhus\, Kastetvej 83\, Aalborg\, 9000\, Denmark
CATEGORIES:Motionscenter
ORGANIZER;CN="Haraldslund":MAILTO:haraldslund@aalborg.dk
END:VEVENT
BEGIN:VEVENT
DTSTART;TZID=Europe/Copenhagen:20270518T163000
DTEND;TZID=Europe/Copenhagen:20270518T172000
DTSTAMP:20260424T111556
CREATED:20250929T113803Z
LAST-MODIFIED:20251001T084057Z
UID:10021503-1810657800-1810660800@haraldslund.com
SUMMARY:Switching
DESCRIPTION:
URL:https://haraldslund.com/event/switching/2027-05-18/
LOCATION:Haraldslund Vand- og kulturhus\, Kastetvej 83\, Aalborg\, 9000\, Denmark
CATEGORIES:Motionscenter
ORGANIZER;CN="Haraldslund":MAILTO:haraldslund@aalborg.dk
END:VEVENT
BEGIN:VEVENT
DTSTART;TZID=Europe/Copenhagen:20270518T163000
DTEND;TZID=Europe/Copenhagen:20270518T164500
DTSTAMP:20260424T111556
CREATED:20250929T084722Z
LAST-MODIFIED:20260330T110511Z
UID:10009120-1810657800-1810658700@haraldslund.com
SUMMARY:Saunagus
DESCRIPTION:
URL:https://haraldslund.com/event/saunagus-kl-16-30/2027-05-18/
LOCATION:Haraldslund Vand- og kulturhus\, Kastetvej 83\, Aalborg\, 9000\, Denmark
CATEGORIES:Wellness
ORGANIZER;CN="Haraldslund":MAILTO:haraldslund@aalborg.dk
END:VEVENT
BEGIN:VEVENT
DTSTART;TZID=Europe/Copenhagen:20270518T160000
DTEND;TZID=Europe/Copenhagen:20270518T164500
DTSTAMP:20260424T111556
CREATED:20260211T091301Z
LAST-MODIFIED:20260211T091442Z
UID:10048086-1810656000-1810658700@haraldslund.com
SUMMARY:Vandgymnastik specialhold
DESCRIPTION:
URL:https://haraldslund.com/event/vandgymnastik-specialhold-2/2027-05-18/
LOCATION:Haraldslund Vand- og kulturhus\, Kastetvej 83\, Aalborg\, 9000\, Denmark
CATEGORIES:Svømmehal
ORGANIZER;CN="Haraldslund":MAILTO:haraldslund@aalborg.dk
END:VEVENT
BEGIN:VEVENT
DTSTART;TZID=Europe/Copenhagen:20270518T140000
DTEND;TZID=Europe/Copenhagen:20270518T141500
DTSTAMP:20260424T111556
CREATED:20250929T084523Z
LAST-MODIFIED:20260330T105546Z
UID:10007382-1810648800-1810649700@haraldslund.com
SUMMARY:Saunagus
DESCRIPTION:
URL:https://haraldslund.com/event/saunagus-kl-14-00/2027-05-18/
LOCATION:Haraldslund Vand- og kulturhus\, Kastetvej 83\, Aalborg\, 9000\, Denmark
CATEGORIES:Wellness
ORGANIZER;CN="Haraldslund":MAILTO:haraldslund@aalborg.dk
END:VEVENT
BEGIN:VEVENT
DTSTART;TZID=Europe/Copenhagen:20270518T123000
DTEND;TZID=Europe/Copenhagen:20270518T131500
DTSTAMP:20260424T111556
CREATED:20250930T104806Z
LAST-MODIFIED:20251208T063003Z
UID:10034091-1810643400-1810646100@haraldslund.com
SUMMARY:Vandgymnastik specialhold (SIB)
DESCRIPTION:
URL:https://haraldslund.com/event/vandgymnastik-specialhold-sib/2027-05-18/
LOCATION:Haraldslund Vand- og kulturhus\, Kastetvej 83\, Aalborg\, 9000\, Denmark
CATEGORIES:Svømmehal
ORGANIZER;CN="Haraldslund":MAILTO:haraldslund@aalborg.dk
END:VEVENT
BEGIN:VEVENT
DTSTART;TZID=Europe/Copenhagen:20270518T120000
DTEND;TZID=Europe/Copenhagen:20270518T133000
DTSTAMP:20260424T111556
CREATED:20251104T112822Z
LAST-MODIFIED:20260330T104143Z
UID:10044713-1810641600-1810647000@haraldslund.com
SUMMARY:Skolesvømning
DESCRIPTION:
URL:https://haraldslund.com/event/skolesvoemning-3/2027-05-18/
LOCATION:Haraldslund Vand- og kulturhus\, Kastetvej 83\, Aalborg\, 9000\, Denmark
CATEGORIES:Svømmehal
ORGANIZER;CN="Haraldslund":MAILTO:haraldslund@aalborg.dk
END:VEVENT
BEGIN:VEVENT
DTSTART;TZID=Europe/Copenhagen:20270518T101500
DTEND;TZID=Europe/Copenhagen:20270518T110000
DTSTAMP:20260424T111556
CREATED:20251104T112402Z
LAST-MODIFIED:20260330T113932Z
UID:10042722-1810635300-1810638000@haraldslund.com
SUMMARY:Skolesvømning
DESCRIPTION:
URL:https://haraldslund.com/event/skolesvoemning/2027-05-18/
LOCATION:Haraldslund Vand- og kulturhus\, Kastetvej 83\, Aalborg\, 9000\, Denmark
CATEGORIES:Svømmehal
ORGANIZER;CN="Haraldslund":MAILTO:haraldslund@aalborg.dk
END:VEVENT
END:VCALENDAR