BEGIN:VCALENDAR
VERSION:2.0
PRODID:-//Haraldslund - ECPv6.15.16.1//NONSGML v1.0//EN
CALSCALE:GREGORIAN
METHOD:PUBLISH
X-WR-CALNAME:Haraldslund
X-ORIGINAL-URL:https://haraldslund.com
X-WR-CALDESC:Begivenheder for Haraldslund
REFRESH-INTERVAL;VALUE=DURATION:PT1H
X-Robots-Tag:noindex
X-PUBLISHED-TTL:PT1H
BEGIN:VTIMEZONE
TZID:Europe/Copenhagen
BEGIN:DAYLIGHT
TZOFFSETFROM:+0100
TZOFFSETTO:+0200
TZNAME:CEST
DTSTART:20260329T010000
END:DAYLIGHT
BEGIN:STANDARD
TZOFFSETFROM:+0200
TZOFFSETTO:+0100
TZNAME:CET
DTSTART:20261025T010000
END:STANDARD
BEGIN:DAYLIGHT
TZOFFSETFROM:+0100
TZOFFSETTO:+0200
TZNAME:CEST
DTSTART:20270328T010000
END:DAYLIGHT
BEGIN:STANDARD
TZOFFSETFROM:+0200
TZOFFSETTO:+0100
TZNAME:CET
DTSTART:20271031T010000
END:STANDARD
BEGIN:DAYLIGHT
TZOFFSETFROM:+0100
TZOFFSETTO:+0200
TZNAME:CEST
DTSTART:20280326T010000
END:DAYLIGHT
BEGIN:STANDARD
TZOFFSETFROM:+0200
TZOFFSETTO:+0100
TZNAME:CET
DTSTART:20281029T010000
END:STANDARD
END:VTIMEZONE
BEGIN:VEVENT
DTSTART;TZID=Europe/Copenhagen:20270510T191000
DTEND;TZID=Europe/Copenhagen:20270510T201000
DTSTAMP:20260423T221847
CREATED:20250929T113437Z
LAST-MODIFIED:20260330T114555Z
UID:10021136-1809976200-1809979800@haraldslund.com
SUMMARY:Yoga
DESCRIPTION:
URL:https://haraldslund.com/event/yoga/2027-05-10/
LOCATION:Haraldslund Vand- og kulturhus\, Kastetvej 83\, Aalborg\, 9000\, Denmark
CATEGORIES:Motionscenter
ORGANIZER;CN="Haraldslund":MAILTO:haraldslund@aalborg.dk
END:VEVENT
BEGIN:VEVENT
DTSTART;TZID=Europe/Copenhagen:20270510T184500
DTEND;TZID=Europe/Copenhagen:20270510T193000
DTSTAMP:20260423T221847
CREATED:20250929T113227Z
LAST-MODIFIED:20260330T103944Z
UID:10020770-1809974700-1809977400@haraldslund.com
SUMMARY:Vandgymnastik
DESCRIPTION:
URL:https://haraldslund.com/event/vandgymnastik/2027-05-10/
LOCATION:Haraldslund Vand- og kulturhus\, Kastetvej 83\, Aalborg\, 9000\, Denmark
CATEGORIES:Svømmehal
ORGANIZER;CN="Haraldslund":MAILTO:haraldslund@aalborg.dk
END:VEVENT
BEGIN:VEVENT
DTSTART;TZID=Europe/Copenhagen:20270510T181500
DTEND;TZID=Europe/Copenhagen:20270510T193000
DTSTAMP:20260423T221847
CREATED:20250929T085743Z
LAST-MODIFIED:20260330T114921Z
UID:10010407-1809972900-1809977400@haraldslund.com
SUMMARY:Temagus
DESCRIPTION:
URL:https://haraldslund.com/event/temagus-kl-18-15/2027-05-10/
LOCATION:Haraldslund Vand- og kulturhus\, Kastetvej 83\, Aalborg\, 9000\, Denmark
CATEGORIES:Wellness
ORGANIZER;CN="Haraldslund":MAILTO:haraldslund@aalborg.dk
END:VEVENT
BEGIN:VEVENT
DTSTART;TZID=Europe/Copenhagen:20270510T181000
DTEND;TZID=Europe/Copenhagen:20270510T190000
DTSTAMP:20260423T221847
CREATED:20250929T113012Z
LAST-MODIFIED:20260330T101847Z
UID:10020404-1809972600-1809975600@haraldslund.com
SUMMARY:Stærk krop
DESCRIPTION:
URL:https://haraldslund.com/event/staerk-krop/2027-05-10/
LOCATION:Haraldslund Vand- og kulturhus\, Kastetvej 83\, Aalborg\, 9000\, Denmark
CATEGORIES:Motionscenter
ORGANIZER;CN="Haraldslund":MAILTO:haraldslund@aalborg.dk
END:VEVENT
BEGIN:VEVENT
DTSTART;TZID=Europe/Copenhagen:20270510T173000
DTEND;TZID=Europe/Copenhagen:20270510T183000
DTSTAMP:20260423T221847
CREATED:20250929T111823Z
LAST-MODIFIED:20260330T101820Z
UID:10018683-1809970200-1809973800@haraldslund.com
SUMMARY:Bodybike 1
DESCRIPTION:
URL:https://haraldslund.com/event/bodybike-1/2027-05-10/
LOCATION:Haraldslund Vand- og kulturhus\, Kastetvej 83\, Aalborg\, 9000\, Denmark
CATEGORIES:Motionscenter
ORGANIZER;CN="Haraldslund":MAILTO:haraldslund@aalborg.dk
END:VEVENT
BEGIN:VEVENT
DTSTART;TZID=Europe/Copenhagen:20270510T171000
DTEND;TZID=Europe/Copenhagen:20270510T180000
DTSTAMP:20260423T221847
CREATED:20250929T105054Z
LAST-MODIFIED:20260330T114844Z
UID:10016908-1809969000-1809972000@haraldslund.com
SUMMARY:Jumping Fitness
DESCRIPTION:
URL:https://haraldslund.com/event/jumping-fitness/2027-05-10/
LOCATION:Haraldslund Vand- og kulturhus\, Kastetvej 83\, Aalborg\, 9000\, Denmark
CATEGORIES:Motionscenter
ORGANIZER;CN="Haraldslund":MAILTO:haraldslund@aalborg.dk
END:VEVENT
BEGIN:VEVENT
DTSTART;TZID=Europe/Copenhagen:20270510T163000
DTEND;TZID=Europe/Copenhagen:20270510T164500
DTSTAMP:20260423T221847
CREATED:20250929T084722Z
LAST-MODIFIED:20260330T110511Z
UID:10009115-1809966600-1809967500@haraldslund.com
SUMMARY:Saunagus
DESCRIPTION:
URL:https://haraldslund.com/event/saunagus-kl-16-30/2027-05-10/
LOCATION:Haraldslund Vand- og kulturhus\, Kastetvej 83\, Aalborg\, 9000\, Denmark
CATEGORIES:Wellness
ORGANIZER;CN="Haraldslund":MAILTO:haraldslund@aalborg.dk
END:VEVENT
BEGIN:VEVENT
DTSTART;TZID=Europe/Copenhagen:20270510T162000
DTEND;TZID=Europe/Copenhagen:20270510T171000
DTSTAMP:20260423T221847
CREATED:20250929T102636Z
LAST-MODIFIED:20251001T083702Z
UID:10016537-1809966000-1809969000@haraldslund.com
SUMMARY:Switching
DESCRIPTION:
URL:https://haraldslund.com/event/switching-kl-16-20/2027-05-10/
LOCATION:Haraldslund Vand- og kulturhus\, Kastetvej 83\, Aalborg\, 9000\, Denmark
CATEGORIES:Motionscenter
ORGANIZER;CN="Haraldslund":MAILTO:haraldslund@aalborg.dk
END:VEVENT
BEGIN:VEVENT
DTSTART;TZID=Europe/Copenhagen:20270510T161500
DTEND;TZID=Europe/Copenhagen:20270510T171500
DTSTAMP:20260423T221847
CREATED:20251205T084610Z
LAST-MODIFIED:20260330T102114Z
UID:10047015-1809965700-1809969300@haraldslund.com
SUMMARY:Bodybike 1
DESCRIPTION:
URL:https://haraldslund.com/event/bodybike-1-4/2027-05-10/
LOCATION:Haraldslund Vand- og kulturhus\, Kastetvej 83\, Aalborg\, 9000\, Denmark
CATEGORIES:Motionscenter
ORGANIZER;CN="Haraldslund":MAILTO:haraldslund@aalborg.dk
END:VEVENT
BEGIN:VEVENT
DTSTART;TZID=Europe/Copenhagen:20270510T160000
DTEND;TZID=Europe/Copenhagen:20270510T170000
DTSTAMP:20260423T221847
CREATED:20250929T101957Z
LAST-MODIFIED:20260323T063250Z
UID:10016171-1809964800-1809968400@haraldslund.com
SUMMARY:Bodytoning
DESCRIPTION:
URL:https://haraldslund.com/event/bodytoning-kl-16-00/2027-05-10/
LOCATION:Haraldslund Vand- og kulturhus\, Kastetvej 83\, Aalborg\, 9000\, Denmark
CATEGORIES:Motionscenter
ORGANIZER;CN="Haraldslund":MAILTO:haraldslund@aalborg.dk
END:VEVENT
BEGIN:VEVENT
DTSTART;TZID=Europe/Copenhagen:20270510T140000
DTEND;TZID=Europe/Copenhagen:20270510T141500
DTSTAMP:20260423T221847
CREATED:20250929T084523Z
LAST-MODIFIED:20260330T105546Z
UID:10007376-1809957600-1809958500@haraldslund.com
SUMMARY:Saunagus
DESCRIPTION:
URL:https://haraldslund.com/event/saunagus-kl-14-00/2027-05-10/
LOCATION:Haraldslund Vand- og kulturhus\, Kastetvej 83\, Aalborg\, 9000\, Denmark
CATEGORIES:Wellness
ORGANIZER;CN="Haraldslund":MAILTO:haraldslund@aalborg.dk
END:VEVENT
BEGIN:VEVENT
DTSTART;TZID=Europe/Copenhagen:20270510T134500
DTEND;TZID=Europe/Copenhagen:20270510T153000
DTSTAMP:20260423T221847
CREATED:20260303T085715Z
LAST-MODIFIED:20260303T085912Z
UID:10051396-1809956700-1809963000@haraldslund.com
SUMMARY:Sandfiltre skylles - temperatur kan falde 1-2 grader
DESCRIPTION:
URL:https://haraldslund.com/event/sandfiltre-skylles-temperatur/2027-05-10/
LOCATION:Haraldslund Vand- og kulturhus\, Kastetvej 83\, Aalborg\, 9000\, Denmark
CATEGORIES:Svømmehal
ORGANIZER;CN="Haraldslund":MAILTO:haraldslund@aalborg.dk
END:VEVENT
BEGIN:VEVENT
DTSTART;TZID=Europe/Copenhagen:20270510T134500
DTEND;TZID=Europe/Copenhagen:20270510T144500
DTSTAMP:20260423T221847
CREATED:20251104T112551Z
LAST-MODIFIED:20260330T103804Z
UID:10046014-1809956700-1809960300@haraldslund.com
SUMMARY:Skolesvømning
DESCRIPTION:
URL:https://haraldslund.com/event/skolesvoemning-2/2027-05-10/
CATEGORIES:Svømmehal
END:VEVENT
BEGIN:VEVENT
DTSTART;TZID=Europe/Copenhagen:20270510T130000
DTEND;TZID=Europe/Copenhagen:20270510T134500
DTSTAMP:20260423T221847
CREATED:20250930T104349Z
LAST-MODIFIED:20260330T112104Z
UID:10032795-1809954000-1809956700@haraldslund.com
SUMMARY:Vandgymnastik specialhold
DESCRIPTION:
URL:https://haraldslund.com/event/vandgymnastik-specialhold/2027-05-10/
LOCATION:Haraldslund Vand- og kulturhus\, Kastetvej 83\, Aalborg\, 9000\, Denmark
CATEGORIES:Svømmehal
ORGANIZER;CN="Haraldslund":MAILTO:haraldslund@aalborg.dk
END:VEVENT
BEGIN:VEVENT
DTSTART;TZID=Europe/Copenhagen:20270510T103000
DTEND;TZID=Europe/Copenhagen:20270510T111500
DTSTAMP:20260423T221847
CREATED:20250929T100820Z
LAST-MODIFIED:20260330T113832Z
UID:10015243-1809945000-1809947700@haraldslund.com
SUMMARY:Vandgymnastik
DESCRIPTION:
URL:https://haraldslund.com/event/vandgymnastik-kl-10-30/2027-05-10/
LOCATION:Haraldslund Vand- og kulturhus\, Kastetvej 83\, Aalborg\, 9000\, Denmark
CATEGORIES:Svømmehal
ORGANIZER;CN="Haraldslund":MAILTO:haraldslund@aalborg.dk
END:VEVENT
BEGIN:VEVENT
DTSTART;TZID=Europe/Copenhagen:20270510T101500
DTEND;TZID=Europe/Copenhagen:20270510T110000
DTSTAMP:20260423T221847
CREATED:20251104T112402Z
LAST-MODIFIED:20260330T113932Z
UID:10042719-1809944100-1809946800@haraldslund.com
SUMMARY:Skolesvømning
DESCRIPTION:
URL:https://haraldslund.com/event/skolesvoemning/2027-05-10/
LOCATION:Haraldslund Vand- og kulturhus\, Kastetvej 83\, Aalborg\, 9000\, Denmark
CATEGORIES:Svømmehal
ORGANIZER;CN="Haraldslund":MAILTO:haraldslund@aalborg.dk
END:VEVENT
BEGIN:VEVENT
DTSTART;TZID=Europe/Copenhagen:20270510T101500
DTEND;TZID=Europe/Copenhagen:20270510T103000
DTSTAMP:20260423T221847
CREATED:20251003T081347Z
LAST-MODIFIED:20260330T110253Z
UID:10040544-1809944100-1809945000@haraldslund.com
SUMMARY:Saunagus
DESCRIPTION:
URL:https://haraldslund.com/event/4198/2027-05-10/
LOCATION:Haraldslund Vand- og kulturhus\, Kastetvej 83\, Aalborg\, 9000\, Denmark
CATEGORIES:Wellness
ORGANIZER;CN="Haraldslund":MAILTO:haraldslund@aalborg.dk
END:VEVENT
BEGIN:VEVENT
DTSTART;TZID=Europe/Copenhagen:20270510T091500
DTEND;TZID=Europe/Copenhagen:20270510T100000
DTSTAMP:20260423T221847
CREATED:20250929T094650Z
LAST-MODIFIED:20260330T111051Z
UID:10014146-1809940500-1809943200@haraldslund.com
SUMMARY:Vandgymnastik
DESCRIPTION:
URL:https://haraldslund.com/event/vandgymnastik-kl-9-15/2027-05-10/
LOCATION:Haraldslund Vand- og kulturhus\, Kastetvej 83\, Aalborg\, 9000\, Denmark
CATEGORIES:Svømmehal
ORGANIZER;CN="Haraldslund":MAILTO:haraldslund@aalborg.dk
END:VEVENT
BEGIN:VEVENT
DTSTART;TZID=Europe/Copenhagen:20270510T090000
DTEND;TZID=Europe/Copenhagen:20270510T110000
DTSTAMP:20260423T221847
CREATED:20250930T113821Z
LAST-MODIFIED:20260330T111407Z
UID:10035522-1809939600-1809946800@haraldslund.com
SUMMARY:Sundhed i bevægelse
DESCRIPTION:
URL:https://haraldslund.com/event/sib-traening/2027-05-10/
LOCATION:Haraldslund Vand- og kulturhus\, Kastetvej 83\, Aalborg\, 9000\, Denmark
CATEGORIES:Sundhed i Bevægelse
ORGANIZER;CN="Haraldslund":MAILTO:haraldslund@aalborg.dk
END:VEVENT
BEGIN:VEVENT
DTSTART;TZID=Europe/Copenhagen:20270510T073000
DTEND;TZID=Europe/Copenhagen:20270510T074500
DTSTAMP:20260423T221847
CREATED:20250929T080715Z
LAST-MODIFIED:20260330T110205Z
UID:10039687-1809934200-1809935100@haraldslund.com
SUMMARY:Saunagus
DESCRIPTION:
URL:https://haraldslund.com/event/saunagus-7-30-2/2027-05-10/
CATEGORIES:Svømmehal
END:VEVENT
BEGIN:VEVENT
DTSTART;TZID=Europe/Copenhagen:20270509T140000
DTEND;TZID=Europe/Copenhagen:20270509T141500
DTSTAMP:20260423T221847
CREATED:20250929T084523Z
LAST-MODIFIED:20260330T105546Z
UID:10007375-1809871200-1809872100@haraldslund.com
SUMMARY:Saunagus
DESCRIPTION:
URL:https://haraldslund.com/event/saunagus-kl-14-00/2027-05-09/
LOCATION:Haraldslund Vand- og kulturhus\, Kastetvej 83\, Aalborg\, 9000\, Denmark
CATEGORIES:Wellness
ORGANIZER;CN="Haraldslund":MAILTO:haraldslund@aalborg.dk
END:VEVENT
BEGIN:VEVENT
DTSTART;TZID=Europe/Copenhagen:20270509T120000
DTEND;TZID=Europe/Copenhagen:20270509T121500
DTSTAMP:20260423T221847
CREATED:20260223T065538Z
LAST-MODIFIED:20260330T105402Z
UID:10050273-1809864000-1809864900@haraldslund.com
SUMMARY:Saunagus
DESCRIPTION:
URL:https://haraldslund.com/event/saunagus/2027-05-09/
LOCATION:Haraldslund Vand- og kulturhus\, Kastetvej 83\, Aalborg\, 9000\, Denmark
CATEGORIES:Svømmehal,Wellness
ORGANIZER;CN="Haraldslund":MAILTO:haraldslund@aalborg.dk
END:VEVENT
BEGIN:VEVENT
DTSTART;TZID=Europe/Copenhagen:20270509T113000
DTEND;TZID=Europe/Copenhagen:20270509T123000
DTSTAMP:20260423T221847
CREATED:20250930T100054Z
LAST-MODIFIED:20260330T112616Z
UID:10029348-1809862200-1809865800@haraldslund.com
SUMMARY:Fitness pump
DESCRIPTION:
URL:https://haraldslund.com/event/fitness-pump/2027-05-09/
LOCATION:Haraldslund Vand- og kulturhus\, Kastetvej 83\, Aalborg\, 9000\, Denmark
CATEGORIES:Motionscenter
ORGANIZER;CN="Haraldslund":MAILTO:haraldslund@aalborg.dk
END:VEVENT
BEGIN:VEVENT
DTSTART;TZID=Europe/Copenhagen:20270509T100000
DTEND;TZID=Europe/Copenhagen:20270509T111500
DTSTAMP:20260423T221847
CREATED:20250930T095930Z
LAST-MODIFIED:20251001T075144Z
UID:10037012-1809856800-1809861300@haraldslund.com
SUMMARY:Morgen yoga flow
DESCRIPTION:
URL:https://haraldslund.com/event/morgen-yoga-flow/2027-05-09/
LOCATION:Haraldslund Vand- og kulturhus\, Kastetvej 83\, Aalborg\, 9000\, Denmark
CATEGORIES:Motionscenter
ORGANIZER;CN="Haraldslund":MAILTO:haraldslund@aalborg.dk
END:VEVENT
BEGIN:VEVENT
DTSTART;TZID=Europe/Copenhagen:20270509T100000
DTEND;TZID=Europe/Copenhagen:20270509T101500
DTSTAMP:20260423T221847
CREATED:20260223T065913Z
LAST-MODIFIED:20260330T105201Z
UID:10050838-1809856800-1809857700@haraldslund.com
SUMMARY:Saunagus
DESCRIPTION:
URL:https://haraldslund.com/event/saunagus-2/2027-05-09/
LOCATION:Haraldslund Vand- og kulturhus\, Kastetvej 83\, Aalborg\, 9000\, Denmark
CATEGORIES:Svømmehal,Wellness
ORGANIZER;CN="Haraldslund":MAILTO:haraldslund@aalborg.dk
END:VEVENT
BEGIN:VEVENT
DTSTART;TZID=Europe/Copenhagen:20270509T090000
DTEND;TZID=Europe/Copenhagen:20270509T095000
DTSTAMP:20260423T221847
CREATED:20250930T095616Z
LAST-MODIFIED:20260223T070130Z
UID:10028982-1809853200-1809856200@haraldslund.com
SUMMARY:Jumping fitness
DESCRIPTION:
URL:https://haraldslund.com/event/jumping-fitness-4/2027-05-09/
LOCATION:Haraldslund Vand- og kulturhus\, Kastetvej 83\, Aalborg\, 9000\, Denmark
CATEGORIES:Motionscenter
ORGANIZER;CN="Haraldslund":MAILTO:haraldslund@aalborg.dk
END:VEVENT
BEGIN:VEVENT
DTSTART;TZID=Europe/Copenhagen:20270508T140000
DTEND;TZID=Europe/Copenhagen:20270508T141500
DTSTAMP:20260423T221847
CREATED:20250929T084523Z
LAST-MODIFIED:20260330T105546Z
UID:10048373-1809784800-1809785700@haraldslund.com
SUMMARY:Saunagus
DESCRIPTION:
URL:https://haraldslund.com/event/saunagus-kl-14-00/2027-05-08/
LOCATION:Haraldslund Vand- og kulturhus\, Kastetvej 83\, Aalborg\, 9000\, Denmark
CATEGORIES:Wellness
ORGANIZER;CN="Haraldslund":MAILTO:haraldslund@aalborg.dk
END:VEVENT
BEGIN:VEVENT
DTSTART;TZID=Europe/Copenhagen:20270508T120000
DTEND;TZID=Europe/Copenhagen:20270508T121500
DTSTAMP:20260423T221847
CREATED:20260223T065538Z
LAST-MODIFIED:20260330T105402Z
UID:10050272-1809777600-1809778500@haraldslund.com
SUMMARY:Saunagus
DESCRIPTION:
URL:https://haraldslund.com/event/saunagus/2027-05-08/
LOCATION:Haraldslund Vand- og kulturhus\, Kastetvej 83\, Aalborg\, 9000\, Denmark
CATEGORIES:Svømmehal,Wellness
ORGANIZER;CN="Haraldslund":MAILTO:haraldslund@aalborg.dk
END:VEVENT
BEGIN:VEVENT
DTSTART;TZID=Europe/Copenhagen:20270508T102000
DTEND;TZID=Europe/Copenhagen:20270508T105000
DTSTAMP:20260423T221847
CREATED:20250930T095352Z
LAST-MODIFIED:20251120T120845Z
UID:10037272-1809771600-1809773400@haraldslund.com
SUMMARY:Ansigtsyoga
DESCRIPTION:
URL:https://haraldslund.com/event/ansigtsyoga/2027-05-08/
LOCATION:Haraldslund Vand- og kulturhus\, Kastetvej 83\, Aalborg\, 9000\, Denmark
CATEGORIES:Motionscenter
ORGANIZER;CN="Haraldslund":MAILTO:haraldslund@aalborg.dk
END:VEVENT
BEGIN:VEVENT
DTSTART;TZID=Europe/Copenhagen:20270508T101000
DTEND;TZID=Europe/Copenhagen:20270508T104000
DTSTAMP:20260423T221847
CREATED:20251205T083722Z
LAST-MODIFIED:20251205T083722Z
UID:10046755-1809771000-1809772800@haraldslund.com
SUMMARY:AB attack
DESCRIPTION:
URL:https://haraldslund.com/event/ab-attack/2027-05-08/
LOCATION:Haraldslund Vand- og kulturhus\, Kastetvej 83\, Aalborg\, 9000\, Denmark
CATEGORIES:Motionscenter
ORGANIZER;CN="Haraldslund":MAILTO:haraldslund@aalborg.dk
END:VEVENT
END:VCALENDAR