BEGIN:VCALENDAR
VERSION:2.0
PRODID:-//Haraldslund - ECPv6.15.16.1//NONSGML v1.0//EN
CALSCALE:GREGORIAN
METHOD:PUBLISH
X-WR-CALNAME:Haraldslund
X-ORIGINAL-URL:https://haraldslund.com
X-WR-CALDESC:Begivenheder for Haraldslund
REFRESH-INTERVAL;VALUE=DURATION:PT1H
X-Robots-Tag:noindex
X-PUBLISHED-TTL:PT1H
BEGIN:VTIMEZONE
TZID:Europe/Copenhagen
BEGIN:DAYLIGHT
TZOFFSETFROM:+0100
TZOFFSETTO:+0200
TZNAME:CEST
DTSTART:20260329T010000
END:DAYLIGHT
BEGIN:STANDARD
TZOFFSETFROM:+0200
TZOFFSETTO:+0100
TZNAME:CET
DTSTART:20261025T010000
END:STANDARD
BEGIN:DAYLIGHT
TZOFFSETFROM:+0100
TZOFFSETTO:+0200
TZNAME:CEST
DTSTART:20270328T010000
END:DAYLIGHT
BEGIN:STANDARD
TZOFFSETFROM:+0200
TZOFFSETTO:+0100
TZNAME:CET
DTSTART:20271031T010000
END:STANDARD
BEGIN:DAYLIGHT
TZOFFSETFROM:+0100
TZOFFSETTO:+0200
TZNAME:CEST
DTSTART:20280326T010000
END:DAYLIGHT
BEGIN:STANDARD
TZOFFSETFROM:+0200
TZOFFSETTO:+0100
TZNAME:CET
DTSTART:20281029T010000
END:STANDARD
END:VTIMEZONE
BEGIN:VEVENT
DTSTART;TZID=Europe/Copenhagen:20270503T191000
DTEND;TZID=Europe/Copenhagen:20270503T201000
DTSTAMP:20260423T124318
CREATED:20250929T113437Z
LAST-MODIFIED:20260330T114555Z
UID:10021135-1809371400-1809375000@haraldslund.com
SUMMARY:Yoga
DESCRIPTION:
URL:https://haraldslund.com/event/yoga/2027-05-03/
LOCATION:Haraldslund Vand- og kulturhus\, Kastetvej 83\, Aalborg\, 9000\, Denmark
CATEGORIES:Motionscenter
ORGANIZER;CN="Haraldslund":MAILTO:haraldslund@aalborg.dk
END:VEVENT
BEGIN:VEVENT
DTSTART;TZID=Europe/Copenhagen:20270503T184500
DTEND;TZID=Europe/Copenhagen:20270503T193000
DTSTAMP:20260423T124318
CREATED:20250929T113227Z
LAST-MODIFIED:20260330T103944Z
UID:10020769-1809369900-1809372600@haraldslund.com
SUMMARY:Vandgymnastik
DESCRIPTION:
URL:https://haraldslund.com/event/vandgymnastik/2027-05-03/
LOCATION:Haraldslund Vand- og kulturhus\, Kastetvej 83\, Aalborg\, 9000\, Denmark
CATEGORIES:Svømmehal
ORGANIZER;CN="Haraldslund":MAILTO:haraldslund@aalborg.dk
END:VEVENT
BEGIN:VEVENT
DTSTART;TZID=Europe/Copenhagen:20270503T181500
DTEND;TZID=Europe/Copenhagen:20270503T193000
DTSTAMP:20260423T124318
CREATED:20250929T085743Z
LAST-MODIFIED:20260330T114921Z
UID:10010405-1809368100-1809372600@haraldslund.com
SUMMARY:Temagus
DESCRIPTION:
URL:https://haraldslund.com/event/temagus-kl-18-15/2027-05-03/
LOCATION:Haraldslund Vand- og kulturhus\, Kastetvej 83\, Aalborg\, 9000\, Denmark
CATEGORIES:Wellness
ORGANIZER;CN="Haraldslund":MAILTO:haraldslund@aalborg.dk
END:VEVENT
BEGIN:VEVENT
DTSTART;TZID=Europe/Copenhagen:20270503T181000
DTEND;TZID=Europe/Copenhagen:20270503T190000
DTSTAMP:20260423T124318
CREATED:20250929T113012Z
LAST-MODIFIED:20260330T101847Z
UID:10020403-1809367800-1809370800@haraldslund.com
SUMMARY:Stærk krop
DESCRIPTION:
URL:https://haraldslund.com/event/staerk-krop/2027-05-03/
LOCATION:Haraldslund Vand- og kulturhus\, Kastetvej 83\, Aalborg\, 9000\, Denmark
CATEGORIES:Motionscenter
ORGANIZER;CN="Haraldslund":MAILTO:haraldslund@aalborg.dk
END:VEVENT
BEGIN:VEVENT
DTSTART;TZID=Europe/Copenhagen:20270503T173000
DTEND;TZID=Europe/Copenhagen:20270503T183000
DTSTAMP:20260423T124318
CREATED:20250929T111823Z
LAST-MODIFIED:20260330T101820Z
UID:10018682-1809365400-1809369000@haraldslund.com
SUMMARY:Bodybike 1
DESCRIPTION:
URL:https://haraldslund.com/event/bodybike-1/2027-05-03/
LOCATION:Haraldslund Vand- og kulturhus\, Kastetvej 83\, Aalborg\, 9000\, Denmark
CATEGORIES:Motionscenter
ORGANIZER;CN="Haraldslund":MAILTO:haraldslund@aalborg.dk
END:VEVENT
BEGIN:VEVENT
DTSTART;TZID=Europe/Copenhagen:20270503T171000
DTEND;TZID=Europe/Copenhagen:20270503T180000
DTSTAMP:20260423T124318
CREATED:20250929T105054Z
LAST-MODIFIED:20260330T114844Z
UID:10016907-1809364200-1809367200@haraldslund.com
SUMMARY:Jumping Fitness
DESCRIPTION:
URL:https://haraldslund.com/event/jumping-fitness/2027-05-03/
LOCATION:Haraldslund Vand- og kulturhus\, Kastetvej 83\, Aalborg\, 9000\, Denmark
CATEGORIES:Motionscenter
ORGANIZER;CN="Haraldslund":MAILTO:haraldslund@aalborg.dk
END:VEVENT
BEGIN:VEVENT
DTSTART;TZID=Europe/Copenhagen:20270503T163000
DTEND;TZID=Europe/Copenhagen:20270503T164500
DTSTAMP:20260423T124318
CREATED:20250929T084722Z
LAST-MODIFIED:20260330T110511Z
UID:10009111-1809361800-1809362700@haraldslund.com
SUMMARY:Saunagus
DESCRIPTION:
URL:https://haraldslund.com/event/saunagus-kl-16-30/2027-05-03/
LOCATION:Haraldslund Vand- og kulturhus\, Kastetvej 83\, Aalborg\, 9000\, Denmark
CATEGORIES:Wellness
ORGANIZER;CN="Haraldslund":MAILTO:haraldslund@aalborg.dk
END:VEVENT
BEGIN:VEVENT
DTSTART;TZID=Europe/Copenhagen:20270503T162000
DTEND;TZID=Europe/Copenhagen:20270503T171000
DTSTAMP:20260423T124318
CREATED:20250929T102636Z
LAST-MODIFIED:20251001T083702Z
UID:10016536-1809361200-1809364200@haraldslund.com
SUMMARY:Switching
DESCRIPTION:
URL:https://haraldslund.com/event/switching-kl-16-20/2027-05-03/
LOCATION:Haraldslund Vand- og kulturhus\, Kastetvej 83\, Aalborg\, 9000\, Denmark
CATEGORIES:Motionscenter
ORGANIZER;CN="Haraldslund":MAILTO:haraldslund@aalborg.dk
END:VEVENT
BEGIN:VEVENT
DTSTART;TZID=Europe/Copenhagen:20270503T161500
DTEND;TZID=Europe/Copenhagen:20270503T171500
DTSTAMP:20260423T124318
CREATED:20251205T084610Z
LAST-MODIFIED:20260330T102114Z
UID:10047014-1809360900-1809364500@haraldslund.com
SUMMARY:Bodybike 1
DESCRIPTION:
URL:https://haraldslund.com/event/bodybike-1-4/2027-05-03/
LOCATION:Haraldslund Vand- og kulturhus\, Kastetvej 83\, Aalborg\, 9000\, Denmark
CATEGORIES:Motionscenter
ORGANIZER;CN="Haraldslund":MAILTO:haraldslund@aalborg.dk
END:VEVENT
BEGIN:VEVENT
DTSTART;TZID=Europe/Copenhagen:20270503T160000
DTEND;TZID=Europe/Copenhagen:20270503T170000
DTSTAMP:20260423T124318
CREATED:20250929T101957Z
LAST-MODIFIED:20260323T063250Z
UID:10016170-1809360000-1809363600@haraldslund.com
SUMMARY:Bodytoning
DESCRIPTION:
URL:https://haraldslund.com/event/bodytoning-kl-16-00/2027-05-03/
LOCATION:Haraldslund Vand- og kulturhus\, Kastetvej 83\, Aalborg\, 9000\, Denmark
CATEGORIES:Motionscenter
ORGANIZER;CN="Haraldslund":MAILTO:haraldslund@aalborg.dk
END:VEVENT
BEGIN:VEVENT
DTSTART;TZID=Europe/Copenhagen:20270503T140000
DTEND;TZID=Europe/Copenhagen:20270503T141500
DTSTAMP:20260423T124318
CREATED:20250929T084523Z
LAST-MODIFIED:20260330T105546Z
UID:10007371-1809352800-1809353700@haraldslund.com
SUMMARY:Saunagus
DESCRIPTION:
URL:https://haraldslund.com/event/saunagus-kl-14-00/2027-05-03/
LOCATION:Haraldslund Vand- og kulturhus\, Kastetvej 83\, Aalborg\, 9000\, Denmark
CATEGORIES:Wellness
ORGANIZER;CN="Haraldslund":MAILTO:haraldslund@aalborg.dk
END:VEVENT
BEGIN:VEVENT
DTSTART;TZID=Europe/Copenhagen:20270503T134500
DTEND;TZID=Europe/Copenhagen:20270503T153000
DTSTAMP:20260423T124318
CREATED:20260303T085715Z
LAST-MODIFIED:20260303T085912Z
UID:10051395-1809351900-1809358200@haraldslund.com
SUMMARY:Sandfiltre skylles - temperatur kan falde 1-2 grader
DESCRIPTION:
URL:https://haraldslund.com/event/sandfiltre-skylles-temperatur/2027-05-03/
LOCATION:Haraldslund Vand- og kulturhus\, Kastetvej 83\, Aalborg\, 9000\, Denmark
CATEGORIES:Svømmehal
ORGANIZER;CN="Haraldslund":MAILTO:haraldslund@aalborg.dk
END:VEVENT
BEGIN:VEVENT
DTSTART;TZID=Europe/Copenhagen:20270503T134500
DTEND;TZID=Europe/Copenhagen:20270503T144500
DTSTAMP:20260423T124318
CREATED:20251104T112551Z
LAST-MODIFIED:20260330T103804Z
UID:10046013-1809351900-1809355500@haraldslund.com
SUMMARY:Skolesvømning
DESCRIPTION:
URL:https://haraldslund.com/event/skolesvoemning-2/2027-05-03/
CATEGORIES:Svømmehal
END:VEVENT
BEGIN:VEVENT
DTSTART;TZID=Europe/Copenhagen:20270503T130000
DTEND;TZID=Europe/Copenhagen:20270503T134500
DTSTAMP:20260423T124318
CREATED:20250930T104349Z
LAST-MODIFIED:20260330T112104Z
UID:10032792-1809349200-1809351900@haraldslund.com
SUMMARY:Vandgymnastik specialhold
DESCRIPTION:
URL:https://haraldslund.com/event/vandgymnastik-specialhold/2027-05-03/
LOCATION:Haraldslund Vand- og kulturhus\, Kastetvej 83\, Aalborg\, 9000\, Denmark
CATEGORIES:Svømmehal
ORGANIZER;CN="Haraldslund":MAILTO:haraldslund@aalborg.dk
END:VEVENT
BEGIN:VEVENT
DTSTART;TZID=Europe/Copenhagen:20270503T103000
DTEND;TZID=Europe/Copenhagen:20270503T111500
DTSTAMP:20260423T124318
CREATED:20250929T100820Z
LAST-MODIFIED:20260330T113832Z
UID:10015240-1809340200-1809342900@haraldslund.com
SUMMARY:Vandgymnastik
DESCRIPTION:
URL:https://haraldslund.com/event/vandgymnastik-kl-10-30/2027-05-03/
LOCATION:Haraldslund Vand- og kulturhus\, Kastetvej 83\, Aalborg\, 9000\, Denmark
CATEGORIES:Svømmehal
ORGANIZER;CN="Haraldslund":MAILTO:haraldslund@aalborg.dk
END:VEVENT
BEGIN:VEVENT
DTSTART;TZID=Europe/Copenhagen:20270503T101500
DTEND;TZID=Europe/Copenhagen:20270503T110000
DTSTAMP:20260423T124318
CREATED:20251104T112402Z
LAST-MODIFIED:20260330T113932Z
UID:10042717-1809339300-1809342000@haraldslund.com
SUMMARY:Skolesvømning
DESCRIPTION:
URL:https://haraldslund.com/event/skolesvoemning/2027-05-03/
LOCATION:Haraldslund Vand- og kulturhus\, Kastetvej 83\, Aalborg\, 9000\, Denmark
CATEGORIES:Svømmehal
ORGANIZER;CN="Haraldslund":MAILTO:haraldslund@aalborg.dk
END:VEVENT
BEGIN:VEVENT
DTSTART;TZID=Europe/Copenhagen:20270503T101500
DTEND;TZID=Europe/Copenhagen:20270503T103000
DTSTAMP:20260423T124318
CREATED:20251003T081347Z
LAST-MODIFIED:20260330T110253Z
UID:10040538-1809339300-1809340200@haraldslund.com
SUMMARY:Saunagus
DESCRIPTION:
URL:https://haraldslund.com/event/4198/2027-05-03/
LOCATION:Haraldslund Vand- og kulturhus\, Kastetvej 83\, Aalborg\, 9000\, Denmark
CATEGORIES:Wellness
ORGANIZER;CN="Haraldslund":MAILTO:haraldslund@aalborg.dk
END:VEVENT
BEGIN:VEVENT
DTSTART;TZID=Europe/Copenhagen:20270503T091500
DTEND;TZID=Europe/Copenhagen:20270503T100000
DTSTAMP:20260423T124318
CREATED:20250929T094650Z
LAST-MODIFIED:20260330T111051Z
UID:10014143-1809335700-1809338400@haraldslund.com
SUMMARY:Vandgymnastik
DESCRIPTION:
URL:https://haraldslund.com/event/vandgymnastik-kl-9-15/2027-05-03/
LOCATION:Haraldslund Vand- og kulturhus\, Kastetvej 83\, Aalborg\, 9000\, Denmark
CATEGORIES:Svømmehal
ORGANIZER;CN="Haraldslund":MAILTO:haraldslund@aalborg.dk
END:VEVENT
BEGIN:VEVENT
DTSTART;TZID=Europe/Copenhagen:20270503T090000
DTEND;TZID=Europe/Copenhagen:20270503T110000
DTSTAMP:20260423T124318
CREATED:20250930T113821Z
LAST-MODIFIED:20260330T111407Z
UID:10035517-1809334800-1809342000@haraldslund.com
SUMMARY:Sundhed i bevægelse
DESCRIPTION:
URL:https://haraldslund.com/event/sib-traening/2027-05-03/
LOCATION:Haraldslund Vand- og kulturhus\, Kastetvej 83\, Aalborg\, 9000\, Denmark
CATEGORIES:Sundhed i Bevægelse
ORGANIZER;CN="Haraldslund":MAILTO:haraldslund@aalborg.dk
END:VEVENT
BEGIN:VEVENT
DTSTART;TZID=Europe/Copenhagen:20270503T073000
DTEND;TZID=Europe/Copenhagen:20270503T074500
DTSTAMP:20260423T124318
CREATED:20250929T080715Z
LAST-MODIFIED:20260330T110205Z
UID:10039685-1809329400-1809330300@haraldslund.com
SUMMARY:Saunagus
DESCRIPTION:
URL:https://haraldslund.com/event/saunagus-7-30-2/2027-05-03/
CATEGORIES:Svømmehal
END:VEVENT
BEGIN:VEVENT
DTSTART;TZID=Europe/Copenhagen:20270502T140000
DTEND;TZID=Europe/Copenhagen:20270502T141500
DTSTAMP:20260423T124318
CREATED:20250929T084523Z
LAST-MODIFIED:20260330T105546Z
UID:10007370-1809266400-1809267300@haraldslund.com
SUMMARY:Saunagus
DESCRIPTION:
URL:https://haraldslund.com/event/saunagus-kl-14-00/2027-05-02/
LOCATION:Haraldslund Vand- og kulturhus\, Kastetvej 83\, Aalborg\, 9000\, Denmark
CATEGORIES:Wellness
ORGANIZER;CN="Haraldslund":MAILTO:haraldslund@aalborg.dk
END:VEVENT
BEGIN:VEVENT
DTSTART;TZID=Europe/Copenhagen:20270502T120000
DTEND;TZID=Europe/Copenhagen:20270502T121500
DTSTAMP:20260423T124318
CREATED:20260223T065538Z
LAST-MODIFIED:20260330T105402Z
UID:10050271-1809259200-1809260100@haraldslund.com
SUMMARY:Saunagus
DESCRIPTION:
URL:https://haraldslund.com/event/saunagus/2027-05-02/
LOCATION:Haraldslund Vand- og kulturhus\, Kastetvej 83\, Aalborg\, 9000\, Denmark
CATEGORIES:Svømmehal,Wellness
ORGANIZER;CN="Haraldslund":MAILTO:haraldslund@aalborg.dk
END:VEVENT
BEGIN:VEVENT
DTSTART;TZID=Europe/Copenhagen:20270502T113000
DTEND;TZID=Europe/Copenhagen:20270502T123000
DTSTAMP:20260423T124318
CREATED:20250930T100054Z
LAST-MODIFIED:20260330T112616Z
UID:10029347-1809257400-1809261000@haraldslund.com
SUMMARY:Fitness pump
DESCRIPTION:
URL:https://haraldslund.com/event/fitness-pump/2027-05-02/
LOCATION:Haraldslund Vand- og kulturhus\, Kastetvej 83\, Aalborg\, 9000\, Denmark
CATEGORIES:Motionscenter
ORGANIZER;CN="Haraldslund":MAILTO:haraldslund@aalborg.dk
END:VEVENT
BEGIN:VEVENT
DTSTART;TZID=Europe/Copenhagen:20270502T100000
DTEND;TZID=Europe/Copenhagen:20270502T111500
DTSTAMP:20260423T124318
CREATED:20250930T095930Z
LAST-MODIFIED:20251001T075144Z
UID:10037011-1809252000-1809256500@haraldslund.com
SUMMARY:Morgen yoga flow
DESCRIPTION:
URL:https://haraldslund.com/event/morgen-yoga-flow/2027-05-02/
LOCATION:Haraldslund Vand- og kulturhus\, Kastetvej 83\, Aalborg\, 9000\, Denmark
CATEGORIES:Motionscenter
ORGANIZER;CN="Haraldslund":MAILTO:haraldslund@aalborg.dk
END:VEVENT
BEGIN:VEVENT
DTSTART;TZID=Europe/Copenhagen:20270502T100000
DTEND;TZID=Europe/Copenhagen:20270502T101500
DTSTAMP:20260423T124318
CREATED:20260223T065913Z
LAST-MODIFIED:20260330T105201Z
UID:10050836-1809252000-1809252900@haraldslund.com
SUMMARY:Saunagus
DESCRIPTION:
URL:https://haraldslund.com/event/saunagus-2/2027-05-02/
LOCATION:Haraldslund Vand- og kulturhus\, Kastetvej 83\, Aalborg\, 9000\, Denmark
CATEGORIES:Svømmehal,Wellness
ORGANIZER;CN="Haraldslund":MAILTO:haraldslund@aalborg.dk
END:VEVENT
BEGIN:VEVENT
DTSTART;TZID=Europe/Copenhagen:20270502T090000
DTEND;TZID=Europe/Copenhagen:20270502T095000
DTSTAMP:20260423T124318
CREATED:20250930T095616Z
LAST-MODIFIED:20260223T070130Z
UID:10028981-1809248400-1809251400@haraldslund.com
SUMMARY:Jumping fitness
DESCRIPTION:
URL:https://haraldslund.com/event/jumping-fitness-4/2027-05-02/
LOCATION:Haraldslund Vand- og kulturhus\, Kastetvej 83\, Aalborg\, 9000\, Denmark
CATEGORIES:Motionscenter
ORGANIZER;CN="Haraldslund":MAILTO:haraldslund@aalborg.dk
END:VEVENT
BEGIN:VEVENT
DTSTART;TZID=Europe/Copenhagen:20270501T140000
DTEND;TZID=Europe/Copenhagen:20270501T141500
DTSTAMP:20260423T124318
CREATED:20250929T084523Z
LAST-MODIFIED:20260330T105546Z
UID:10048372-1809180000-1809180900@haraldslund.com
SUMMARY:Saunagus
DESCRIPTION:
URL:https://haraldslund.com/event/saunagus-kl-14-00/2027-05-01/
LOCATION:Haraldslund Vand- og kulturhus\, Kastetvej 83\, Aalborg\, 9000\, Denmark
CATEGORIES:Wellness
ORGANIZER;CN="Haraldslund":MAILTO:haraldslund@aalborg.dk
END:VEVENT
BEGIN:VEVENT
DTSTART;TZID=Europe/Copenhagen:20270501T120000
DTEND;TZID=Europe/Copenhagen:20270501T121500
DTSTAMP:20260423T124318
CREATED:20260223T065538Z
LAST-MODIFIED:20260330T105402Z
UID:10050270-1809172800-1809173700@haraldslund.com
SUMMARY:Saunagus
DESCRIPTION:
URL:https://haraldslund.com/event/saunagus/2027-05-01/
LOCATION:Haraldslund Vand- og kulturhus\, Kastetvej 83\, Aalborg\, 9000\, Denmark
CATEGORIES:Svømmehal,Wellness
ORGANIZER;CN="Haraldslund":MAILTO:haraldslund@aalborg.dk
END:VEVENT
BEGIN:VEVENT
DTSTART;TZID=Europe/Copenhagen:20270501T102000
DTEND;TZID=Europe/Copenhagen:20270501T105000
DTSTAMP:20260423T124318
CREATED:20250930T095352Z
LAST-MODIFIED:20251120T120845Z
UID:10037271-1809166800-1809168600@haraldslund.com
SUMMARY:Ansigtsyoga
DESCRIPTION:
URL:https://haraldslund.com/event/ansigtsyoga/2027-05-01/
LOCATION:Haraldslund Vand- og kulturhus\, Kastetvej 83\, Aalborg\, 9000\, Denmark
CATEGORIES:Motionscenter
ORGANIZER;CN="Haraldslund":MAILTO:haraldslund@aalborg.dk
END:VEVENT
BEGIN:VEVENT
DTSTART;TZID=Europe/Copenhagen:20270501T101000
DTEND;TZID=Europe/Copenhagen:20270501T104000
DTSTAMP:20260423T124318
CREATED:20251205T083722Z
LAST-MODIFIED:20251205T083722Z
UID:10046754-1809166200-1809168000@haraldslund.com
SUMMARY:AB attack
DESCRIPTION:
URL:https://haraldslund.com/event/ab-attack/2027-05-01/
LOCATION:Haraldslund Vand- og kulturhus\, Kastetvej 83\, Aalborg\, 9000\, Denmark
CATEGORIES:Motionscenter
ORGANIZER;CN="Haraldslund":MAILTO:haraldslund@aalborg.dk
END:VEVENT
END:VCALENDAR