BEGIN:VCALENDAR
VERSION:2.0
PRODID:-//Haraldslund - ECPv6.15.16.1//NONSGML v1.0//EN
CALSCALE:GREGORIAN
METHOD:PUBLISH
X-WR-CALNAME:Haraldslund
X-ORIGINAL-URL:https://haraldslund.com
X-WR-CALDESC:Begivenheder for Haraldslund
REFRESH-INTERVAL;VALUE=DURATION:PT1H
X-Robots-Tag:noindex
X-PUBLISHED-TTL:PT1H
BEGIN:VTIMEZONE
TZID:Europe/Copenhagen
BEGIN:DAYLIGHT
TZOFFSETFROM:+0100
TZOFFSETTO:+0200
TZNAME:CEST
DTSTART:20260329T010000
END:DAYLIGHT
BEGIN:STANDARD
TZOFFSETFROM:+0200
TZOFFSETTO:+0100
TZNAME:CET
DTSTART:20261025T010000
END:STANDARD
BEGIN:DAYLIGHT
TZOFFSETFROM:+0100
TZOFFSETTO:+0200
TZNAME:CEST
DTSTART:20270328T010000
END:DAYLIGHT
BEGIN:STANDARD
TZOFFSETFROM:+0200
TZOFFSETTO:+0100
TZNAME:CET
DTSTART:20271031T010000
END:STANDARD
BEGIN:DAYLIGHT
TZOFFSETFROM:+0100
TZOFFSETTO:+0200
TZNAME:CEST
DTSTART:20280326T010000
END:DAYLIGHT
BEGIN:STANDARD
TZOFFSETFROM:+0200
TZOFFSETTO:+0100
TZNAME:CET
DTSTART:20281029T010000
END:STANDARD
END:VTIMEZONE
BEGIN:VEVENT
DTSTART;TZID=Europe/Copenhagen:20270501T140000
DTEND;TZID=Europe/Copenhagen:20270501T141500
DTSTAMP:20260423T095005
CREATED:20250929T084523Z
LAST-MODIFIED:20260330T105546Z
UID:10048372-1809180000-1809180900@haraldslund.com
SUMMARY:Saunagus
DESCRIPTION:
URL:https://haraldslund.com/event/saunagus-kl-14-00/2027-05-01/
LOCATION:Haraldslund Vand- og kulturhus\, Kastetvej 83\, Aalborg\, 9000\, Denmark
CATEGORIES:Wellness
ORGANIZER;CN="Haraldslund":MAILTO:haraldslund@aalborg.dk
END:VEVENT
BEGIN:VEVENT
DTSTART;TZID=Europe/Copenhagen:20270501T120000
DTEND;TZID=Europe/Copenhagen:20270501T121500
DTSTAMP:20260423T095005
CREATED:20260223T065538Z
LAST-MODIFIED:20260330T105402Z
UID:10050270-1809172800-1809173700@haraldslund.com
SUMMARY:Saunagus
DESCRIPTION:
URL:https://haraldslund.com/event/saunagus/2027-05-01/
LOCATION:Haraldslund Vand- og kulturhus\, Kastetvej 83\, Aalborg\, 9000\, Denmark
CATEGORIES:Svømmehal,Wellness
ORGANIZER;CN="Haraldslund":MAILTO:haraldslund@aalborg.dk
END:VEVENT
BEGIN:VEVENT
DTSTART;TZID=Europe/Copenhagen:20270501T102000
DTEND;TZID=Europe/Copenhagen:20270501T105000
DTSTAMP:20260423T095005
CREATED:20250930T095352Z
LAST-MODIFIED:20251120T120845Z
UID:10037271-1809166800-1809168600@haraldslund.com
SUMMARY:Ansigtsyoga
DESCRIPTION:
URL:https://haraldslund.com/event/ansigtsyoga/2027-05-01/
LOCATION:Haraldslund Vand- og kulturhus\, Kastetvej 83\, Aalborg\, 9000\, Denmark
CATEGORIES:Motionscenter
ORGANIZER;CN="Haraldslund":MAILTO:haraldslund@aalborg.dk
END:VEVENT
BEGIN:VEVENT
DTSTART;TZID=Europe/Copenhagen:20270501T101000
DTEND;TZID=Europe/Copenhagen:20270501T104000
DTSTAMP:20260423T095005
CREATED:20251205T083722Z
LAST-MODIFIED:20251205T083722Z
UID:10046754-1809166200-1809168000@haraldslund.com
SUMMARY:AB attack
DESCRIPTION:
URL:https://haraldslund.com/event/ab-attack/2027-05-01/
LOCATION:Haraldslund Vand- og kulturhus\, Kastetvej 83\, Aalborg\, 9000\, Denmark
CATEGORIES:Motionscenter
ORGANIZER;CN="Haraldslund":MAILTO:haraldslund@aalborg.dk
END:VEVENT
BEGIN:VEVENT
DTSTART;TZID=Europe/Copenhagen:20270501T100000
DTEND;TZID=Europe/Copenhagen:20270501T101500
DTSTAMP:20260423T095005
CREATED:20260223T065913Z
LAST-MODIFIED:20260330T105201Z
UID:10050835-1809165600-1809166500@haraldslund.com
SUMMARY:Saunagus
DESCRIPTION:
URL:https://haraldslund.com/event/saunagus-2/2027-05-01/
LOCATION:Haraldslund Vand- og kulturhus\, Kastetvej 83\, Aalborg\, 9000\, Denmark
CATEGORIES:Svømmehal,Wellness
ORGANIZER;CN="Haraldslund":MAILTO:haraldslund@aalborg.dk
END:VEVENT
BEGIN:VEVENT
DTSTART;TZID=Europe/Copenhagen:20270501T090000
DTEND;TZID=Europe/Copenhagen:20270501T101000
DTSTAMP:20260423T095005
CREATED:20250930T095156Z
LAST-MODIFIED:20251001T080029Z
UID:10028615-1809162000-1809166200@haraldslund.com
SUMMARY:Hatha yoga
DESCRIPTION:
URL:https://haraldslund.com/event/hatha-yoga/2027-05-01/
LOCATION:Haraldslund Vand- og kulturhus\, Kastetvej 83\, Aalborg\, 9000\, Denmark
CATEGORIES:Motionscenter
ORGANIZER;CN="Haraldslund":MAILTO:haraldslund@aalborg.dk
END:VEVENT
BEGIN:VEVENT
DTSTART;TZID=Europe/Copenhagen:20270501T090000
DTEND;TZID=Europe/Copenhagen:20270501T100000
DTSTAMP:20260423T095005
CREATED:20250930T095023Z
LAST-MODIFIED:20251001T080206Z
UID:10028250-1809162000-1809165600@haraldslund.com
SUMMARY:Stram op
DESCRIPTION:
URL:https://haraldslund.com/event/stram-op-2/2027-05-01/
LOCATION:Haraldslund Vand- og kulturhus\, Kastetvej 83\, Aalborg\, 9000\, Denmark
CATEGORIES:Motionscenter
ORGANIZER;CN="Haraldslund":MAILTO:haraldslund@aalborg.dk
END:VEVENT
BEGIN:VEVENT
DTSTART;TZID=Europe/Copenhagen:20270430T160000
DTEND;TZID=Europe/Copenhagen:20270430T171500
DTSTAMP:20260423T095005
CREATED:20250930T094756Z
LAST-MODIFIED:20260330T113406Z
UID:10027868-1809100800-1809105300@haraldslund.com
SUMMARY:Yin yoga
DESCRIPTION:
URL:https://haraldslund.com/event/yin-yoga/2027-04-30/
LOCATION:Haraldslund Vand- og kulturhus\, Kastetvej 83\, Aalborg\, 9000\, Denmark
CATEGORIES:Motionscenter
ORGANIZER;CN="Haraldslund":MAILTO:haraldslund@aalborg.dk
END:VEVENT
BEGIN:VEVENT
DTSTART;TZID=Europe/Copenhagen:20270430T154500
DTEND;TZID=Europe/Copenhagen:20270430T170000
DTSTAMP:20260423T095005
CREATED:20250929T092105Z
LAST-MODIFIED:20260413T074248Z
UID:10012519-1809099900-1809104400@haraldslund.com
SUMMARY:Temagus
DESCRIPTION:
URL:https://haraldslund.com/event/temagus-15-45/2027-04-30/
LOCATION:Haraldslund Vand- og kulturhus\, Kastetvej 83\, Aalborg\, 9000\, Denmark
CATEGORIES:Wellness
ORGANIZER;CN="Haraldslund":MAILTO:haraldslund@aalborg.dk
END:VEVENT
BEGIN:VEVENT
DTSTART;TZID=Europe/Copenhagen:20270430T144500
DTEND;TZID=Europe/Copenhagen:20270430T153500
DTSTAMP:20260423T095005
CREATED:20250930T094656Z
LAST-MODIFIED:20260330T113337Z
UID:10027503-1809096300-1809099300@haraldslund.com
SUMMARY:Jumping fitness
DESCRIPTION:
URL:https://haraldslund.com/event/jumping-fitness-3/2027-04-30/
LOCATION:Haraldslund Vand- og kulturhus\, Kastetvej 83\, Aalborg\, 9000\, Denmark
CATEGORIES:Motionscenter
ORGANIZER;CN="Haraldslund":MAILTO:haraldslund@aalborg.dk
END:VEVENT
BEGIN:VEVENT
DTSTART;TZID=Europe/Copenhagen:20270430T113000
DTEND;TZID=Europe/Copenhagen:20270430T114500
DTSTAMP:20260423T095005
CREATED:20250929T090821Z
LAST-MODIFIED:20260330T113216Z
UID:10012153-1809084600-1809085500@haraldslund.com
SUMMARY:Saunagus
DESCRIPTION:
URL:https://haraldslund.com/event/saunagus-kl-11-30/2027-04-30/
LOCATION:Haraldslund Vand- og kulturhus\, Kastetvej 83\, Aalborg\, 9000\, Denmark
CATEGORIES:Wellness
ORGANIZER;CN="Haraldslund":MAILTO:haraldslund@aalborg.dk
END:VEVENT
BEGIN:VEVENT
DTSTART;TZID=Europe/Copenhagen:20270430T110000
DTEND;TZID=Europe/Copenhagen:20270430T111500
DTSTAMP:20260423T095005
CREATED:20250929T090221Z
LAST-MODIFIED:20260330T113145Z
UID:10037770-1809082800-1809083700@haraldslund.com
SUMMARY:Saunagus
DESCRIPTION:
URL:https://haraldslund.com/event/saunagus-kl-11-00/2027-04-30/
LOCATION:Haraldslund Vand- og kulturhus\, Kastetvej 83\, Aalborg\, 9000\, Denmark
CATEGORIES:Wellness
ORGANIZER;CN="Haraldslund":MAILTO:haraldslund@aalborg.dk
END:VEVENT
BEGIN:VEVENT
DTSTART;TZID=Europe/Copenhagen:20270430T100000
DTEND;TZID=Europe/Copenhagen:20270430T104500
DTSTAMP:20260423T095005
CREATED:20250930T094517Z
LAST-MODIFIED:20251001T080414Z
UID:10027138-1809079200-1809081900@haraldslund.com
SUMMARY:Vandgymnastik
DESCRIPTION:
URL:https://haraldslund.com/event/vandgymnastik-4/2027-04-30/
LOCATION:Haraldslund Vand- og kulturhus\, Kastetvej 83\, Aalborg\, 9000\, Denmark
CATEGORIES:Svømmehal
ORGANIZER;CN="Haraldslund":MAILTO:haraldslund@aalborg.dk
END:VEVENT
BEGIN:VEVENT
DTSTART;TZID=Europe/Copenhagen:20270430T091500
DTEND;TZID=Europe/Copenhagen:20270430T100000
DTSTAMP:20260423T095005
CREATED:20251104T113920Z
LAST-MODIFIED:20260330T104413Z
UID:10045228-1809076500-1809079200@haraldslund.com
SUMMARY:Skolesvømning
DESCRIPTION:
URL:https://haraldslund.com/event/skolesvoemning-6/2027-04-30/
LOCATION:Haraldslund Vand- og kulturhus\, Kastetvej 83\, Aalborg\, 9000\, Denmark
CATEGORIES:Svømmehal
ORGANIZER;CN="Haraldslund":MAILTO:haraldslund@aalborg.dk
END:VEVENT
BEGIN:VEVENT
DTSTART;TZID=Europe/Copenhagen:20270430T090000
DTEND;TZID=Europe/Copenhagen:20270430T110000
DTSTAMP:20260423T095005
CREATED:20250930T113821Z
LAST-MODIFIED:20260330T111407Z
UID:10035516-1809075600-1809082800@haraldslund.com
SUMMARY:Sundhed i bevægelse
DESCRIPTION:
URL:https://haraldslund.com/event/sib-traening/2027-04-30/
LOCATION:Haraldslund Vand- og kulturhus\, Kastetvej 83\, Aalborg\, 9000\, Denmark
CATEGORIES:Sundhed i Bevægelse
ORGANIZER;CN="Haraldslund":MAILTO:haraldslund@aalborg.dk
END:VEVENT
BEGIN:VEVENT
DTSTART;TZID=Europe/Copenhagen:20270430T090000
DTEND;TZID=Europe/Copenhagen:20270430T094500
DTSTAMP:20260423T095005
CREATED:20250930T094245Z
LAST-MODIFIED:20260330T113023Z
UID:10026774-1809075600-1809078300@haraldslund.com
SUMMARY:Vandgymnastik
DESCRIPTION:
URL:https://haraldslund.com/event/vandgymnastik-3/2027-04-30/
LOCATION:Haraldslund Vand- og kulturhus\, Kastetvej 83\, Aalborg\, 9000\, Denmark
CATEGORIES:Svømmehal
ORGANIZER;CN="Haraldslund":MAILTO:haraldslund@aalborg.dk
END:VEVENT
BEGIN:VEVENT
DTSTART;TZID=Europe/Copenhagen:20270430T084500
DTEND;TZID=Europe/Copenhagen:20270430T093500
DTSTAMP:20260423T095005
CREATED:20251010T100437Z
LAST-MODIFIED:20251205T082856Z
UID:10026409-1809074700-1809077700@haraldslund.com
SUMMARY:Switching
DESCRIPTION:
URL:https://haraldslund.com/event/switching-2-2/2027-04-30/
LOCATION:Haraldslund Vand- og kulturhus\, Kastetvej 83\, Aalborg\, 9000\, Denmark
CATEGORIES:Motionscenter
ORGANIZER;CN="Haraldslund":MAILTO:haraldslund@aalborg.dk
END:VEVENT
BEGIN:VEVENT
DTSTART;TZID=Europe/Copenhagen:20270430T080000
DTEND;TZID=Europe/Copenhagen:20270430T085000
DTSTAMP:20260423T095005
CREATED:20260423T064915Z
LAST-MODIFIED:20260423T064915Z
UID:10052926-1809072000-1809075000@haraldslund.com
SUMMARY:Pilates
DESCRIPTION:
URL:https://haraldslund.com/event/pilates-2/2027-04-30/
LOCATION:Haraldslund Vand- og kulturhus\, Kastetvej 83\, Aalborg\, 9000\, Denmark
CATEGORIES:Motionscenter
ORGANIZER;CN="Haraldslund":MAILTO:haraldslund@aalborg.dk
END:VEVENT
BEGIN:VEVENT
DTSTART;TZID=Europe/Copenhagen:20270430T073000
DTEND;TZID=Europe/Copenhagen:20270430T074500
DTSTAMP:20260423T095005
CREATED:20251003T074251Z
LAST-MODIFIED:20260330T112921Z
UID:10038820-1809070200-1809071100@haraldslund.com
SUMMARY:Saunagus
DESCRIPTION:
URL:https://haraldslund.com/event/saunagus-7-30-2-4/2027-04-30/
CATEGORIES:Wellness
END:VEVENT
BEGIN:VEVENT
DTSTART;TZID=Europe/Copenhagen:20270429T190000
DTEND;TZID=Europe/Copenhagen:20270429T191500
DTSTAMP:20260423T095005
CREATED:20250929T090017Z
LAST-MODIFIED:20260330T110649Z
UID:10011134-1809025200-1809026100@haraldslund.com
SUMMARY:Saunagus
DESCRIPTION:
URL:https://haraldslund.com/event/saunagus-kl-19-00/2027-04-29/
LOCATION:Haraldslund Vand- og kulturhus\, Kastetvej 83\, Aalborg\, 9000\, Denmark
CATEGORIES:Wellness
ORGANIZER;CN="Haraldslund":MAILTO:haraldslund@aalborg.dk
END:VEVENT
BEGIN:VEVENT
DTSTART;TZID=Europe/Copenhagen:20270429T180000
DTEND;TZID=Europe/Copenhagen:20270429T190000
DTSTAMP:20260423T095005
CREATED:20250929T112622Z
LAST-MODIFIED:20260331T064727Z
UID:10020037-1809021600-1809025200@haraldslund.com
SUMMARY:Bodybike 1
DESCRIPTION:
URL:https://haraldslund.com/event/bodybike-1-3/2027-04-29/
LOCATION:Haraldslund Vand- og kulturhus\, Kastetvej 83\, Aalborg\, 9000\, Denmark
CATEGORIES:Motionscenter
ORGANIZER;CN="Haraldslund":MAILTO:haraldslund@aalborg.dk
END:VEVENT
BEGIN:VEVENT
DTSTART;TZID=Europe/Copenhagen:20270429T170000
DTEND;TZID=Europe/Copenhagen:20270429T180000
DTSTAMP:20260423T095005
CREATED:20260129T075100Z
LAST-MODIFIED:20260331T064503Z
UID:10047797-1809018000-1809021600@haraldslund.com
SUMMARY:Crosstræning
DESCRIPTION:
URL:https://haraldslund.com/event/crosstraening/2027-04-29/
LOCATION:Haraldslund Vand- og kulturhus\, Kastetvej 83\, Aalborg\, 9000\, Denmark
CATEGORIES:Motionscenter
ORGANIZER;CN="Haraldslund":MAILTO:haraldslund@aalborg.dk
END:VEVENT
BEGIN:VEVENT
DTSTART;TZID=Europe/Copenhagen:20270429T170000
DTEND;TZID=Europe/Copenhagen:20270429T175000
DTSTAMP:20260423T095005
CREATED:20250929T111112Z
LAST-MODIFIED:20260330T115132Z
UID:10018316-1809018000-1809021000@haraldslund.com
SUMMARY:Jumping fitness
DESCRIPTION:
URL:https://haraldslund.com/event/jumping-fitness-2/2027-04-29/
LOCATION:Haraldslund Vand- og kulturhus\, Kastetvej 83\, Aalborg\, 9000\, Denmark
CATEGORIES:Motionscenter
ORGANIZER;CN="Haraldslund":MAILTO:haraldslund@aalborg.dk
END:VEVENT
BEGIN:VEVENT
DTSTART;TZID=Europe/Copenhagen:20270429T170000
DTEND;TZID=Europe/Copenhagen:20270429T174500
DTSTAMP:20260423T095005
CREATED:20250930T092819Z
LAST-MODIFIED:20260331T064413Z
UID:10026044-1809018000-1809020700@haraldslund.com
SUMMARY:Vandgymnastik
DESCRIPTION:
URL:https://haraldslund.com/event/vandgymnastik-2/2027-04-29/
LOCATION:Haraldslund Vand- og kulturhus\, Kastetvej 83\, Aalborg\, 9000\, Denmark
CATEGORIES:Svømmehal
ORGANIZER;CN="Haraldslund":MAILTO:haraldslund@aalborg.dk
END:VEVENT
BEGIN:VEVENT
DTSTART;TZID=Europe/Copenhagen:20270429T163000
DTEND;TZID=Europe/Copenhagen:20270429T164500
DTSTAMP:20260423T095005
CREATED:20250929T084722Z
LAST-MODIFIED:20260330T110511Z
UID:10009110-1809016200-1809017100@haraldslund.com
SUMMARY:Saunagus
DESCRIPTION:
URL:https://haraldslund.com/event/saunagus-kl-16-30/2027-04-29/
LOCATION:Haraldslund Vand- og kulturhus\, Kastetvej 83\, Aalborg\, 9000\, Denmark
CATEGORIES:Wellness
ORGANIZER;CN="Haraldslund":MAILTO:haraldslund@aalborg.dk
END:VEVENT
BEGIN:VEVENT
DTSTART;TZID=Europe/Copenhagen:20270429T160000
DTEND;TZID=Europe/Copenhagen:20270429T165000
DTSTAMP:20260423T095005
CREATED:20250930T092628Z
LAST-MODIFIED:20251001T083306Z
UID:10024949-1809014400-1809017400@haraldslund.com
SUMMARY:Styrke\, core og stabilitet
DESCRIPTION:
URL:https://haraldslund.com/event/styrke-core-og-stabilitet/2027-04-29/
LOCATION:Haraldslund Vand- og kulturhus\, Kastetvej 83\, Aalborg\, 9000\, Denmark
CATEGORIES:Motionscenter
ORGANIZER;CN="Haraldslund":MAILTO:haraldslund@aalborg.dk
END:VEVENT
BEGIN:VEVENT
DTSTART;TZID=Europe/Copenhagen:20270429T140000
DTEND;TZID=Europe/Copenhagen:20270429T141500
DTSTAMP:20260423T095005
CREATED:20250929T084523Z
LAST-MODIFIED:20260330T105546Z
UID:10007369-1809007200-1809008100@haraldslund.com
SUMMARY:Saunagus
DESCRIPTION:
URL:https://haraldslund.com/event/saunagus-kl-14-00/2027-04-29/
LOCATION:Haraldslund Vand- og kulturhus\, Kastetvej 83\, Aalborg\, 9000\, Denmark
CATEGORIES:Wellness
ORGANIZER;CN="Haraldslund":MAILTO:haraldslund@aalborg.dk
END:VEVENT
BEGIN:VEVENT
DTSTART;TZID=Europe/Copenhagen:20270429T133000
DTEND;TZID=Europe/Copenhagen:20270429T150000
DTSTAMP:20260423T095005
CREATED:20251104T113413Z
LAST-MODIFIED:20260330T111926Z
UID:10044969-1809005400-1809010800@haraldslund.com
SUMMARY:Skolesvømning
DESCRIPTION:
URL:https://haraldslund.com/event/skolesvoemning-5/2027-04-29/
LOCATION:Haraldslund Vand- og kulturhus\, Kastetvej 83\, Aalborg\, 9000\, Denmark
CATEGORIES:Svømmehal
ORGANIZER;CN="Haraldslund":MAILTO:haraldslund@aalborg.dk
END:VEVENT
BEGIN:VEVENT
DTSTART;TZID=Europe/Copenhagen:20270429T130000
DTEND;TZID=Europe/Copenhagen:20270429T134500
DTSTAMP:20260423T095005
CREATED:20250930T104349Z
LAST-MODIFIED:20260330T112104Z
UID:10032791-1809003600-1809006300@haraldslund.com
SUMMARY:Vandgymnastik specialhold
DESCRIPTION:
URL:https://haraldslund.com/event/vandgymnastik-specialhold/2027-04-29/
LOCATION:Haraldslund Vand- og kulturhus\, Kastetvej 83\, Aalborg\, 9000\, Denmark
CATEGORIES:Svømmehal
ORGANIZER;CN="Haraldslund":MAILTO:haraldslund@aalborg.dk
END:VEVENT
BEGIN:VEVENT
DTSTART;TZID=Europe/Copenhagen:20270429T120000
DTEND;TZID=Europe/Copenhagen:20270429T124500
DTSTAMP:20260423T095005
CREATED:20250930T105139Z
LAST-MODIFIED:20260330T111634Z
UID:10034454-1809000000-1809002700@haraldslund.com
SUMMARY:Vandgymnastik specialhold
DESCRIPTION:
URL:https://haraldslund.com/event/vandgymnastik-specialhold-3/2027-04-29/
LOCATION:Haraldslund Vand- og kulturhus\, Kastetvej 83\, Aalborg\, 9000\, Denmark
CATEGORIES:Svømmehal
ORGANIZER;CN="Haraldslund":MAILTO:haraldslund@aalborg.dk
END:VEVENT
END:VCALENDAR