BEGIN:VCALENDAR
VERSION:2.0
PRODID:-//Haraldslund - ECPv6.15.16.1//NONSGML v1.0//EN
CALSCALE:GREGORIAN
METHOD:PUBLISH
X-WR-CALNAME:Haraldslund
X-ORIGINAL-URL:https://haraldslund.com
X-WR-CALDESC:Begivenheder for Haraldslund
REFRESH-INTERVAL;VALUE=DURATION:PT1H
X-Robots-Tag:noindex
X-PUBLISHED-TTL:PT1H
BEGIN:VTIMEZONE
TZID:Europe/Copenhagen
BEGIN:DAYLIGHT
TZOFFSETFROM:+0100
TZOFFSETTO:+0200
TZNAME:CEST
DTSTART:20260329T010000
END:DAYLIGHT
BEGIN:STANDARD
TZOFFSETFROM:+0200
TZOFFSETTO:+0100
TZNAME:CET
DTSTART:20261025T010000
END:STANDARD
BEGIN:DAYLIGHT
TZOFFSETFROM:+0100
TZOFFSETTO:+0200
TZNAME:CEST
DTSTART:20270328T010000
END:DAYLIGHT
BEGIN:STANDARD
TZOFFSETFROM:+0200
TZOFFSETTO:+0100
TZNAME:CET
DTSTART:20271031T010000
END:STANDARD
BEGIN:DAYLIGHT
TZOFFSETFROM:+0100
TZOFFSETTO:+0200
TZNAME:CEST
DTSTART:20280326T010000
END:DAYLIGHT
BEGIN:STANDARD
TZOFFSETFROM:+0200
TZOFFSETTO:+0100
TZNAME:CET
DTSTART:20281029T010000
END:STANDARD
END:VTIMEZONE
BEGIN:VEVENT
DTSTART;TZID=Europe/Copenhagen:20270428T191000
DTEND;TZID=Europe/Copenhagen:20270428T201000
DTSTAMP:20260423T050753
CREATED:20250930T090845Z
LAST-MODIFIED:20260330T110922Z
UID:10024583-1808939400-1808943000@haraldslund.com
SUMMARY:Stram op
DESCRIPTION:
URL:https://haraldslund.com/event/stram-op/2027-04-28/
LOCATION:Haraldslund Vand- og kulturhus\, Kastetvej 83\, Aalborg\, 9000\, Denmark
CATEGORIES:Motionscenter
ORGANIZER;CN="Haraldslund":MAILTO:haraldslund@aalborg.dk
END:VEVENT
BEGIN:VEVENT
DTSTART;TZID=Europe/Copenhagen:20270428T181500
DTEND;TZID=Europe/Copenhagen:20270428T193000
DTSTAMP:20260423T050753
CREATED:20250929T085743Z
LAST-MODIFIED:20260330T114921Z
UID:10010404-1808936100-1808940600@haraldslund.com
SUMMARY:Temagus
DESCRIPTION:
URL:https://haraldslund.com/event/temagus-kl-18-15/2027-04-28/
LOCATION:Haraldslund Vand- og kulturhus\, Kastetvej 83\, Aalborg\, 9000\, Denmark
CATEGORIES:Wellness
ORGANIZER;CN="Haraldslund":MAILTO:haraldslund@aalborg.dk
END:VEVENT
BEGIN:VEVENT
DTSTART;TZID=Europe/Copenhagen:20270428T181000
DTEND;TZID=Europe/Copenhagen:20270428T190000
DTSTAMP:20260423T050753
CREATED:20250929T110435Z
LAST-MODIFIED:20260323T063531Z
UID:10017877-1808935800-1808938800@haraldslund.com
SUMMARY:Jumping Fitness
DESCRIPTION:
URL:https://haraldslund.com/event/jumping-fitness-kl-17-00/2027-04-28/
LOCATION:Haraldslund Vand- og kulturhus\, Kastetvej 83\, Aalborg\, 9000\, Denmark
CATEGORIES:Motionscenter
ORGANIZER;CN="Haraldslund":MAILTO:haraldslund@aalborg.dk
END:VEVENT
BEGIN:VEVENT
DTSTART;TZID=Europe/Copenhagen:20270428T170000
DTEND;TZID=Europe/Copenhagen:20270428T180000
DTSTAMP:20260423T050753
CREATED:20250930T090108Z
LAST-MODIFIED:20251023T110809Z
UID:10024217-1808931600-1808935200@haraldslund.com
SUMMARY:Crossdance
DESCRIPTION:
URL:https://haraldslund.com/event/crossdance/2027-04-28/
LOCATION:Haraldslund Vand- og kulturhus\, Kastetvej 83\, Aalborg\, 9000\, Denmark
CATEGORIES:Motionscenter
ORGANIZER;CN="Haraldslund":MAILTO:haraldslund@aalborg.dk
END:VEVENT
BEGIN:VEVENT
DTSTART;TZID=Europe/Copenhagen:20270428T170000
DTEND;TZID=Europe/Copenhagen:20270428T180000
DTSTAMP:20260423T050753
CREATED:20250929T112413Z
LAST-MODIFIED:20260331T064541Z
UID:10019672-1808931600-1808935200@haraldslund.com
SUMMARY:Bodybike 1
DESCRIPTION:
URL:https://haraldslund.com/event/bodybike-1-2/2027-04-28/
LOCATION:Haraldslund Vand- og kulturhus\, Kastetvej 83\, Aalborg\, 9000\, Denmark
CATEGORIES:Motionscenter
ORGANIZER;CN="Haraldslund":MAILTO:haraldslund@aalborg.dk
END:VEVENT
BEGIN:VEVENT
DTSTART;TZID=Europe/Copenhagen:20270428T163000
DTEND;TZID=Europe/Copenhagen:20270428T164500
DTSTAMP:20260423T050753
CREATED:20250929T084722Z
LAST-MODIFIED:20260330T110511Z
UID:10009109-1808929800-1808930700@haraldslund.com
SUMMARY:Saunagus
DESCRIPTION:
URL:https://haraldslund.com/event/saunagus-kl-16-30/2027-04-28/
LOCATION:Haraldslund Vand- og kulturhus\, Kastetvej 83\, Aalborg\, 9000\, Denmark
CATEGORIES:Wellness
ORGANIZER;CN="Haraldslund":MAILTO:haraldslund@aalborg.dk
END:VEVENT
BEGIN:VEVENT
DTSTART;TZID=Europe/Copenhagen:20270428T160000
DTEND;TZID=Europe/Copenhagen:20270428T165000
DTSTAMP:20260423T050753
CREATED:20250930T085445Z
LAST-MODIFIED:20251023T110654Z
UID:10023851-1808928000-1808931000@haraldslund.com
SUMMARY:Core og stabilitet
DESCRIPTION:
URL:https://haraldslund.com/event/core-og-stabilitet/2027-04-28/
LOCATION:Haraldslund Vand- og kulturhus\, Kastetvej 83\, Aalborg\, 9000\, Denmark
CATEGORIES:Motionscenter
ORGANIZER;CN="Haraldslund":MAILTO:haraldslund@aalborg.dk
END:VEVENT
BEGIN:VEVENT
DTSTART;TZID=Europe/Copenhagen:20270428T140000
DTEND;TZID=Europe/Copenhagen:20270428T141500
DTSTAMP:20260423T050753
CREATED:20250929T084523Z
LAST-MODIFIED:20260330T105546Z
UID:10007368-1808920800-1808921700@haraldslund.com
SUMMARY:Saunagus
DESCRIPTION:
URL:https://haraldslund.com/event/saunagus-kl-14-00/2027-04-28/
LOCATION:Haraldslund Vand- og kulturhus\, Kastetvej 83\, Aalborg\, 9000\, Denmark
CATEGORIES:Wellness
ORGANIZER;CN="Haraldslund":MAILTO:haraldslund@aalborg.dk
END:VEVENT
BEGIN:VEVENT
DTSTART;TZID=Europe/Copenhagen:20270428T134500
DTEND;TZID=Europe/Copenhagen:20270428T144500
DTSTAMP:20260423T050753
CREATED:20251105T100044Z
LAST-MODIFIED:20260330T111153Z
UID:10045749-1808919900-1808923500@haraldslund.com
SUMMARY:Skolesvømning
DESCRIPTION:
URL:https://haraldslund.com/event/skolesvoemning-2-2/2027-04-28/
CATEGORIES:Svømmehal
END:VEVENT
BEGIN:VEVENT
DTSTART;TZID=Europe/Copenhagen:20270428T130000
DTEND;TZID=Europe/Copenhagen:20270428T134500
DTSTAMP:20260423T050753
CREATED:20250930T104349Z
LAST-MODIFIED:20260330T112104Z
UID:10032790-1808917200-1808919900@haraldslund.com
SUMMARY:Vandgymnastik specialhold
DESCRIPTION:
URL:https://haraldslund.com/event/vandgymnastik-specialhold/2027-04-28/
LOCATION:Haraldslund Vand- og kulturhus\, Kastetvej 83\, Aalborg\, 9000\, Denmark
CATEGORIES:Svømmehal
ORGANIZER;CN="Haraldslund":MAILTO:haraldslund@aalborg.dk
END:VEVENT
BEGIN:VEVENT
DTSTART;TZID=Europe/Copenhagen:20270428T103000
DTEND;TZID=Europe/Copenhagen:20270428T111500
DTSTAMP:20260423T050753
CREATED:20250929T115150Z
LAST-MODIFIED:20251205T081919Z
UID:10023221-1808908200-1808910900@haraldslund.com
SUMMARY:Varmtvandstræning
DESCRIPTION:
URL:https://haraldslund.com/event/varmtvandstraening/2027-04-28/
LOCATION:Haraldslund Vand- og kulturhus\, Kastetvej 83\, Aalborg\, 9000\, Denmark
CATEGORIES:Svømmehal
ORGANIZER;CN="Haraldslund":MAILTO:haraldslund@aalborg.dk
END:VEVENT
BEGIN:VEVENT
DTSTART;TZID=Europe/Copenhagen:20270428T101500
DTEND;TZID=Europe/Copenhagen:20270428T103000
DTSTAMP:20260423T050753
CREATED:20251003T081347Z
LAST-MODIFIED:20260330T110253Z
UID:10040534-1808907300-1808908200@haraldslund.com
SUMMARY:Saunagus
DESCRIPTION:
URL:https://haraldslund.com/event/4198/2027-04-28/
LOCATION:Haraldslund Vand- og kulturhus\, Kastetvej 83\, Aalborg\, 9000\, Denmark
CATEGORIES:Wellness
ORGANIZER;CN="Haraldslund":MAILTO:haraldslund@aalborg.dk
END:VEVENT
BEGIN:VEVENT
DTSTART;TZID=Europe/Copenhagen:20270428T093000
DTEND;TZID=Europe/Copenhagen:20270428T103000
DTSTAMP:20260423T050753
CREATED:20250929T114741Z
LAST-MODIFIED:20251205T082421Z
UID:10022857-1808904600-1808908200@haraldslund.com
SUMMARY:Pilates
DESCRIPTION:
URL:https://haraldslund.com/event/pilates/2027-04-28/
LOCATION:Haraldslund Vand- og kulturhus\, Kastetvej 83\, Aalborg\, 9000\, Denmark
CATEGORIES:Motionscenter
ORGANIZER;CN="Haraldslund":MAILTO:haraldslund@aalborg.dk
END:VEVENT
BEGIN:VEVENT
DTSTART;TZID=Europe/Copenhagen:20270428T091500
DTEND;TZID=Europe/Copenhagen:20270428T100000
DTSTAMP:20260423T050753
CREATED:20250929T094650Z
LAST-MODIFIED:20260330T111051Z
UID:10014142-1808903700-1808906400@haraldslund.com
SUMMARY:Vandgymnastik
DESCRIPTION:
URL:https://haraldslund.com/event/vandgymnastik-kl-9-15/2027-04-28/
LOCATION:Haraldslund Vand- og kulturhus\, Kastetvej 83\, Aalborg\, 9000\, Denmark
CATEGORIES:Svømmehal
ORGANIZER;CN="Haraldslund":MAILTO:haraldslund@aalborg.dk
END:VEVENT
BEGIN:VEVENT
DTSTART;TZID=Europe/Copenhagen:20270428T090000
DTEND;TZID=Europe/Copenhagen:20270428T110000
DTSTAMP:20260423T050753
CREATED:20250930T113821Z
LAST-MODIFIED:20260330T111407Z
UID:10035514-1808902800-1808910000@haraldslund.com
SUMMARY:Sundhed i bevægelse
DESCRIPTION:
URL:https://haraldslund.com/event/sib-traening/2027-04-28/
LOCATION:Haraldslund Vand- og kulturhus\, Kastetvej 83\, Aalborg\, 9000\, Denmark
CATEGORIES:Sundhed i Bevægelse
ORGANIZER;CN="Haraldslund":MAILTO:haraldslund@aalborg.dk
END:VEVENT
BEGIN:VEVENT
DTSTART;TZID=Europe/Copenhagen:20270428T083000
DTEND;TZID=Europe/Copenhagen:20270428T091500
DTSTAMP:20260423T050753
CREATED:20251104T113006Z
LAST-MODIFIED:20260330T111310Z
UID:10043750-1808901000-1808903700@haraldslund.com
SUMMARY:Skolesvømning
DESCRIPTION:
URL:https://haraldslund.com/event/skolesvoemning-4/2027-04-28/
LOCATION:Haraldslund Vand- og kulturhus\, Kastetvej 83\, Aalborg\, 9000\, Denmark
CATEGORIES:Svømmehal
ORGANIZER;CN="Haraldslund":MAILTO:haraldslund@aalborg.dk
END:VEVENT
BEGIN:VEVENT
DTSTART;TZID=Europe/Copenhagen:20270428T073000
DTEND;TZID=Europe/Copenhagen:20270428T074500
DTSTAMP:20260423T050753
CREATED:20250929T080715Z
LAST-MODIFIED:20260330T110205Z
UID:10039684-1808897400-1808898300@haraldslund.com
SUMMARY:Saunagus
DESCRIPTION:
URL:https://haraldslund.com/event/saunagus-7-30-2/2027-04-28/
CATEGORIES:Svømmehal
END:VEVENT
BEGIN:VEVENT
DTSTART;TZID=Europe/Copenhagen:20270427T190000
DTEND;TZID=Europe/Copenhagen:20270427T191500
DTSTAMP:20260423T050753
CREATED:20250929T090017Z
LAST-MODIFIED:20260330T110649Z
UID:10011133-1808852400-1808853300@haraldslund.com
SUMMARY:Saunagus
DESCRIPTION:
URL:https://haraldslund.com/event/saunagus-kl-19-00/2027-04-27/
LOCATION:Haraldslund Vand- og kulturhus\, Kastetvej 83\, Aalborg\, 9000\, Denmark
CATEGORIES:Wellness
ORGANIZER;CN="Haraldslund":MAILTO:haraldslund@aalborg.dk
END:VEVENT
BEGIN:VEVENT
DTSTART;TZID=Europe/Copenhagen:20270427T184500
DTEND;TZID=Europe/Copenhagen:20270427T193000
DTSTAMP:20260423T050753
CREATED:20250929T114607Z
LAST-MODIFIED:20250929T114607Z
UID:10022598-1808851500-1808854200@haraldslund.com
SUMMARY:Aqua Yoga
DESCRIPTION:
URL:https://haraldslund.com/event/aqua-yoga/2027-04-27/
LOCATION:Haraldslund Vand- og kulturhus\, Kastetvej 83\, Aalborg\, 9000\, Denmark
CATEGORIES:Svømmehal
ORGANIZER;CN="Haraldslund":MAILTO:haraldslund@aalborg.dk
END:VEVENT
BEGIN:VEVENT
DTSTART;TZID=Europe/Copenhagen:20270427T181000
DTEND;TZID=Europe/Copenhagen:20270427T190000
DTSTAMP:20260423T050753
CREATED:20250929T110435Z
LAST-MODIFIED:20260323T063531Z
UID:10017876-1808849400-1808852400@haraldslund.com
SUMMARY:Jumping Fitness
DESCRIPTION:
URL:https://haraldslund.com/event/jumping-fitness-kl-17-00/2027-04-27/
LOCATION:Haraldslund Vand- og kulturhus\, Kastetvej 83\, Aalborg\, 9000\, Denmark
CATEGORIES:Motionscenter
ORGANIZER;CN="Haraldslund":MAILTO:haraldslund@aalborg.dk
END:VEVENT
BEGIN:VEVENT
DTSTART;TZID=Europe/Copenhagen:20270427T180000
DTEND;TZID=Europe/Copenhagen:20270427T191000
DTSTAMP:20260423T050753
CREATED:20250929T112046Z
LAST-MODIFIED:20260331T064621Z
UID:10019308-1808848800-1808853000@haraldslund.com
SUMMARY:Bodybike 2
DESCRIPTION:
URL:https://haraldslund.com/event/bodybike-2/2027-04-27/
LOCATION:Haraldslund Vand- og kulturhus\, Kastetvej 83\, Aalborg\, 9000\, Denmark
CATEGORIES:Motionscenter
ORGANIZER;CN="Haraldslund":MAILTO:haraldslund@aalborg.dk
END:VEVENT
BEGIN:VEVENT
DTSTART;TZID=Europe/Copenhagen:20270427T174500
DTEND;TZID=Europe/Copenhagen:20270427T183000
DTSTAMP:20260423T050753
CREATED:20250929T114343Z
LAST-MODIFIED:20251001T083929Z
UID:10022232-1808847900-1808850600@haraldslund.com
SUMMARY:Aqua puls og power
DESCRIPTION:
URL:https://haraldslund.com/event/aqua-puls-og-power/2027-04-27/
LOCATION:Haraldslund Vand- og kulturhus\, Kastetvej 83\, Aalborg\, 9000\, Denmark
CATEGORIES:Svømmehal
ORGANIZER;CN="Haraldslund":MAILTO:haraldslund@aalborg.dk
END:VEVENT
BEGIN:VEVENT
DTSTART;TZID=Europe/Copenhagen:20270427T164500
DTEND;TZID=Europe/Copenhagen:20270427T180000
DTSTAMP:20260423T050753
CREATED:20250929T114139Z
LAST-MODIFIED:20251208T064032Z
UID:10021866-1808844300-1808848800@haraldslund.com
SUMMARY:Yoga
DESCRIPTION:
URL:https://haraldslund.com/event/yoga-2/2027-04-27/
LOCATION:Haraldslund Vand- og kulturhus\, Kastetvej 83\, Aalborg\, 9000\, Denmark
CATEGORIES:Motionscenter
ORGANIZER;CN="Haraldslund":MAILTO:haraldslund@aalborg.dk
END:VEVENT
BEGIN:VEVENT
DTSTART;TZID=Europe/Copenhagen:20270427T163000
DTEND;TZID=Europe/Copenhagen:20270427T172000
DTSTAMP:20260423T050753
CREATED:20250929T113803Z
LAST-MODIFIED:20251001T084057Z
UID:10021500-1808843400-1808846400@haraldslund.com
SUMMARY:Switching
DESCRIPTION:
URL:https://haraldslund.com/event/switching/2027-04-27/
LOCATION:Haraldslund Vand- og kulturhus\, Kastetvej 83\, Aalborg\, 9000\, Denmark
CATEGORIES:Motionscenter
ORGANIZER;CN="Haraldslund":MAILTO:haraldslund@aalborg.dk
END:VEVENT
BEGIN:VEVENT
DTSTART;TZID=Europe/Copenhagen:20270427T163000
DTEND;TZID=Europe/Copenhagen:20270427T164500
DTSTAMP:20260423T050753
CREATED:20250929T084722Z
LAST-MODIFIED:20260330T110511Z
UID:10009108-1808843400-1808844300@haraldslund.com
SUMMARY:Saunagus
DESCRIPTION:
URL:https://haraldslund.com/event/saunagus-kl-16-30/2027-04-27/
LOCATION:Haraldslund Vand- og kulturhus\, Kastetvej 83\, Aalborg\, 9000\, Denmark
CATEGORIES:Wellness
ORGANIZER;CN="Haraldslund":MAILTO:haraldslund@aalborg.dk
END:VEVENT
BEGIN:VEVENT
DTSTART;TZID=Europe/Copenhagen:20270427T160000
DTEND;TZID=Europe/Copenhagen:20270427T164500
DTSTAMP:20260423T050753
CREATED:20260211T091301Z
LAST-MODIFIED:20260211T091442Z
UID:10048083-1808841600-1808844300@haraldslund.com
SUMMARY:Vandgymnastik specialhold
DESCRIPTION:
URL:https://haraldslund.com/event/vandgymnastik-specialhold-2/2027-04-27/
LOCATION:Haraldslund Vand- og kulturhus\, Kastetvej 83\, Aalborg\, 9000\, Denmark
CATEGORIES:Svømmehal
ORGANIZER;CN="Haraldslund":MAILTO:haraldslund@aalborg.dk
END:VEVENT
BEGIN:VEVENT
DTSTART;TZID=Europe/Copenhagen:20270427T140000
DTEND;TZID=Europe/Copenhagen:20270427T141500
DTSTAMP:20260423T050753
CREATED:20250929T084523Z
LAST-MODIFIED:20260330T105546Z
UID:10007367-1808834400-1808835300@haraldslund.com
SUMMARY:Saunagus
DESCRIPTION:
URL:https://haraldslund.com/event/saunagus-kl-14-00/2027-04-27/
LOCATION:Haraldslund Vand- og kulturhus\, Kastetvej 83\, Aalborg\, 9000\, Denmark
CATEGORIES:Wellness
ORGANIZER;CN="Haraldslund":MAILTO:haraldslund@aalborg.dk
END:VEVENT
BEGIN:VEVENT
DTSTART;TZID=Europe/Copenhagen:20270427T123000
DTEND;TZID=Europe/Copenhagen:20270427T131500
DTSTAMP:20260423T050753
CREATED:20250930T104806Z
LAST-MODIFIED:20251208T063003Z
UID:10034088-1808829000-1808831700@haraldslund.com
SUMMARY:Vandgymnastik specialhold (SIB)
DESCRIPTION:
URL:https://haraldslund.com/event/vandgymnastik-specialhold-sib/2027-04-27/
LOCATION:Haraldslund Vand- og kulturhus\, Kastetvej 83\, Aalborg\, 9000\, Denmark
CATEGORIES:Svømmehal
ORGANIZER;CN="Haraldslund":MAILTO:haraldslund@aalborg.dk
END:VEVENT
BEGIN:VEVENT
DTSTART;TZID=Europe/Copenhagen:20270427T120000
DTEND;TZID=Europe/Copenhagen:20270427T133000
DTSTAMP:20260423T050753
CREATED:20251104T112822Z
LAST-MODIFIED:20260330T104143Z
UID:10044710-1808827200-1808832600@haraldslund.com
SUMMARY:Skolesvømning
DESCRIPTION:
URL:https://haraldslund.com/event/skolesvoemning-3/2027-04-27/
LOCATION:Haraldslund Vand- og kulturhus\, Kastetvej 83\, Aalborg\, 9000\, Denmark
CATEGORIES:Svømmehal
ORGANIZER;CN="Haraldslund":MAILTO:haraldslund@aalborg.dk
END:VEVENT
BEGIN:VEVENT
DTSTART;TZID=Europe/Copenhagen:20270427T101500
DTEND;TZID=Europe/Copenhagen:20270427T110000
DTSTAMP:20260423T050753
CREATED:20251104T112402Z
LAST-MODIFIED:20260330T113932Z
UID:10042716-1808820900-1808823600@haraldslund.com
SUMMARY:Skolesvømning
DESCRIPTION:
URL:https://haraldslund.com/event/skolesvoemning/2027-04-27/
LOCATION:Haraldslund Vand- og kulturhus\, Kastetvej 83\, Aalborg\, 9000\, Denmark
CATEGORIES:Svømmehal
ORGANIZER;CN="Haraldslund":MAILTO:haraldslund@aalborg.dk
END:VEVENT
END:VCALENDAR