BEGIN:VCALENDAR
VERSION:2.0
PRODID:-//Haraldslund - ECPv6.15.16.1//NONSGML v1.0//EN
CALSCALE:GREGORIAN
METHOD:PUBLISH
X-WR-CALNAME:Haraldslund
X-ORIGINAL-URL:https://haraldslund.com
X-WR-CALDESC:Begivenheder for Haraldslund
REFRESH-INTERVAL;VALUE=DURATION:PT1H
X-Robots-Tag:noindex
X-PUBLISHED-TTL:PT1H
BEGIN:VTIMEZONE
TZID:Europe/Copenhagen
BEGIN:DAYLIGHT
TZOFFSETFROM:+0100
TZOFFSETTO:+0200
TZNAME:CEST
DTSTART:20260329T010000
END:DAYLIGHT
BEGIN:STANDARD
TZOFFSETFROM:+0200
TZOFFSETTO:+0100
TZNAME:CET
DTSTART:20261025T010000
END:STANDARD
BEGIN:DAYLIGHT
TZOFFSETFROM:+0100
TZOFFSETTO:+0200
TZNAME:CEST
DTSTART:20270328T010000
END:DAYLIGHT
BEGIN:STANDARD
TZOFFSETFROM:+0200
TZOFFSETTO:+0100
TZNAME:CET
DTSTART:20271031T010000
END:STANDARD
BEGIN:DAYLIGHT
TZOFFSETFROM:+0100
TZOFFSETTO:+0200
TZNAME:CEST
DTSTART:20280326T010000
END:DAYLIGHT
BEGIN:STANDARD
TZOFFSETFROM:+0200
TZOFFSETTO:+0100
TZNAME:CET
DTSTART:20281029T010000
END:STANDARD
END:VTIMEZONE
BEGIN:VEVENT
DTSTART;TZID=Europe/Copenhagen:20270427T190000
DTEND;TZID=Europe/Copenhagen:20270427T191500
DTSTAMP:20260423T032742
CREATED:20250929T090017Z
LAST-MODIFIED:20260330T110649Z
UID:10011133-1808852400-1808853300@haraldslund.com
SUMMARY:Saunagus
DESCRIPTION:
URL:https://haraldslund.com/event/saunagus-kl-19-00/2027-04-27/
LOCATION:Haraldslund Vand- og kulturhus\, Kastetvej 83\, Aalborg\, 9000\, Denmark
CATEGORIES:Wellness
ORGANIZER;CN="Haraldslund":MAILTO:haraldslund@aalborg.dk
END:VEVENT
BEGIN:VEVENT
DTSTART;TZID=Europe/Copenhagen:20270427T184500
DTEND;TZID=Europe/Copenhagen:20270427T193000
DTSTAMP:20260423T032742
CREATED:20250929T114607Z
LAST-MODIFIED:20250929T114607Z
UID:10022598-1808851500-1808854200@haraldslund.com
SUMMARY:Aqua Yoga
DESCRIPTION:
URL:https://haraldslund.com/event/aqua-yoga/2027-04-27/
LOCATION:Haraldslund Vand- og kulturhus\, Kastetvej 83\, Aalborg\, 9000\, Denmark
CATEGORIES:Svømmehal
ORGANIZER;CN="Haraldslund":MAILTO:haraldslund@aalborg.dk
END:VEVENT
BEGIN:VEVENT
DTSTART;TZID=Europe/Copenhagen:20270427T181000
DTEND;TZID=Europe/Copenhagen:20270427T190000
DTSTAMP:20260423T032742
CREATED:20250929T110435Z
LAST-MODIFIED:20260323T063531Z
UID:10017876-1808849400-1808852400@haraldslund.com
SUMMARY:Jumping Fitness
DESCRIPTION:
URL:https://haraldslund.com/event/jumping-fitness-kl-17-00/2027-04-27/
LOCATION:Haraldslund Vand- og kulturhus\, Kastetvej 83\, Aalborg\, 9000\, Denmark
CATEGORIES:Motionscenter
ORGANIZER;CN="Haraldslund":MAILTO:haraldslund@aalborg.dk
END:VEVENT
BEGIN:VEVENT
DTSTART;TZID=Europe/Copenhagen:20270427T180000
DTEND;TZID=Europe/Copenhagen:20270427T191000
DTSTAMP:20260423T032742
CREATED:20250929T112046Z
LAST-MODIFIED:20260331T064621Z
UID:10019308-1808848800-1808853000@haraldslund.com
SUMMARY:Bodybike 2
DESCRIPTION:
URL:https://haraldslund.com/event/bodybike-2/2027-04-27/
LOCATION:Haraldslund Vand- og kulturhus\, Kastetvej 83\, Aalborg\, 9000\, Denmark
CATEGORIES:Motionscenter
ORGANIZER;CN="Haraldslund":MAILTO:haraldslund@aalborg.dk
END:VEVENT
BEGIN:VEVENT
DTSTART;TZID=Europe/Copenhagen:20270427T174500
DTEND;TZID=Europe/Copenhagen:20270427T183000
DTSTAMP:20260423T032742
CREATED:20250929T114343Z
LAST-MODIFIED:20251001T083929Z
UID:10022232-1808847900-1808850600@haraldslund.com
SUMMARY:Aqua puls og power
DESCRIPTION:
URL:https://haraldslund.com/event/aqua-puls-og-power/2027-04-27/
LOCATION:Haraldslund Vand- og kulturhus\, Kastetvej 83\, Aalborg\, 9000\, Denmark
CATEGORIES:Svømmehal
ORGANIZER;CN="Haraldslund":MAILTO:haraldslund@aalborg.dk
END:VEVENT
BEGIN:VEVENT
DTSTART;TZID=Europe/Copenhagen:20270427T164500
DTEND;TZID=Europe/Copenhagen:20270427T180000
DTSTAMP:20260423T032742
CREATED:20250929T114139Z
LAST-MODIFIED:20251208T064032Z
UID:10021866-1808844300-1808848800@haraldslund.com
SUMMARY:Yoga
DESCRIPTION:
URL:https://haraldslund.com/event/yoga-2/2027-04-27/
LOCATION:Haraldslund Vand- og kulturhus\, Kastetvej 83\, Aalborg\, 9000\, Denmark
CATEGORIES:Motionscenter
ORGANIZER;CN="Haraldslund":MAILTO:haraldslund@aalborg.dk
END:VEVENT
BEGIN:VEVENT
DTSTART;TZID=Europe/Copenhagen:20270427T163000
DTEND;TZID=Europe/Copenhagen:20270427T172000
DTSTAMP:20260423T032742
CREATED:20250929T113803Z
LAST-MODIFIED:20251001T084057Z
UID:10021500-1808843400-1808846400@haraldslund.com
SUMMARY:Switching
DESCRIPTION:
URL:https://haraldslund.com/event/switching/2027-04-27/
LOCATION:Haraldslund Vand- og kulturhus\, Kastetvej 83\, Aalborg\, 9000\, Denmark
CATEGORIES:Motionscenter
ORGANIZER;CN="Haraldslund":MAILTO:haraldslund@aalborg.dk
END:VEVENT
BEGIN:VEVENT
DTSTART;TZID=Europe/Copenhagen:20270427T163000
DTEND;TZID=Europe/Copenhagen:20270427T164500
DTSTAMP:20260423T032742
CREATED:20250929T084722Z
LAST-MODIFIED:20260330T110511Z
UID:10009108-1808843400-1808844300@haraldslund.com
SUMMARY:Saunagus
DESCRIPTION:
URL:https://haraldslund.com/event/saunagus-kl-16-30/2027-04-27/
LOCATION:Haraldslund Vand- og kulturhus\, Kastetvej 83\, Aalborg\, 9000\, Denmark
CATEGORIES:Wellness
ORGANIZER;CN="Haraldslund":MAILTO:haraldslund@aalborg.dk
END:VEVENT
BEGIN:VEVENT
DTSTART;TZID=Europe/Copenhagen:20270427T160000
DTEND;TZID=Europe/Copenhagen:20270427T164500
DTSTAMP:20260423T032742
CREATED:20260211T091301Z
LAST-MODIFIED:20260211T091442Z
UID:10048083-1808841600-1808844300@haraldslund.com
SUMMARY:Vandgymnastik specialhold
DESCRIPTION:
URL:https://haraldslund.com/event/vandgymnastik-specialhold-2/2027-04-27/
LOCATION:Haraldslund Vand- og kulturhus\, Kastetvej 83\, Aalborg\, 9000\, Denmark
CATEGORIES:Svømmehal
ORGANIZER;CN="Haraldslund":MAILTO:haraldslund@aalborg.dk
END:VEVENT
BEGIN:VEVENT
DTSTART;TZID=Europe/Copenhagen:20270427T140000
DTEND;TZID=Europe/Copenhagen:20270427T141500
DTSTAMP:20260423T032742
CREATED:20250929T084523Z
LAST-MODIFIED:20260330T105546Z
UID:10007367-1808834400-1808835300@haraldslund.com
SUMMARY:Saunagus
DESCRIPTION:
URL:https://haraldslund.com/event/saunagus-kl-14-00/2027-04-27/
LOCATION:Haraldslund Vand- og kulturhus\, Kastetvej 83\, Aalborg\, 9000\, Denmark
CATEGORIES:Wellness
ORGANIZER;CN="Haraldslund":MAILTO:haraldslund@aalborg.dk
END:VEVENT
BEGIN:VEVENT
DTSTART;TZID=Europe/Copenhagen:20270427T123000
DTEND;TZID=Europe/Copenhagen:20270427T131500
DTSTAMP:20260423T032742
CREATED:20250930T104806Z
LAST-MODIFIED:20251208T063003Z
UID:10034088-1808829000-1808831700@haraldslund.com
SUMMARY:Vandgymnastik specialhold (SIB)
DESCRIPTION:
URL:https://haraldslund.com/event/vandgymnastik-specialhold-sib/2027-04-27/
LOCATION:Haraldslund Vand- og kulturhus\, Kastetvej 83\, Aalborg\, 9000\, Denmark
CATEGORIES:Svømmehal
ORGANIZER;CN="Haraldslund":MAILTO:haraldslund@aalborg.dk
END:VEVENT
BEGIN:VEVENT
DTSTART;TZID=Europe/Copenhagen:20270427T120000
DTEND;TZID=Europe/Copenhagen:20270427T133000
DTSTAMP:20260423T032742
CREATED:20251104T112822Z
LAST-MODIFIED:20260330T104143Z
UID:10044710-1808827200-1808832600@haraldslund.com
SUMMARY:Skolesvømning
DESCRIPTION:
URL:https://haraldslund.com/event/skolesvoemning-3/2027-04-27/
LOCATION:Haraldslund Vand- og kulturhus\, Kastetvej 83\, Aalborg\, 9000\, Denmark
CATEGORIES:Svømmehal
ORGANIZER;CN="Haraldslund":MAILTO:haraldslund@aalborg.dk
END:VEVENT
BEGIN:VEVENT
DTSTART;TZID=Europe/Copenhagen:20270427T101500
DTEND;TZID=Europe/Copenhagen:20270427T110000
DTSTAMP:20260423T032742
CREATED:20251104T112402Z
LAST-MODIFIED:20260330T113932Z
UID:10042716-1808820900-1808823600@haraldslund.com
SUMMARY:Skolesvømning
DESCRIPTION:
URL:https://haraldslund.com/event/skolesvoemning/2027-04-27/
LOCATION:Haraldslund Vand- og kulturhus\, Kastetvej 83\, Aalborg\, 9000\, Denmark
CATEGORIES:Svømmehal
ORGANIZER;CN="Haraldslund":MAILTO:haraldslund@aalborg.dk
END:VEVENT
BEGIN:VEVENT
DTSTART;TZID=Europe/Copenhagen:20270427T101500
DTEND;TZID=Europe/Copenhagen:20270427T103000
DTSTAMP:20260423T032742
CREATED:20251003T081347Z
LAST-MODIFIED:20260330T110253Z
UID:10040533-1808820900-1808821800@haraldslund.com
SUMMARY:Saunagus
DESCRIPTION:
URL:https://haraldslund.com/event/4198/2027-04-27/
LOCATION:Haraldslund Vand- og kulturhus\, Kastetvej 83\, Aalborg\, 9000\, Denmark
CATEGORIES:Wellness
ORGANIZER;CN="Haraldslund":MAILTO:haraldslund@aalborg.dk
END:VEVENT
BEGIN:VEVENT
DTSTART;TZID=Europe/Copenhagen:20270427T091500
DTEND;TZID=Europe/Copenhagen:20270427T100000
DTSTAMP:20260423T032742
CREATED:20250929T094650Z
LAST-MODIFIED:20260330T111051Z
UID:10014141-1808817300-1808820000@haraldslund.com
SUMMARY:Vandgymnastik
DESCRIPTION:
URL:https://haraldslund.com/event/vandgymnastik-kl-9-15/2027-04-27/
LOCATION:Haraldslund Vand- og kulturhus\, Kastetvej 83\, Aalborg\, 9000\, Denmark
CATEGORIES:Svømmehal
ORGANIZER;CN="Haraldslund":MAILTO:haraldslund@aalborg.dk
END:VEVENT
BEGIN:VEVENT
DTSTART;TZID=Europe/Copenhagen:20270427T090000
DTEND;TZID=Europe/Copenhagen:20270427T110000
DTSTAMP:20260423T032742
CREATED:20250930T113821Z
LAST-MODIFIED:20260330T111407Z
UID:10035513-1808816400-1808823600@haraldslund.com
SUMMARY:Sundhed i bevægelse
DESCRIPTION:
URL:https://haraldslund.com/event/sib-traening/2027-04-27/
LOCATION:Haraldslund Vand- og kulturhus\, Kastetvej 83\, Aalborg\, 9000\, Denmark
CATEGORIES:Sundhed i Bevægelse
ORGANIZER;CN="Haraldslund":MAILTO:haraldslund@aalborg.dk
END:VEVENT
BEGIN:VEVENT
DTSTART;TZID=Europe/Copenhagen:20270427T073000
DTEND;TZID=Europe/Copenhagen:20270427T081500
DTSTAMP:20260423T032742
CREATED:20250930T085050Z
LAST-MODIFIED:20260323T064719Z
UID:10023485-1808811000-1808813700@haraldslund.com
SUMMARY:Mave\, balle\, lår
DESCRIPTION:
URL:https://haraldslund.com/event/mave-balle-laar/2027-04-27/
LOCATION:Haraldslund Vand- og kulturhus\, Kastetvej 83\, Aalborg\, 9000\, Denmark
CATEGORIES:Motionscenter
ORGANIZER;CN="Haraldslund":MAILTO:haraldslund@aalborg.dk
END:VEVENT
BEGIN:VEVENT
DTSTART;TZID=Europe/Copenhagen:20270426T191000
DTEND;TZID=Europe/Copenhagen:20270426T201000
DTSTAMP:20260423T032742
CREATED:20250929T113437Z
LAST-MODIFIED:20260330T114555Z
UID:10021134-1808766600-1808770200@haraldslund.com
SUMMARY:Yoga
DESCRIPTION:
URL:https://haraldslund.com/event/yoga/2027-04-26/
LOCATION:Haraldslund Vand- og kulturhus\, Kastetvej 83\, Aalborg\, 9000\, Denmark
CATEGORIES:Motionscenter
ORGANIZER;CN="Haraldslund":MAILTO:haraldslund@aalborg.dk
END:VEVENT
BEGIN:VEVENT
DTSTART;TZID=Europe/Copenhagen:20270426T184500
DTEND;TZID=Europe/Copenhagen:20270426T193000
DTSTAMP:20260423T032742
CREATED:20250929T113227Z
LAST-MODIFIED:20260330T103944Z
UID:10020768-1808765100-1808767800@haraldslund.com
SUMMARY:Vandgymnastik
DESCRIPTION:
URL:https://haraldslund.com/event/vandgymnastik/2027-04-26/
LOCATION:Haraldslund Vand- og kulturhus\, Kastetvej 83\, Aalborg\, 9000\, Denmark
CATEGORIES:Svømmehal
ORGANIZER;CN="Haraldslund":MAILTO:haraldslund@aalborg.dk
END:VEVENT
BEGIN:VEVENT
DTSTART;TZID=Europe/Copenhagen:20270426T181500
DTEND;TZID=Europe/Copenhagen:20270426T193000
DTSTAMP:20260423T032742
CREATED:20250929T085743Z
LAST-MODIFIED:20260330T114921Z
UID:10010403-1808763300-1808767800@haraldslund.com
SUMMARY:Temagus
DESCRIPTION:
URL:https://haraldslund.com/event/temagus-kl-18-15/2027-04-26/
LOCATION:Haraldslund Vand- og kulturhus\, Kastetvej 83\, Aalborg\, 9000\, Denmark
CATEGORIES:Wellness
ORGANIZER;CN="Haraldslund":MAILTO:haraldslund@aalborg.dk
END:VEVENT
BEGIN:VEVENT
DTSTART;TZID=Europe/Copenhagen:20270426T181000
DTEND;TZID=Europe/Copenhagen:20270426T190000
DTSTAMP:20260423T032742
CREATED:20250929T113012Z
LAST-MODIFIED:20260330T101847Z
UID:10020402-1808763000-1808766000@haraldslund.com
SUMMARY:Stærk krop
DESCRIPTION:
URL:https://haraldslund.com/event/staerk-krop/2027-04-26/
LOCATION:Haraldslund Vand- og kulturhus\, Kastetvej 83\, Aalborg\, 9000\, Denmark
CATEGORIES:Motionscenter
ORGANIZER;CN="Haraldslund":MAILTO:haraldslund@aalborg.dk
END:VEVENT
BEGIN:VEVENT
DTSTART;TZID=Europe/Copenhagen:20270426T173000
DTEND;TZID=Europe/Copenhagen:20270426T183000
DTSTAMP:20260423T032742
CREATED:20250929T111823Z
LAST-MODIFIED:20260330T101820Z
UID:10018681-1808760600-1808764200@haraldslund.com
SUMMARY:Bodybike 1
DESCRIPTION:
URL:https://haraldslund.com/event/bodybike-1/2027-04-26/
LOCATION:Haraldslund Vand- og kulturhus\, Kastetvej 83\, Aalborg\, 9000\, Denmark
CATEGORIES:Motionscenter
ORGANIZER;CN="Haraldslund":MAILTO:haraldslund@aalborg.dk
END:VEVENT
BEGIN:VEVENT
DTSTART;TZID=Europe/Copenhagen:20270426T171000
DTEND;TZID=Europe/Copenhagen:20270426T180000
DTSTAMP:20260423T032742
CREATED:20250929T105054Z
LAST-MODIFIED:20260330T114844Z
UID:10016906-1808759400-1808762400@haraldslund.com
SUMMARY:Jumping Fitness
DESCRIPTION:
URL:https://haraldslund.com/event/jumping-fitness/2027-04-26/
LOCATION:Haraldslund Vand- og kulturhus\, Kastetvej 83\, Aalborg\, 9000\, Denmark
CATEGORIES:Motionscenter
ORGANIZER;CN="Haraldslund":MAILTO:haraldslund@aalborg.dk
END:VEVENT
BEGIN:VEVENT
DTSTART;TZID=Europe/Copenhagen:20270426T163000
DTEND;TZID=Europe/Copenhagen:20270426T164500
DTSTAMP:20260423T032742
CREATED:20250929T084722Z
LAST-MODIFIED:20260330T110511Z
UID:10009107-1808757000-1808757900@haraldslund.com
SUMMARY:Saunagus
DESCRIPTION:
URL:https://haraldslund.com/event/saunagus-kl-16-30/2027-04-26/
LOCATION:Haraldslund Vand- og kulturhus\, Kastetvej 83\, Aalborg\, 9000\, Denmark
CATEGORIES:Wellness
ORGANIZER;CN="Haraldslund":MAILTO:haraldslund@aalborg.dk
END:VEVENT
BEGIN:VEVENT
DTSTART;TZID=Europe/Copenhagen:20270426T162000
DTEND;TZID=Europe/Copenhagen:20270426T171000
DTSTAMP:20260423T032742
CREATED:20250929T102636Z
LAST-MODIFIED:20251001T083702Z
UID:10016535-1808756400-1808759400@haraldslund.com
SUMMARY:Switching
DESCRIPTION:
URL:https://haraldslund.com/event/switching-kl-16-20/2027-04-26/
LOCATION:Haraldslund Vand- og kulturhus\, Kastetvej 83\, Aalborg\, 9000\, Denmark
CATEGORIES:Motionscenter
ORGANIZER;CN="Haraldslund":MAILTO:haraldslund@aalborg.dk
END:VEVENT
BEGIN:VEVENT
DTSTART;TZID=Europe/Copenhagen:20270426T161500
DTEND;TZID=Europe/Copenhagen:20270426T171500
DTSTAMP:20260423T032742
CREATED:20251205T084610Z
LAST-MODIFIED:20260330T102114Z
UID:10047013-1808756100-1808759700@haraldslund.com
SUMMARY:Bodybike 1
DESCRIPTION:
URL:https://haraldslund.com/event/bodybike-1-4/2027-04-26/
LOCATION:Haraldslund Vand- og kulturhus\, Kastetvej 83\, Aalborg\, 9000\, Denmark
CATEGORIES:Motionscenter
ORGANIZER;CN="Haraldslund":MAILTO:haraldslund@aalborg.dk
END:VEVENT
BEGIN:VEVENT
DTSTART;TZID=Europe/Copenhagen:20270426T160000
DTEND;TZID=Europe/Copenhagen:20270426T170000
DTSTAMP:20260423T032742
CREATED:20250929T101957Z
LAST-MODIFIED:20260323T063250Z
UID:10016169-1808755200-1808758800@haraldslund.com
SUMMARY:Bodytoning
DESCRIPTION:
URL:https://haraldslund.com/event/bodytoning-kl-16-00/2027-04-26/
LOCATION:Haraldslund Vand- og kulturhus\, Kastetvej 83\, Aalborg\, 9000\, Denmark
CATEGORIES:Motionscenter
ORGANIZER;CN="Haraldslund":MAILTO:haraldslund@aalborg.dk
END:VEVENT
BEGIN:VEVENT
DTSTART;TZID=Europe/Copenhagen:20270426T140000
DTEND;TZID=Europe/Copenhagen:20270426T141500
DTSTAMP:20260423T032742
CREATED:20250929T084523Z
LAST-MODIFIED:20260330T105546Z
UID:10007366-1808748000-1808748900@haraldslund.com
SUMMARY:Saunagus
DESCRIPTION:
URL:https://haraldslund.com/event/saunagus-kl-14-00/2027-04-26/
LOCATION:Haraldslund Vand- og kulturhus\, Kastetvej 83\, Aalborg\, 9000\, Denmark
CATEGORIES:Wellness
ORGANIZER;CN="Haraldslund":MAILTO:haraldslund@aalborg.dk
END:VEVENT
BEGIN:VEVENT
DTSTART;TZID=Europe/Copenhagen:20270426T134500
DTEND;TZID=Europe/Copenhagen:20270426T153000
DTSTAMP:20260423T032742
CREATED:20260303T085715Z
LAST-MODIFIED:20260303T085912Z
UID:10051394-1808747100-1808753400@haraldslund.com
SUMMARY:Sandfiltre skylles - temperatur kan falde 1-2 grader
DESCRIPTION:
URL:https://haraldslund.com/event/sandfiltre-skylles-temperatur/2027-04-26/
LOCATION:Haraldslund Vand- og kulturhus\, Kastetvej 83\, Aalborg\, 9000\, Denmark
CATEGORIES:Svømmehal
ORGANIZER;CN="Haraldslund":MAILTO:haraldslund@aalborg.dk
END:VEVENT
BEGIN:VEVENT
DTSTART;TZID=Europe/Copenhagen:20270426T134500
DTEND;TZID=Europe/Copenhagen:20270426T144500
DTSTAMP:20260423T032742
CREATED:20251104T112551Z
LAST-MODIFIED:20260330T103804Z
UID:10046012-1808747100-1808750700@haraldslund.com
SUMMARY:Skolesvømning
DESCRIPTION:
URL:https://haraldslund.com/event/skolesvoemning-2/2027-04-26/
CATEGORIES:Svømmehal
END:VEVENT
END:VCALENDAR