BEGIN:VCALENDAR
VERSION:2.0
PRODID:-//Haraldslund - ECPv6.15.16.1//NONSGML v1.0//EN
CALSCALE:GREGORIAN
METHOD:PUBLISH
X-WR-CALNAME:Haraldslund
X-ORIGINAL-URL:https://haraldslund.com
X-WR-CALDESC:Begivenheder for Haraldslund
REFRESH-INTERVAL;VALUE=DURATION:PT1H
X-Robots-Tag:noindex
X-PUBLISHED-TTL:PT1H
BEGIN:VTIMEZONE
TZID:Europe/Copenhagen
BEGIN:DAYLIGHT
TZOFFSETFROM:+0100
TZOFFSETTO:+0200
TZNAME:CEST
DTSTART:20260329T010000
END:DAYLIGHT
BEGIN:STANDARD
TZOFFSETFROM:+0200
TZOFFSETTO:+0100
TZNAME:CET
DTSTART:20261025T010000
END:STANDARD
BEGIN:DAYLIGHT
TZOFFSETFROM:+0100
TZOFFSETTO:+0200
TZNAME:CEST
DTSTART:20270328T010000
END:DAYLIGHT
BEGIN:STANDARD
TZOFFSETFROM:+0200
TZOFFSETTO:+0100
TZNAME:CET
DTSTART:20271031T010000
END:STANDARD
BEGIN:DAYLIGHT
TZOFFSETFROM:+0100
TZOFFSETTO:+0200
TZNAME:CEST
DTSTART:20280326T010000
END:DAYLIGHT
BEGIN:STANDARD
TZOFFSETFROM:+0200
TZOFFSETTO:+0100
TZNAME:CET
DTSTART:20281029T010000
END:STANDARD
END:VTIMEZONE
BEGIN:VEVENT
DTSTART;TZID=Europe/Copenhagen:20270421T191000
DTEND;TZID=Europe/Copenhagen:20270421T201000
DTSTAMP:20260422T182314
CREATED:20250930T090845Z
LAST-MODIFIED:20260330T110922Z
UID:10024582-1808334600-1808338200@haraldslund.com
SUMMARY:Stram op
DESCRIPTION:
URL:https://haraldslund.com/event/stram-op/2027-04-21/
LOCATION:Haraldslund Vand- og kulturhus\, Kastetvej 83\, Aalborg\, 9000\, Denmark
CATEGORIES:Motionscenter
ORGANIZER;CN="Haraldslund":MAILTO:haraldslund@aalborg.dk
END:VEVENT
BEGIN:VEVENT
DTSTART;TZID=Europe/Copenhagen:20270421T181500
DTEND;TZID=Europe/Copenhagen:20270421T193000
DTSTAMP:20260422T182314
CREATED:20250929T085743Z
LAST-MODIFIED:20260330T114921Z
UID:10010402-1808331300-1808335800@haraldslund.com
SUMMARY:Temagus
DESCRIPTION:
URL:https://haraldslund.com/event/temagus-kl-18-15/2027-04-21/
LOCATION:Haraldslund Vand- og kulturhus\, Kastetvej 83\, Aalborg\, 9000\, Denmark
CATEGORIES:Wellness
ORGANIZER;CN="Haraldslund":MAILTO:haraldslund@aalborg.dk
END:VEVENT
BEGIN:VEVENT
DTSTART;TZID=Europe/Copenhagen:20270421T181000
DTEND;TZID=Europe/Copenhagen:20270421T190000
DTSTAMP:20260422T182314
CREATED:20250929T110435Z
LAST-MODIFIED:20260323T063531Z
UID:10017875-1808331000-1808334000@haraldslund.com
SUMMARY:Jumping Fitness
DESCRIPTION:
URL:https://haraldslund.com/event/jumping-fitness-kl-17-00/2027-04-21/
LOCATION:Haraldslund Vand- og kulturhus\, Kastetvej 83\, Aalborg\, 9000\, Denmark
CATEGORIES:Motionscenter
ORGANIZER;CN="Haraldslund":MAILTO:haraldslund@aalborg.dk
END:VEVENT
BEGIN:VEVENT
DTSTART;TZID=Europe/Copenhagen:20270421T170000
DTEND;TZID=Europe/Copenhagen:20270421T180000
DTSTAMP:20260422T182314
CREATED:20250930T090108Z
LAST-MODIFIED:20251023T110809Z
UID:10024216-1808326800-1808330400@haraldslund.com
SUMMARY:Crossdance
DESCRIPTION:
URL:https://haraldslund.com/event/crossdance/2027-04-21/
LOCATION:Haraldslund Vand- og kulturhus\, Kastetvej 83\, Aalborg\, 9000\, Denmark
CATEGORIES:Motionscenter
ORGANIZER;CN="Haraldslund":MAILTO:haraldslund@aalborg.dk
END:VEVENT
BEGIN:VEVENT
DTSTART;TZID=Europe/Copenhagen:20270421T170000
DTEND;TZID=Europe/Copenhagen:20270421T180000
DTSTAMP:20260422T182314
CREATED:20250929T112413Z
LAST-MODIFIED:20260331T064541Z
UID:10019671-1808326800-1808330400@haraldslund.com
SUMMARY:Bodybike 1
DESCRIPTION:
URL:https://haraldslund.com/event/bodybike-1-2/2027-04-21/
LOCATION:Haraldslund Vand- og kulturhus\, Kastetvej 83\, Aalborg\, 9000\, Denmark
CATEGORIES:Motionscenter
ORGANIZER;CN="Haraldslund":MAILTO:haraldslund@aalborg.dk
END:VEVENT
BEGIN:VEVENT
DTSTART;TZID=Europe/Copenhagen:20270421T163000
DTEND;TZID=Europe/Copenhagen:20270421T164500
DTSTAMP:20260422T182314
CREATED:20250929T084722Z
LAST-MODIFIED:20260330T110511Z
UID:10009105-1808325000-1808325900@haraldslund.com
SUMMARY:Saunagus
DESCRIPTION:
URL:https://haraldslund.com/event/saunagus-kl-16-30/2027-04-21/
LOCATION:Haraldslund Vand- og kulturhus\, Kastetvej 83\, Aalborg\, 9000\, Denmark
CATEGORIES:Wellness
ORGANIZER;CN="Haraldslund":MAILTO:haraldslund@aalborg.dk
END:VEVENT
BEGIN:VEVENT
DTSTART;TZID=Europe/Copenhagen:20270421T160000
DTEND;TZID=Europe/Copenhagen:20270421T165000
DTSTAMP:20260422T182314
CREATED:20250930T085445Z
LAST-MODIFIED:20251023T110654Z
UID:10023850-1808323200-1808326200@haraldslund.com
SUMMARY:Core og stabilitet
DESCRIPTION:
URL:https://haraldslund.com/event/core-og-stabilitet/2027-04-21/
LOCATION:Haraldslund Vand- og kulturhus\, Kastetvej 83\, Aalborg\, 9000\, Denmark
CATEGORIES:Motionscenter
ORGANIZER;CN="Haraldslund":MAILTO:haraldslund@aalborg.dk
END:VEVENT
BEGIN:VEVENT
DTSTART;TZID=Europe/Copenhagen:20270421T140000
DTEND;TZID=Europe/Copenhagen:20270421T141500
DTSTAMP:20260422T182314
CREATED:20250929T084523Z
LAST-MODIFIED:20260330T105546Z
UID:10007363-1808316000-1808316900@haraldslund.com
SUMMARY:Saunagus
DESCRIPTION:
URL:https://haraldslund.com/event/saunagus-kl-14-00/2027-04-21/
LOCATION:Haraldslund Vand- og kulturhus\, Kastetvej 83\, Aalborg\, 9000\, Denmark
CATEGORIES:Wellness
ORGANIZER;CN="Haraldslund":MAILTO:haraldslund@aalborg.dk
END:VEVENT
BEGIN:VEVENT
DTSTART;TZID=Europe/Copenhagen:20270421T134500
DTEND;TZID=Europe/Copenhagen:20270421T144500
DTSTAMP:20260422T182314
CREATED:20251105T100044Z
LAST-MODIFIED:20260330T111153Z
UID:10045748-1808315100-1808318700@haraldslund.com
SUMMARY:Skolesvømning
DESCRIPTION:
URL:https://haraldslund.com/event/skolesvoemning-2-2/2027-04-21/
CATEGORIES:Svømmehal
END:VEVENT
BEGIN:VEVENT
DTSTART;TZID=Europe/Copenhagen:20270421T130000
DTEND;TZID=Europe/Copenhagen:20270421T134500
DTSTAMP:20260422T182314
CREATED:20250930T104349Z
LAST-MODIFIED:20260330T112104Z
UID:10032787-1808312400-1808315100@haraldslund.com
SUMMARY:Vandgymnastik specialhold
DESCRIPTION:
URL:https://haraldslund.com/event/vandgymnastik-specialhold/2027-04-21/
LOCATION:Haraldslund Vand- og kulturhus\, Kastetvej 83\, Aalborg\, 9000\, Denmark
CATEGORIES:Svømmehal
ORGANIZER;CN="Haraldslund":MAILTO:haraldslund@aalborg.dk
END:VEVENT
BEGIN:VEVENT
DTSTART;TZID=Europe/Copenhagen:20270421T103000
DTEND;TZID=Europe/Copenhagen:20270421T111500
DTSTAMP:20260422T182314
CREATED:20250929T115150Z
LAST-MODIFIED:20251205T081919Z
UID:10023220-1808303400-1808306100@haraldslund.com
SUMMARY:Varmtvandstræning
DESCRIPTION:
URL:https://haraldslund.com/event/varmtvandstraening/2027-04-21/
LOCATION:Haraldslund Vand- og kulturhus\, Kastetvej 83\, Aalborg\, 9000\, Denmark
CATEGORIES:Svømmehal
ORGANIZER;CN="Haraldslund":MAILTO:haraldslund@aalborg.dk
END:VEVENT
BEGIN:VEVENT
DTSTART;TZID=Europe/Copenhagen:20270421T101500
DTEND;TZID=Europe/Copenhagen:20270421T103000
DTSTAMP:20260422T182314
CREATED:20251003T081347Z
LAST-MODIFIED:20260330T110253Z
UID:10040528-1808302500-1808303400@haraldslund.com
SUMMARY:Saunagus
DESCRIPTION:
URL:https://haraldslund.com/event/4198/2027-04-21/
LOCATION:Haraldslund Vand- og kulturhus\, Kastetvej 83\, Aalborg\, 9000\, Denmark
CATEGORIES:Wellness
ORGANIZER;CN="Haraldslund":MAILTO:haraldslund@aalborg.dk
END:VEVENT
BEGIN:VEVENT
DTSTART;TZID=Europe/Copenhagen:20270421T093000
DTEND;TZID=Europe/Copenhagen:20270421T103000
DTSTAMP:20260422T182314
CREATED:20250929T114741Z
LAST-MODIFIED:20251205T082421Z
UID:10022856-1808299800-1808303400@haraldslund.com
SUMMARY:Pilates
DESCRIPTION:
URL:https://haraldslund.com/event/pilates/2027-04-21/
LOCATION:Haraldslund Vand- og kulturhus\, Kastetvej 83\, Aalborg\, 9000\, Denmark
CATEGORIES:Motionscenter
ORGANIZER;CN="Haraldslund":MAILTO:haraldslund@aalborg.dk
END:VEVENT
BEGIN:VEVENT
DTSTART;TZID=Europe/Copenhagen:20270421T091500
DTEND;TZID=Europe/Copenhagen:20270421T100000
DTSTAMP:20260422T182314
CREATED:20250929T094650Z
LAST-MODIFIED:20260330T111051Z
UID:10014139-1808298900-1808301600@haraldslund.com
SUMMARY:Vandgymnastik
DESCRIPTION:
URL:https://haraldslund.com/event/vandgymnastik-kl-9-15/2027-04-21/
LOCATION:Haraldslund Vand- og kulturhus\, Kastetvej 83\, Aalborg\, 9000\, Denmark
CATEGORIES:Svømmehal
ORGANIZER;CN="Haraldslund":MAILTO:haraldslund@aalborg.dk
END:VEVENT
BEGIN:VEVENT
DTSTART;TZID=Europe/Copenhagen:20270421T090000
DTEND;TZID=Europe/Copenhagen:20270421T110000
DTSTAMP:20260422T182314
CREATED:20250930T113821Z
LAST-MODIFIED:20260330T111407Z
UID:10035509-1808298000-1808305200@haraldslund.com
SUMMARY:Sundhed i bevægelse
DESCRIPTION:
URL:https://haraldslund.com/event/sib-traening/2027-04-21/
LOCATION:Haraldslund Vand- og kulturhus\, Kastetvej 83\, Aalborg\, 9000\, Denmark
CATEGORIES:Sundhed i Bevægelse
ORGANIZER;CN="Haraldslund":MAILTO:haraldslund@aalborg.dk
END:VEVENT
BEGIN:VEVENT
DTSTART;TZID=Europe/Copenhagen:20270421T083000
DTEND;TZID=Europe/Copenhagen:20270421T091500
DTSTAMP:20260422T182314
CREATED:20251104T113006Z
LAST-MODIFIED:20260330T111310Z
UID:10043748-1808296200-1808298900@haraldslund.com
SUMMARY:Skolesvømning
DESCRIPTION:
URL:https://haraldslund.com/event/skolesvoemning-4/2027-04-21/
LOCATION:Haraldslund Vand- og kulturhus\, Kastetvej 83\, Aalborg\, 9000\, Denmark
CATEGORIES:Svømmehal
ORGANIZER;CN="Haraldslund":MAILTO:haraldslund@aalborg.dk
END:VEVENT
BEGIN:VEVENT
DTSTART;TZID=Europe/Copenhagen:20270421T073000
DTEND;TZID=Europe/Copenhagen:20270421T074500
DTSTAMP:20260422T182314
CREATED:20250929T080715Z
LAST-MODIFIED:20260330T110205Z
UID:10039682-1808292600-1808293500@haraldslund.com
SUMMARY:Saunagus
DESCRIPTION:
URL:https://haraldslund.com/event/saunagus-7-30-2/2027-04-21/
CATEGORIES:Svømmehal
END:VEVENT
BEGIN:VEVENT
DTSTART;TZID=Europe/Copenhagen:20270420T190000
DTEND;TZID=Europe/Copenhagen:20270420T191500
DTSTAMP:20260422T182314
CREATED:20250929T090017Z
LAST-MODIFIED:20260330T110649Z
UID:10011131-1808247600-1808248500@haraldslund.com
SUMMARY:Saunagus
DESCRIPTION:
URL:https://haraldslund.com/event/saunagus-kl-19-00/2027-04-20/
LOCATION:Haraldslund Vand- og kulturhus\, Kastetvej 83\, Aalborg\, 9000\, Denmark
CATEGORIES:Wellness
ORGANIZER;CN="Haraldslund":MAILTO:haraldslund@aalborg.dk
END:VEVENT
BEGIN:VEVENT
DTSTART;TZID=Europe/Copenhagen:20270420T184500
DTEND;TZID=Europe/Copenhagen:20270420T193000
DTSTAMP:20260422T182314
CREATED:20250929T114607Z
LAST-MODIFIED:20250929T114607Z
UID:10022597-1808246700-1808249400@haraldslund.com
SUMMARY:Aqua Yoga
DESCRIPTION:
URL:https://haraldslund.com/event/aqua-yoga/2027-04-20/
LOCATION:Haraldslund Vand- og kulturhus\, Kastetvej 83\, Aalborg\, 9000\, Denmark
CATEGORIES:Svømmehal
ORGANIZER;CN="Haraldslund":MAILTO:haraldslund@aalborg.dk
END:VEVENT
BEGIN:VEVENT
DTSTART;TZID=Europe/Copenhagen:20270420T181000
DTEND;TZID=Europe/Copenhagen:20270420T190000
DTSTAMP:20260422T182314
CREATED:20250929T110435Z
LAST-MODIFIED:20260323T063531Z
UID:10017874-1808244600-1808247600@haraldslund.com
SUMMARY:Jumping Fitness
DESCRIPTION:
URL:https://haraldslund.com/event/jumping-fitness-kl-17-00/2027-04-20/
LOCATION:Haraldslund Vand- og kulturhus\, Kastetvej 83\, Aalborg\, 9000\, Denmark
CATEGORIES:Motionscenter
ORGANIZER;CN="Haraldslund":MAILTO:haraldslund@aalborg.dk
END:VEVENT
BEGIN:VEVENT
DTSTART;TZID=Europe/Copenhagen:20270420T180000
DTEND;TZID=Europe/Copenhagen:20270420T191000
DTSTAMP:20260422T182314
CREATED:20250929T112046Z
LAST-MODIFIED:20260331T064621Z
UID:10019307-1808244000-1808248200@haraldslund.com
SUMMARY:Bodybike 2
DESCRIPTION:
URL:https://haraldslund.com/event/bodybike-2/2027-04-20/
LOCATION:Haraldslund Vand- og kulturhus\, Kastetvej 83\, Aalborg\, 9000\, Denmark
CATEGORIES:Motionscenter
ORGANIZER;CN="Haraldslund":MAILTO:haraldslund@aalborg.dk
END:VEVENT
BEGIN:VEVENT
DTSTART;TZID=Europe/Copenhagen:20270420T174500
DTEND;TZID=Europe/Copenhagen:20270420T183000
DTSTAMP:20260422T182314
CREATED:20250929T114343Z
LAST-MODIFIED:20251001T083929Z
UID:10022231-1808243100-1808245800@haraldslund.com
SUMMARY:Aqua puls og power
DESCRIPTION:
URL:https://haraldslund.com/event/aqua-puls-og-power/2027-04-20/
LOCATION:Haraldslund Vand- og kulturhus\, Kastetvej 83\, Aalborg\, 9000\, Denmark
CATEGORIES:Svømmehal
ORGANIZER;CN="Haraldslund":MAILTO:haraldslund@aalborg.dk
END:VEVENT
BEGIN:VEVENT
DTSTART;TZID=Europe/Copenhagen:20270420T164500
DTEND;TZID=Europe/Copenhagen:20270420T180000
DTSTAMP:20260422T182314
CREATED:20250929T114139Z
LAST-MODIFIED:20251208T064032Z
UID:10021865-1808239500-1808244000@haraldslund.com
SUMMARY:Yoga
DESCRIPTION:
URL:https://haraldslund.com/event/yoga-2/2027-04-20/
LOCATION:Haraldslund Vand- og kulturhus\, Kastetvej 83\, Aalborg\, 9000\, Denmark
CATEGORIES:Motionscenter
ORGANIZER;CN="Haraldslund":MAILTO:haraldslund@aalborg.dk
END:VEVENT
BEGIN:VEVENT
DTSTART;TZID=Europe/Copenhagen:20270420T163000
DTEND;TZID=Europe/Copenhagen:20270420T172000
DTSTAMP:20260422T182314
CREATED:20250929T113803Z
LAST-MODIFIED:20251001T084057Z
UID:10021499-1808238600-1808241600@haraldslund.com
SUMMARY:Switching
DESCRIPTION:
URL:https://haraldslund.com/event/switching/2027-04-20/
LOCATION:Haraldslund Vand- og kulturhus\, Kastetvej 83\, Aalborg\, 9000\, Denmark
CATEGORIES:Motionscenter
ORGANIZER;CN="Haraldslund":MAILTO:haraldslund@aalborg.dk
END:VEVENT
BEGIN:VEVENT
DTSTART;TZID=Europe/Copenhagen:20270420T163000
DTEND;TZID=Europe/Copenhagen:20270420T164500
DTSTAMP:20260422T182314
CREATED:20250929T084722Z
LAST-MODIFIED:20260330T110511Z
UID:10009104-1808238600-1808239500@haraldslund.com
SUMMARY:Saunagus
DESCRIPTION:
URL:https://haraldslund.com/event/saunagus-kl-16-30/2027-04-20/
LOCATION:Haraldslund Vand- og kulturhus\, Kastetvej 83\, Aalborg\, 9000\, Denmark
CATEGORIES:Wellness
ORGANIZER;CN="Haraldslund":MAILTO:haraldslund@aalborg.dk
END:VEVENT
BEGIN:VEVENT
DTSTART;TZID=Europe/Copenhagen:20270420T160000
DTEND;TZID=Europe/Copenhagen:20270420T164500
DTSTAMP:20260422T182314
CREATED:20260211T091301Z
LAST-MODIFIED:20260211T091442Z
UID:10048082-1808236800-1808239500@haraldslund.com
SUMMARY:Vandgymnastik specialhold
DESCRIPTION:
URL:https://haraldslund.com/event/vandgymnastik-specialhold-2/2027-04-20/
LOCATION:Haraldslund Vand- og kulturhus\, Kastetvej 83\, Aalborg\, 9000\, Denmark
CATEGORIES:Svømmehal
ORGANIZER;CN="Haraldslund":MAILTO:haraldslund@aalborg.dk
END:VEVENT
BEGIN:VEVENT
DTSTART;TZID=Europe/Copenhagen:20270420T140000
DTEND;TZID=Europe/Copenhagen:20270420T141500
DTSTAMP:20260422T182314
CREATED:20250929T084523Z
LAST-MODIFIED:20260330T105546Z
UID:10007362-1808229600-1808230500@haraldslund.com
SUMMARY:Saunagus
DESCRIPTION:
URL:https://haraldslund.com/event/saunagus-kl-14-00/2027-04-20/
LOCATION:Haraldslund Vand- og kulturhus\, Kastetvej 83\, Aalborg\, 9000\, Denmark
CATEGORIES:Wellness
ORGANIZER;CN="Haraldslund":MAILTO:haraldslund@aalborg.dk
END:VEVENT
BEGIN:VEVENT
DTSTART;TZID=Europe/Copenhagen:20270420T123000
DTEND;TZID=Europe/Copenhagen:20270420T131500
DTSTAMP:20260422T182314
CREATED:20250930T104806Z
LAST-MODIFIED:20251208T063003Z
UID:10034087-1808224200-1808226900@haraldslund.com
SUMMARY:Vandgymnastik specialhold (SIB)
DESCRIPTION:
URL:https://haraldslund.com/event/vandgymnastik-specialhold-sib/2027-04-20/
LOCATION:Haraldslund Vand- og kulturhus\, Kastetvej 83\, Aalborg\, 9000\, Denmark
CATEGORIES:Svømmehal
ORGANIZER;CN="Haraldslund":MAILTO:haraldslund@aalborg.dk
END:VEVENT
BEGIN:VEVENT
DTSTART;TZID=Europe/Copenhagen:20270420T120000
DTEND;TZID=Europe/Copenhagen:20270420T133000
DTSTAMP:20260422T182314
CREATED:20251104T112822Z
LAST-MODIFIED:20260330T104143Z
UID:10044709-1808222400-1808227800@haraldslund.com
SUMMARY:Skolesvømning
DESCRIPTION:
URL:https://haraldslund.com/event/skolesvoemning-3/2027-04-20/
LOCATION:Haraldslund Vand- og kulturhus\, Kastetvej 83\, Aalborg\, 9000\, Denmark
CATEGORIES:Svømmehal
ORGANIZER;CN="Haraldslund":MAILTO:haraldslund@aalborg.dk
END:VEVENT
BEGIN:VEVENT
DTSTART;TZID=Europe/Copenhagen:20270420T101500
DTEND;TZID=Europe/Copenhagen:20270420T110000
DTSTAMP:20260422T182314
CREATED:20251104T112402Z
LAST-MODIFIED:20260330T113932Z
UID:10042714-1808216100-1808218800@haraldslund.com
SUMMARY:Skolesvømning
DESCRIPTION:
URL:https://haraldslund.com/event/skolesvoemning/2027-04-20/
LOCATION:Haraldslund Vand- og kulturhus\, Kastetvej 83\, Aalborg\, 9000\, Denmark
CATEGORIES:Svømmehal
ORGANIZER;CN="Haraldslund":MAILTO:haraldslund@aalborg.dk
END:VEVENT
END:VCALENDAR