BEGIN:VCALENDAR
VERSION:2.0
PRODID:-//Haraldslund - ECPv6.15.16.1//NONSGML v1.0//EN
CALSCALE:GREGORIAN
METHOD:PUBLISH
X-WR-CALNAME:Haraldslund
X-ORIGINAL-URL:https://haraldslund.com
X-WR-CALDESC:Begivenheder for Haraldslund
REFRESH-INTERVAL;VALUE=DURATION:PT1H
X-Robots-Tag:noindex
X-PUBLISHED-TTL:PT1H
BEGIN:VTIMEZONE
TZID:Europe/Copenhagen
BEGIN:DAYLIGHT
TZOFFSETFROM:+0100
TZOFFSETTO:+0200
TZNAME:CEST
DTSTART:20260329T010000
END:DAYLIGHT
BEGIN:STANDARD
TZOFFSETFROM:+0200
TZOFFSETTO:+0100
TZNAME:CET
DTSTART:20261025T010000
END:STANDARD
BEGIN:DAYLIGHT
TZOFFSETFROM:+0100
TZOFFSETTO:+0200
TZNAME:CEST
DTSTART:20270328T010000
END:DAYLIGHT
BEGIN:STANDARD
TZOFFSETFROM:+0200
TZOFFSETTO:+0100
TZNAME:CET
DTSTART:20271031T010000
END:STANDARD
BEGIN:DAYLIGHT
TZOFFSETFROM:+0100
TZOFFSETTO:+0200
TZNAME:CEST
DTSTART:20280326T010000
END:DAYLIGHT
BEGIN:STANDARD
TZOFFSETFROM:+0200
TZOFFSETTO:+0100
TZNAME:CET
DTSTART:20281029T010000
END:STANDARD
END:VTIMEZONE
BEGIN:VEVENT
DTSTART;TZID=Europe/Copenhagen:20270313T140000
DTEND;TZID=Europe/Copenhagen:20270313T141500
DTSTAMP:20260420T045518
CREATED:20250929T084523Z
LAST-MODIFIED:20260330T105546Z
UID:10048365-1804946400-1804947300@haraldslund.com
SUMMARY:Saunagus
DESCRIPTION:
URL:https://haraldslund.com/event/saunagus-kl-14-00/2027-03-13/
LOCATION:Haraldslund Vand- og kulturhus\, Kastetvej 83\, Aalborg\, 9000\, Denmark
CATEGORIES:Wellness
ORGANIZER;CN="Haraldslund":MAILTO:haraldslund@aalborg.dk
END:VEVENT
BEGIN:VEVENT
DTSTART;TZID=Europe/Copenhagen:20270313T120000
DTEND;TZID=Europe/Copenhagen:20270313T121500
DTSTAMP:20260420T045518
CREATED:20260223T065538Z
LAST-MODIFIED:20260330T105402Z
UID:10050256-1804939200-1804940100@haraldslund.com
SUMMARY:Saunagus
DESCRIPTION:
URL:https://haraldslund.com/event/saunagus/2027-03-13/
LOCATION:Haraldslund Vand- og kulturhus\, Kastetvej 83\, Aalborg\, 9000\, Denmark
CATEGORIES:Svømmehal,Wellness
ORGANIZER;CN="Haraldslund":MAILTO:haraldslund@aalborg.dk
END:VEVENT
BEGIN:VEVENT
DTSTART;TZID=Europe/Copenhagen:20270313T102000
DTEND;TZID=Europe/Copenhagen:20270313T105000
DTSTAMP:20260420T045518
CREATED:20250930T095352Z
LAST-MODIFIED:20251120T120845Z
UID:10037264-1804933200-1804935000@haraldslund.com
SUMMARY:Ansigtsyoga
DESCRIPTION:
URL:https://haraldslund.com/event/ansigtsyoga/2027-03-13/
LOCATION:Haraldslund Vand- og kulturhus\, Kastetvej 83\, Aalborg\, 9000\, Denmark
CATEGORIES:Motionscenter
ORGANIZER;CN="Haraldslund":MAILTO:haraldslund@aalborg.dk
END:VEVENT
BEGIN:VEVENT
DTSTART;TZID=Europe/Copenhagen:20270313T101000
DTEND;TZID=Europe/Copenhagen:20270313T104000
DTSTAMP:20260420T045518
CREATED:20251205T083722Z
LAST-MODIFIED:20251205T083722Z
UID:10046747-1804932600-1804934400@haraldslund.com
SUMMARY:AB attack
DESCRIPTION:
URL:https://haraldslund.com/event/ab-attack/2027-03-13/
LOCATION:Haraldslund Vand- og kulturhus\, Kastetvej 83\, Aalborg\, 9000\, Denmark
CATEGORIES:Motionscenter
ORGANIZER;CN="Haraldslund":MAILTO:haraldslund@aalborg.dk
END:VEVENT
BEGIN:VEVENT
DTSTART;TZID=Europe/Copenhagen:20270313T100000
DTEND;TZID=Europe/Copenhagen:20270313T101500
DTSTAMP:20260420T045518
CREATED:20260223T065913Z
LAST-MODIFIED:20260330T105201Z
UID:10050821-1804932000-1804932900@haraldslund.com
SUMMARY:Saunagus
DESCRIPTION:
URL:https://haraldslund.com/event/saunagus-2/2027-03-13/
LOCATION:Haraldslund Vand- og kulturhus\, Kastetvej 83\, Aalborg\, 9000\, Denmark
CATEGORIES:Svømmehal,Wellness
ORGANIZER;CN="Haraldslund":MAILTO:haraldslund@aalborg.dk
END:VEVENT
BEGIN:VEVENT
DTSTART;TZID=Europe/Copenhagen:20270313T090000
DTEND;TZID=Europe/Copenhagen:20270313T101000
DTSTAMP:20260420T045518
CREATED:20250930T095156Z
LAST-MODIFIED:20251001T080029Z
UID:10028608-1804928400-1804932600@haraldslund.com
SUMMARY:Hatha yoga
DESCRIPTION:
URL:https://haraldslund.com/event/hatha-yoga/2027-03-13/
LOCATION:Haraldslund Vand- og kulturhus\, Kastetvej 83\, Aalborg\, 9000\, Denmark
CATEGORIES:Motionscenter
ORGANIZER;CN="Haraldslund":MAILTO:haraldslund@aalborg.dk
END:VEVENT
BEGIN:VEVENT
DTSTART;TZID=Europe/Copenhagen:20270313T090000
DTEND;TZID=Europe/Copenhagen:20270313T100000
DTSTAMP:20260420T045518
CREATED:20250930T095023Z
LAST-MODIFIED:20251001T080206Z
UID:10028243-1804928400-1804932000@haraldslund.com
SUMMARY:Stram op
DESCRIPTION:
URL:https://haraldslund.com/event/stram-op-2/2027-03-13/
LOCATION:Haraldslund Vand- og kulturhus\, Kastetvej 83\, Aalborg\, 9000\, Denmark
CATEGORIES:Motionscenter
ORGANIZER;CN="Haraldslund":MAILTO:haraldslund@aalborg.dk
END:VEVENT
BEGIN:VEVENT
DTSTART;TZID=Europe/Copenhagen:20270312T160000
DTEND;TZID=Europe/Copenhagen:20270312T171500
DTSTAMP:20260420T045518
CREATED:20250930T094756Z
LAST-MODIFIED:20260330T113406Z
UID:10027861-1804867200-1804871700@haraldslund.com
SUMMARY:Yin yoga
DESCRIPTION:
URL:https://haraldslund.com/event/yin-yoga/2027-03-12/
LOCATION:Haraldslund Vand- og kulturhus\, Kastetvej 83\, Aalborg\, 9000\, Denmark
CATEGORIES:Motionscenter
ORGANIZER;CN="Haraldslund":MAILTO:haraldslund@aalborg.dk
END:VEVENT
BEGIN:VEVENT
DTSTART;TZID=Europe/Copenhagen:20270312T154500
DTEND;TZID=Europe/Copenhagen:20270312T170000
DTSTAMP:20260420T045518
CREATED:20250929T092105Z
LAST-MODIFIED:20260413T074248Z
UID:10012512-1804866300-1804870800@haraldslund.com
SUMMARY:Temagus
DESCRIPTION:
URL:https://haraldslund.com/event/temagus-15-45/2027-03-12/
LOCATION:Haraldslund Vand- og kulturhus\, Kastetvej 83\, Aalborg\, 9000\, Denmark
CATEGORIES:Wellness
ORGANIZER;CN="Haraldslund":MAILTO:haraldslund@aalborg.dk
END:VEVENT
BEGIN:VEVENT
DTSTART;TZID=Europe/Copenhagen:20270312T144500
DTEND;TZID=Europe/Copenhagen:20270312T153500
DTSTAMP:20260420T045518
CREATED:20250930T094656Z
LAST-MODIFIED:20260330T113337Z
UID:10027496-1804862700-1804865700@haraldslund.com
SUMMARY:Jumping fitness
DESCRIPTION:
URL:https://haraldslund.com/event/jumping-fitness-3/2027-03-12/
LOCATION:Haraldslund Vand- og kulturhus\, Kastetvej 83\, Aalborg\, 9000\, Denmark
CATEGORIES:Motionscenter
ORGANIZER;CN="Haraldslund":MAILTO:haraldslund@aalborg.dk
END:VEVENT
BEGIN:VEVENT
DTSTART;TZID=Europe/Copenhagen:20270312T113000
DTEND;TZID=Europe/Copenhagen:20270312T114500
DTSTAMP:20260420T045518
CREATED:20250929T090821Z
LAST-MODIFIED:20260330T113216Z
UID:10012146-1804851000-1804851900@haraldslund.com
SUMMARY:Saunagus
DESCRIPTION:
URL:https://haraldslund.com/event/saunagus-kl-11-30/2027-03-12/
LOCATION:Haraldslund Vand- og kulturhus\, Kastetvej 83\, Aalborg\, 9000\, Denmark
CATEGORIES:Wellness
ORGANIZER;CN="Haraldslund":MAILTO:haraldslund@aalborg.dk
END:VEVENT
BEGIN:VEVENT
DTSTART;TZID=Europe/Copenhagen:20270312T110000
DTEND;TZID=Europe/Copenhagen:20270312T111500
DTSTAMP:20260420T045518
CREATED:20250929T090221Z
LAST-MODIFIED:20260330T113145Z
UID:10037763-1804849200-1804850100@haraldslund.com
SUMMARY:Saunagus
DESCRIPTION:
URL:https://haraldslund.com/event/saunagus-kl-11-00/2027-03-12/
LOCATION:Haraldslund Vand- og kulturhus\, Kastetvej 83\, Aalborg\, 9000\, Denmark
CATEGORIES:Wellness
ORGANIZER;CN="Haraldslund":MAILTO:haraldslund@aalborg.dk
END:VEVENT
BEGIN:VEVENT
DTSTART;TZID=Europe/Copenhagen:20270312T100000
DTEND;TZID=Europe/Copenhagen:20270312T104500
DTSTAMP:20260420T045518
CREATED:20250930T094517Z
LAST-MODIFIED:20251001T080414Z
UID:10027131-1804845600-1804848300@haraldslund.com
SUMMARY:Vandgymnastik
DESCRIPTION:
URL:https://haraldslund.com/event/vandgymnastik-4/2027-03-12/
LOCATION:Haraldslund Vand- og kulturhus\, Kastetvej 83\, Aalborg\, 9000\, Denmark
CATEGORIES:Svømmehal
ORGANIZER;CN="Haraldslund":MAILTO:haraldslund@aalborg.dk
END:VEVENT
BEGIN:VEVENT
DTSTART;TZID=Europe/Copenhagen:20270312T091500
DTEND;TZID=Europe/Copenhagen:20270312T100000
DTSTAMP:20260420T045518
CREATED:20251104T113920Z
LAST-MODIFIED:20260330T104413Z
UID:10045221-1804842900-1804845600@haraldslund.com
SUMMARY:Skolesvømning
DESCRIPTION:
URL:https://haraldslund.com/event/skolesvoemning-6/2027-03-12/
LOCATION:Haraldslund Vand- og kulturhus\, Kastetvej 83\, Aalborg\, 9000\, Denmark
CATEGORIES:Svømmehal
ORGANIZER;CN="Haraldslund":MAILTO:haraldslund@aalborg.dk
END:VEVENT
BEGIN:VEVENT
DTSTART;TZID=Europe/Copenhagen:20270312T090000
DTEND;TZID=Europe/Copenhagen:20270312T110000
DTSTAMP:20260420T045518
CREATED:20250930T113821Z
LAST-MODIFIED:20260330T111407Z
UID:10035481-1804842000-1804849200@haraldslund.com
SUMMARY:Sundhed i bevægelse
DESCRIPTION:
URL:https://haraldslund.com/event/sib-traening/2027-03-12/
LOCATION:Haraldslund Vand- og kulturhus\, Kastetvej 83\, Aalborg\, 9000\, Denmark
CATEGORIES:Sundhed i Bevægelse
ORGANIZER;CN="Haraldslund":MAILTO:haraldslund@aalborg.dk
END:VEVENT
BEGIN:VEVENT
DTSTART;TZID=Europe/Copenhagen:20270312T090000
DTEND;TZID=Europe/Copenhagen:20270312T094500
DTSTAMP:20260420T045518
CREATED:20250930T094245Z
LAST-MODIFIED:20260330T113023Z
UID:10026767-1804842000-1804844700@haraldslund.com
SUMMARY:Vandgymnastik
DESCRIPTION:
URL:https://haraldslund.com/event/vandgymnastik-3/2027-03-12/
LOCATION:Haraldslund Vand- og kulturhus\, Kastetvej 83\, Aalborg\, 9000\, Denmark
CATEGORIES:Svømmehal
ORGANIZER;CN="Haraldslund":MAILTO:haraldslund@aalborg.dk
END:VEVENT
BEGIN:VEVENT
DTSTART;TZID=Europe/Copenhagen:20270312T084500
DTEND;TZID=Europe/Copenhagen:20270312T093500
DTSTAMP:20260420T045518
CREATED:20251010T100437Z
LAST-MODIFIED:20251205T082856Z
UID:10026402-1804841100-1804844100@haraldslund.com
SUMMARY:Switching
DESCRIPTION:
URL:https://haraldslund.com/event/switching-2-2/2027-03-12/
LOCATION:Haraldslund Vand- og kulturhus\, Kastetvej 83\, Aalborg\, 9000\, Denmark
CATEGORIES:Motionscenter
ORGANIZER;CN="Haraldslund":MAILTO:haraldslund@aalborg.dk
END:VEVENT
BEGIN:VEVENT
DTSTART;TZID=Europe/Copenhagen:20270312T073000
DTEND;TZID=Europe/Copenhagen:20270312T074500
DTSTAMP:20260420T045518
CREATED:20251003T074251Z
LAST-MODIFIED:20260330T112921Z
UID:10038813-1804836600-1804837500@haraldslund.com
SUMMARY:Saunagus
DESCRIPTION:
URL:https://haraldslund.com/event/saunagus-7-30-2-4/2027-03-12/
CATEGORIES:Wellness
END:VEVENT
BEGIN:VEVENT
DTSTART;TZID=Europe/Copenhagen:20270311T190000
DTEND;TZID=Europe/Copenhagen:20270311T191500
DTSTAMP:20260420T045518
CREATED:20250929T090017Z
LAST-MODIFIED:20260330T110649Z
UID:10011120-1804791600-1804792500@haraldslund.com
SUMMARY:Saunagus
DESCRIPTION:
URL:https://haraldslund.com/event/saunagus-kl-19-00/2027-03-11/
LOCATION:Haraldslund Vand- og kulturhus\, Kastetvej 83\, Aalborg\, 9000\, Denmark
CATEGORIES:Wellness
ORGANIZER;CN="Haraldslund":MAILTO:haraldslund@aalborg.dk
END:VEVENT
BEGIN:VEVENT
DTSTART;TZID=Europe/Copenhagen:20270311T180000
DTEND;TZID=Europe/Copenhagen:20270311T190000
DTSTAMP:20260420T045518
CREATED:20250929T112622Z
LAST-MODIFIED:20260331T064727Z
UID:10020030-1804788000-1804791600@haraldslund.com
SUMMARY:Bodybike 1
DESCRIPTION:
URL:https://haraldslund.com/event/bodybike-1-3/2027-03-11/
LOCATION:Haraldslund Vand- og kulturhus\, Kastetvej 83\, Aalborg\, 9000\, Denmark
CATEGORIES:Motionscenter
ORGANIZER;CN="Haraldslund":MAILTO:haraldslund@aalborg.dk
END:VEVENT
BEGIN:VEVENT
DTSTART;TZID=Europe/Copenhagen:20270311T170000
DTEND;TZID=Europe/Copenhagen:20270311T180000
DTSTAMP:20260420T045518
CREATED:20260129T075100Z
LAST-MODIFIED:20260331T064503Z
UID:10047790-1804784400-1804788000@haraldslund.com
SUMMARY:Crosstræning
DESCRIPTION:
URL:https://haraldslund.com/event/crosstraening/2027-03-11/
LOCATION:Haraldslund Vand- og kulturhus\, Kastetvej 83\, Aalborg\, 9000\, Denmark
CATEGORIES:Motionscenter
ORGANIZER;CN="Haraldslund":MAILTO:haraldslund@aalborg.dk
END:VEVENT
BEGIN:VEVENT
DTSTART;TZID=Europe/Copenhagen:20270311T170000
DTEND;TZID=Europe/Copenhagen:20270311T175000
DTSTAMP:20260420T045518
CREATED:20250929T111112Z
LAST-MODIFIED:20260330T115132Z
UID:10018309-1804784400-1804787400@haraldslund.com
SUMMARY:Jumping fitness
DESCRIPTION:
URL:https://haraldslund.com/event/jumping-fitness-2/2027-03-11/
LOCATION:Haraldslund Vand- og kulturhus\, Kastetvej 83\, Aalborg\, 9000\, Denmark
CATEGORIES:Motionscenter
ORGANIZER;CN="Haraldslund":MAILTO:haraldslund@aalborg.dk
END:VEVENT
BEGIN:VEVENT
DTSTART;TZID=Europe/Copenhagen:20270311T170000
DTEND;TZID=Europe/Copenhagen:20270311T174500
DTSTAMP:20260420T045518
CREATED:20250930T092819Z
LAST-MODIFIED:20260331T064413Z
UID:10026037-1804784400-1804787100@haraldslund.com
SUMMARY:Vandgymnastik
DESCRIPTION:
URL:https://haraldslund.com/event/vandgymnastik-2/2027-03-11/
LOCATION:Haraldslund Vand- og kulturhus\, Kastetvej 83\, Aalborg\, 9000\, Denmark
CATEGORIES:Svømmehal
ORGANIZER;CN="Haraldslund":MAILTO:haraldslund@aalborg.dk
END:VEVENT
BEGIN:VEVENT
DTSTART;TZID=Europe/Copenhagen:20270311T163000
DTEND;TZID=Europe/Copenhagen:20270311T164500
DTSTAMP:20260420T045518
CREATED:20250929T084722Z
LAST-MODIFIED:20260330T110511Z
UID:10009082-1804782600-1804783500@haraldslund.com
SUMMARY:Saunagus
DESCRIPTION:
URL:https://haraldslund.com/event/saunagus-kl-16-30/2027-03-11/
LOCATION:Haraldslund Vand- og kulturhus\, Kastetvej 83\, Aalborg\, 9000\, Denmark
CATEGORIES:Wellness
ORGANIZER;CN="Haraldslund":MAILTO:haraldslund@aalborg.dk
END:VEVENT
BEGIN:VEVENT
DTSTART;TZID=Europe/Copenhagen:20270311T160000
DTEND;TZID=Europe/Copenhagen:20270311T165000
DTSTAMP:20260420T045518
CREATED:20250930T092628Z
LAST-MODIFIED:20251001T083306Z
UID:10024942-1804780800-1804783800@haraldslund.com
SUMMARY:Styrke\, core og stabilitet
DESCRIPTION:
URL:https://haraldslund.com/event/styrke-core-og-stabilitet/2027-03-11/
LOCATION:Haraldslund Vand- og kulturhus\, Kastetvej 83\, Aalborg\, 9000\, Denmark
CATEGORIES:Motionscenter
ORGANIZER;CN="Haraldslund":MAILTO:haraldslund@aalborg.dk
END:VEVENT
BEGIN:VEVENT
DTSTART;TZID=Europe/Copenhagen:20270311T140000
DTEND;TZID=Europe/Copenhagen:20270311T141500
DTSTAMP:20260420T045518
CREATED:20250929T084523Z
LAST-MODIFIED:20260330T105546Z
UID:10007334-1804773600-1804774500@haraldslund.com
SUMMARY:Saunagus
DESCRIPTION:
URL:https://haraldslund.com/event/saunagus-kl-14-00/2027-03-11/
LOCATION:Haraldslund Vand- og kulturhus\, Kastetvej 83\, Aalborg\, 9000\, Denmark
CATEGORIES:Wellness
ORGANIZER;CN="Haraldslund":MAILTO:haraldslund@aalborg.dk
END:VEVENT
BEGIN:VEVENT
DTSTART;TZID=Europe/Copenhagen:20270311T133000
DTEND;TZID=Europe/Copenhagen:20270311T150000
DTSTAMP:20260420T045518
CREATED:20251104T113413Z
LAST-MODIFIED:20260330T111926Z
UID:10044962-1804771800-1804777200@haraldslund.com
SUMMARY:Skolesvømning
DESCRIPTION:
URL:https://haraldslund.com/event/skolesvoemning-5/2027-03-11/
LOCATION:Haraldslund Vand- og kulturhus\, Kastetvej 83\, Aalborg\, 9000\, Denmark
CATEGORIES:Svømmehal
ORGANIZER;CN="Haraldslund":MAILTO:haraldslund@aalborg.dk
END:VEVENT
BEGIN:VEVENT
DTSTART;TZID=Europe/Copenhagen:20270311T130000
DTEND;TZID=Europe/Copenhagen:20270311T134500
DTSTAMP:20260420T045518
CREATED:20250930T104349Z
LAST-MODIFIED:20260330T112104Z
UID:10032770-1804770000-1804772700@haraldslund.com
SUMMARY:Vandgymnastik specialhold
DESCRIPTION:
URL:https://haraldslund.com/event/vandgymnastik-specialhold/2027-03-11/
LOCATION:Haraldslund Vand- og kulturhus\, Kastetvej 83\, Aalborg\, 9000\, Denmark
CATEGORIES:Svømmehal
ORGANIZER;CN="Haraldslund":MAILTO:haraldslund@aalborg.dk
END:VEVENT
BEGIN:VEVENT
DTSTART;TZID=Europe/Copenhagen:20270311T120000
DTEND;TZID=Europe/Copenhagen:20270311T124500
DTSTAMP:20260420T045518
CREATED:20250930T105139Z
LAST-MODIFIED:20260330T111634Z
UID:10034447-1804766400-1804769100@haraldslund.com
SUMMARY:Vandgymnastik specialhold
DESCRIPTION:
URL:https://haraldslund.com/event/vandgymnastik-specialhold-3/2027-03-11/
LOCATION:Haraldslund Vand- og kulturhus\, Kastetvej 83\, Aalborg\, 9000\, Denmark
CATEGORIES:Svømmehal
ORGANIZER;CN="Haraldslund":MAILTO:haraldslund@aalborg.dk
END:VEVENT
BEGIN:VEVENT
DTSTART;TZID=Europe/Copenhagen:20270311T103000
DTEND;TZID=Europe/Copenhagen:20270311T111500
DTSTAMP:20260420T045518
CREATED:20250929T100820Z
LAST-MODIFIED:20260330T113832Z
UID:10015218-1804761000-1804763700@haraldslund.com
SUMMARY:Vandgymnastik
DESCRIPTION:
URL:https://haraldslund.com/event/vandgymnastik-kl-10-30/2027-03-11/
LOCATION:Haraldslund Vand- og kulturhus\, Kastetvej 83\, Aalborg\, 9000\, Denmark
CATEGORIES:Svømmehal
ORGANIZER;CN="Haraldslund":MAILTO:haraldslund@aalborg.dk
END:VEVENT
END:VCALENDAR